Workbook

Sheet Hoja1
A1: ID | B1: DENOMINACION INTERNA | C1: RCA N° ORIGEN RUTA | D1: REGIÓN | E1: COMUNA | F1: Name | G1: INSTALACIÓN DE ORIGEN O LUGAR DE CARGA | H1: INSTALACIÓN DE DESTINO O LUGAR DE DESCARGA | I1: SUSTANCIA | J1: CANTIDAD_ | K1: CANTIDAD | L1: FRECUENCIA | M1: UNIDAD | N1: QUIEN_VALI | O1: Cantidad_t | P1: Tara__ton_ | Q1: Carga_úti | R1: PBV__ton_ | S1: Cantidad de viajes (ida/año) | T1: Distancia pavimentada | U1: Distancia no pavimentada | V1: Distancia total | W1: Codigo | X1: sL | Y1: Actividad | Z1: Tipo de camino | AA1: Tipo_Cam | AB1: Dis_mts | AC1: Dis_km | AD1: Numero | AE1: ¿Es un viaje de ida y vuelta? | AF1: NA ida y vuelta | AG1: P | AH1: Factor Lluvia | AI1: W | AJ1: k (P) MP2,5 | AK1: k (P) MP10 | AL1: k (NP) MP2,5 | AM1: k (NP) MP10 | AN1: Eficiencia de Abatimiento (Ea) | AO1: Factor de Emisión PM2,5 | AP1: Factor de Emisión PM10 | AQ1: Emisiones totales PM2,5 (ton/año) | AR1: Emisiones totales PM10 (ton/año)
A2: 1 | B2: ESCENARIO B | C2: ANGLO AMERICAN LICITACION | D2: V | E2: Catemu | F2: 1.Pavimentado-Chagres a Puerto Ventanas | G2: MINERA SUR ANDES - FUNDICION CHAGRES - CHAGRES | H2: PUERTO VENTANAS | I2: H2SO4 | J2: 11000 | K2: Ton/año | L2: 46227 | M2: - | N2: PATRICIO TORRES REVISADA | O2: 11000 | P2: 8.335 | Q2: 19.03 | R2: 27.364 | S2: 578.03468 | T2: 66.32 | U2: 0 | V2: 66.32 | W2: 1P-CPV-R05 | X2: 0.03 | Y2: Transporte H2SO4 | Z2: Pavimentado | AA2: Camión Combustible | AB2: 28094.326 | AC2: 28.094326 | AD2: 1 | AE2: Si | AF2: 32478.99 | AG2: 22 | AH2: 0.98493151 | AI2: 8 | AJ2: 0.15 | AK2: 0.62 | AL2: 0.15 | AM2: 1.5 | AO2: 0.056828892 | AP2: 0.23489275 | AQ2: 0.0018179324 | AR2: 0.0075141206 | AT2: Tipo de camino | AU2: Emisiones totales PM2,5 (ton/año) | AV2: Emisiones totales PM10 (ton/año)
A3: 1 | B3: ESCENARIO B | C3: ANGLO AMERICAN LICITACION | D3: V | E3: Catemu | F3: 1.Pavimentado-Chagres a Puerto Ventanas | G3: MINERA SUR ANDES - FUNDICION CHAGRES - CHAGRES | H3: PUERTO VENTANAS | I3: H2SO4 | J3: 11000 | K3: Ton/año | L3: 46227 | M3: - | N3: PATRICIO TORRES REVISADA | O3: 11000 | P3: 8.335 | Q3: 19.03 | R3: 27.364 | S3: 578.03468 | T3: 66.32 | U3: 0 | V3: 66.32 | W3: 1P-CPV-RI | X3: 0.03 | Y3: Transporte H2SO4 | Z3: Pavimentado | AA3: Camión Combustible | AB3: 1058.6761 | AC3: 1.058676 | AD3: 1 | AE3: Si | AF3: 1223.9029 | AG3: 22 | AH3: 0.98493151 | AI3: 8 | AJ3: 0.15 | AK3: 0.62 | AL3: 0.15 | AM3: 1.5 | AO3: 0.056828892 | AP3: 0.23489275 | AQ3: 6.8504986e-05 | AR3: 0.00028315394 | AT3: Pavimentado | AU3: 0.18658269 | AV3: 0.77120847
A4: 1 | B4: ESCENARIO B | C4: ANGLO AMERICAN LICITACION | D4: V | E4: Catemu | F4: 1.Pavimentado-Chagres a Puerto Ventanas | G4: MINERA SUR ANDES - FUNDICION CHAGRES - CHAGRES | H4: PUERTO VENTANAS | I4: H2SO4 | J4: 11000 | K4: Ton/año | L4: 46227 | M4: - | N4: PATRICIO TORRES REVISADA | O4: 11000 | P4: 8.335 | Q4: 19.03 | R4: 27.364 | S4: 578.03468 | T4: 66.32 | U4: 0 | V4: 66.32 | W4: 1P-CPV-F30E | X4: 0.03 | Y4: Transporte H2SO4 | Z4: Pavimentado | AA4: Camión Combustible | AB4: 4752.121 | AC4: 4.752121 | AD4: 1 | AE4: Si | AF4: 5493.7815 | AG4: 22 | AH4: 0.98493151 | AI4: 8 | AJ4: 0.15 | AK4: 0.62 | AL4: 0.15 | AM4: 1.5 | AO4: 0.056828892 | AP4: 0.23489275 | AQ4: 0.00030750105 | AR4: 0.0012710043 | AT4: No Pavimentado | AU4: 1.1722677 | AV4: 11.722677
A5: 1 | B5: ESCENARIO B | C5: ANGLO AMERICAN LICITACION | D5: V | E5: Catemu | F5: 1.Pavimentado-Chagres a Puerto Ventanas | G5: MINERA SUR ANDES - FUNDICION CHAGRES - CHAGRES | H5: PUERTO VENTANAS | I5: H2SO4 | J5: 11000 | K5: Ton/año | L5: 46227 | M5: - | N5: PATRICIO TORRES REVISADA | O5: 11000 | P5: 8.335 | Q5: 19.03 | R5: 27.364 | S5: 578.03468 | T5: 66.32 | U5: 0 | V5: 66.32 | W5: 1P-CPV-F20 | X5: 0.03 | Y5: Transporte H2SO4 | Z5: Pavimentado | AA5: Camión Combustible | AB5: 26475.273 | AC5: 26.475273 | AD5: 1 | AE5: Si | AF5: 30607.252 | AG5: 22 | AH5: 0.98493151 | AI5: 8 | AJ5: 0.15 | AK5: 0.62 | AL5: 0.15 | AM5: 1.5 | AO5: 0.056828892 | AP5: 0.23489275 | AQ5: 0.0017131665 | AR5: 0.007081088 | AT5: 0 | AU5: 1.3588504 | AV5: 12.493885
A6: 1 | B6: ESCENARIO B | C6: ANGLO AMERICAN LICITACION | D6: V | E6: Catemu | F6: 1.Pavimentado-Chagres a Puerto Ventanas | G6: MINERA SUR ANDES - FUNDICION CHAGRES - CHAGRES | H6: PUERTO VENTANAS | I6: H2SO4 | J6: 11000 | K6: Ton/año | L6: 46227 | M6: - | N6: PATRICIO TORRES REVISADA | O6: 11000 | P6: 8.335 | Q6: 19.03 | R6: 27.364 | S6: 578.03468 | T6: 66.32 | U6: 0 | V6: 66.32 | W6: 1P-CPV-E60 | X6: 0.03 | Y6: Transporte H2SO4 | Z6: Pavimentado | AA6: Camión Combustible | AB6: 5470.8773 | AC6: 5.470877 | AD6: 1 | AE6: Si | AF6: 6324.7133 | AG6: 22 | AH6: 0.98493151 | AI6: 8 | AJ6: 0.15 | AK6: 0.62 | AL6: 0.15 | AM6: 1.5 | AO6: 0.056828892 | AP6: 0.23489275 | AQ6: 0.00035401044 | AR6: 0.0014632431
A7: 1 | B7: ESCENARIO B | C7: ANGLO AMERICAN LICITACION | D7: V | E7: Catemu | F7: 1.Pavimentado-Chagres a Puerto Ventanas | G7: MINERA SUR ANDES - FUNDICION CHAGRES - CHAGRES | H7: PUERTO VENTANAS | I7: H2SO4 | J7: 11000 | K7: Ton/año | L7: 46227 | M7: - | N7: PATRICIO TORRES REVISADA | O7: 11000 | P7: 8.335 | Q7: 19.03 | R7: 27.364 | S7: 578.03468 | T7: 66.32 | U7: 0 | V7: 66.32 | W7: 1P-CPV-E65 | X7: 0.03 | Y7: Transporte H2SO4 | Z7: Pavimentado | AA7: Camión Combustible | AB7: 505.8 | AC7: 0.5058 | AD7: 1 | AE7: Si | AF7: 584.73988 | AG7: 22 | AH7: 0.98493151 | AI7: 8 | AJ7: 0.15 | AK7: 0.62 | AL7: 0.15 | AM7: 1.5 | AO7: 0.056828892 | AP7: 0.23489275 | AQ7: 3.2729392e-05 | AR7: 0.00013528149
A8: 2 | B8: ESCENARIO B | C8: LOS PELAMBRES LICITACION | D8: V | E8: Catemu | F8: 2.Pavimentado-Chagres a Mina Los Pelambres | G8: MINERA SUR ANDES - FUNDICION CHAGRES - CHAGRES | H8: MLP - LOS PELAMBRES | I8: H2SO4 | J8: 80 | K8: Ton/semana | L8: El ritmo o frecuencia de viajes estará determinado por el programa de consumo que entregue la Minera. | M8: - | N8: PATRICIO TORRES REVISADA | O8: 4160 | P8: 8.335 | Q8: 19.03 | R8: 27.364 | S8: 218.60221 | T8: 288.495 | U8: 0 | V8: 288.495 | W8: 2P-CMLP-R05 | X8: 0.03 | Y8: Transporte H2SO4 | Z8: Pavimentado | AA8: Camión Combustible | AB8: 137273.59 | AC8: 137.27359 | AD8: 2 | AE8: Si | AF8: 60016.62 | AG8: 22 | AH8: 0.98493151 | AI8: 8 | AJ8: 0.15 | AK8: 0.62 | AL8: 0.15 | AM8: 1.5 | AO8: 0.056828892 | AP8: 0.23489275 | AQ8: 0.0033592843 | AR8: 0.013885042
A9: 2 | B9: ESCENARIO B | C9: LOS PELAMBRES LICITACION | D9: V | E9: Catemu | F9: 2.Pavimentado-Chagres a Mina Los Pelambres | G9: MINERA SUR ANDES - FUNDICION CHAGRES - CHAGRES | H9: MLP - LOS PELAMBRES | I9: H2SO4 | J9: 80 | K9: Ton/semana | L9: El ritmo o frecuencia de viajes estará determinado por el programa de consumo que entregue la Minera. | M9: - | N9: PATRICIO TORRES REVISADA | O9: 4160 | P9: 8.335 | Q9: 19.03 | R9: 27.364 | S9: 218.60221 | T9: 288.495 | U9: 0 | V9: 288.495 | W9: 2P-CMLP-E65 | X9: 0.03 | Y9: Transporte H2SO4 | Z9: Pavimentado | AA9: Camión Combustible | AB9: 505.8 | AC9: 0.5058 | AD9: 2 | AE9: Si | AF9: 221.13799 | AG9: 22 | AH9: 0.98493151 | AI9: 8 | AJ9: 0.15 | AK9: 0.62 | AL9: 0.15 | AM9: 1.5 | AO9: 0.056828892 | AP9: 0.23489275 | AQ9: 1.2377661e-05 | AR9: 5.1160999e-05
A10: 2 | B10: ESCENARIO B | C10: LOS PELAMBRES LICITACION | D10: V | E10: Catemu | F10: 2.Pavimentado-Chagres a Mina Los Pelambres | G10: MINERA SUR ANDES - FUNDICION CHAGRES - CHAGRES | H10: MLP - LOS PELAMBRES | I10: H2SO4 | J10: 80 | K10: Ton/semana | L10: El ritmo o frecuencia de viajes estará determinado por el programa de consumo que entregue la Minera. | M10: - | N10: PATRICIO TORRES REVISADA | O10: 4160 | P10: 8.335 | Q10: 19.03 | R10: 27.364 | S10: 218.60221 | T10: 288.495 | U10: 0 | V10: 288.495 | W10: 2P-CMLP-E60 | X10: 0.03 | Y10: Transporte H2SO4 | Z10: Pavimentado | AA10: Camión Combustible | AB10: 5470.8632 | AC10: 5.470863 | AD10: 2 | AE10: Si | AF10: 2391.8855 | AG10: 22 | AH10: 0.98493151 | AI10: 8 | AJ10: 0.15 | AK10: 0.62 | AL10: 0.15 | AM10: 1.5 | AO10: 0.056828892 | AP10: 0.23489275 | AQ10: 0.00013387997 | AR10: 0.00055337053
A11: 2 | B11: ESCENARIO B | C11: LOS PELAMBRES LICITACION | D11: V | E11: Catemu | F11: 2.Pavimentado-Chagres a Mina Los Pelambres | G11: MINERA SUR ANDES - FUNDICION CHAGRES - CHAGRES | H11: MLP - LOS PELAMBRES | I11: H2SO4 | J11: 80 | K11: Ton/semana | L11: El ritmo o frecuencia de viajes estará determinado por el programa de consumo que entregue la Minera. | M11: - | N11: PATRICIO TORRES REVISADA | O11: 4160 | P11: 8.335 | Q11: 19.03 | R11: 27.364 | S11: 218.60221 | T11: 288.495 | U11: 0 | V11: 288.495 | W11: 2P-CMLP-R47 | X11: 0.2 | Y11: Transporte H2SO4 | Z11: Pavimentado | AA11: Camión Combustible | AB11: 36296.073 | AC11: 36.296073 | AD11: 2 | AE11: Si | AF11: 15868.803 | AG11: 22 | AH11: 0.98493151 | AI11: 8 | AJ11: 0.15 | AK11: 0.62 | AL11: 0.15 | AM11: 1.5 | AO11: 0.31939355 | AP11: 1.32016 | AQ11: 0.0049920204 | AR11: 0.020633684
A12: 2 | B12: ESCENARIO B | C12: LOS PELAMBRES LICITACION | D12: V | E12: Catemu | F12: 2.Pavimentado-Chagres a Mina Los Pelambres | G12: MINERA SUR ANDES - FUNDICION CHAGRES - CHAGRES | H12: MLP - LOS PELAMBRES | I12: H2SO4 | J12: 80 | K12: Ton/semana | L12: El ritmo o frecuencia de viajes estará determinado por el programa de consumo que entregue la Minera. | M12: - | N12: PATRICIO TORRES REVISADA | O12: 4160 | P12: 8.335 | Q12: 19.03 | R12: 27.364 | S12: 218.60221 | T12: 288.495 | U12: 0 | V12: 288.495 | W12: 2P-CMLP-D81 | X12: 0.2 | Y12: Transporte H2SO4 | Z12: Pavimentado | AA12: Camión Combustible | AB12: 20065.425 | AC12: 20.065425 | AD12: 2 | AE12: Si | AF12: 8772.6924 | AG12: 22 | AH12: 0.98493151 | AI12: 8 | AJ12: 0.15 | AK12: 0.62 | AL12: 0.15 | AM12: 1.5 | AO12: 0.31939355 | AP12: 1.32016 | AQ12: 0.0027597204 | AR12: 0.011406844
A13: 2 | B13: ESCENARIO B | C13: LOS PELAMBRES LICITACION | D13: V | E13: Catemu | F13: 2.Pavimentado-Chagres a Mina Los Pelambres | G13: MINERA SUR ANDES - FUNDICION CHAGRES - CHAGRES | H13: MLP - LOS PELAMBRES | I13: H2SO4 | J13: 80 | K13: Ton/semana | L13: El ritmo o frecuencia de viajes estará determinado por el programa de consumo que entregue la Minera. | M13: - | N13: PATRICIO TORRES REVISADA | O13: 4160 | P13: 8.335 | Q13: 19.03 | R13: 27.364 | S13: 218.60221 | T13: 288.495 | U13: 0 | V13: 288.495 | W13: 2P-CMLP-D37E | X13: 0.2 | Y13: Transporte H2SO4 | Z13: Pavimentado | AA13: Camión Combustible | AB13: 12478.546 | AC13: 12.478546 | AD13: 2 | AE13: Si | AF13: 5455.6754 | AG13: 22 | AH13: 0.98493151 | AI13: 8 | AJ13: 0.15 | AK13: 0.62 | AL13: 0.15 | AM13: 1.5 | AO13: 0.31939355 | AP13: 1.32016 | AQ13: 0.0017162506 | AR13: 0.0070938357
A14: 2 | B14: ESCENARIO B | C14: LOS PELAMBRES LICITACION | D14: V | E14: Catemu | F14: 2.Pavimentado-Chagres a Mina Los Pelambres | G14: MINERA SUR ANDES - FUNDICION CHAGRES - CHAGRES | H14: MLP - LOS PELAMBRES | I14: H2SO4 | J14: 80 | K14: Ton/semana | L14: El ritmo o frecuencia de viajes estará determinado por el programa de consumo que entregue la Minera. | M14: - | N14: PATRICIO TORRES REVISADA | O14: 4160 | P14: 8.335 | Q14: 19.03 | R14: 27.364 | S14: 218.60221 | T14: 288.495 | U14: 0 | V14: 288.495 | W14: 2P-CMLP-D867 | X14: 0.2 | Y14: Transporte H2SO4 | Z14: Pavimentado | AA14: Camión Combustible | AB14: 6244.8906 | AC14: 6.244891 | AD14: 2 | AE14: Si | AF14: 2730.2939 | AG14: 22 | AH14: 0.98493151 | AI14: 8 | AJ14: 0.15 | AK14: 0.62 | AL14: 0.15 | AM14: 1.5 | AO14: 0.31939355 | AP14: 1.32016 | AQ14: 0.00085889797 | AR14: 0.0035501116
A15: 2 | B15: ESCENARIO B | C15: LOS PELAMBRES LICITACION | D15: V | E15: Catemu | F15: 2.Pavimentado-Chagres a Mina Los Pelambres | G15: MINERA SUR ANDES - FUNDICION CHAGRES - CHAGRES | H15: MLP - LOS PELAMBRES | I15: H2SO4 | J15: 80 | K15: Ton/semana | L15: El ritmo o frecuencia de viajes estará determinado por el programa de consumo que entregue la Minera. | M15: - | N15: PATRICIO TORRES REVISADA | O15: 4160 | P15: 8.335 | Q15: 19.03 | R15: 27.364 | S15: 218.60221 | T15: 288.495 | U15: 0 | V15: 288.495 | W15: 2P-CMLP-D835 | X15: 0.2 | Y15: Transporte H2SO4 | Z15: Pavimentado | AA15: Camión Combustible | AB15: 60499.613 | AC15: 60.499613 | AD15: 2 | AE15: Si | AF15: 26450.698 | AG15: 22 | AH15: 0.98493151 | AI15: 8 | AJ15: 0.15 | AK15: 0.62 | AL15: 0.15 | AM15: 1.5 | AO15: 0.31939355 | AP15: 1.32016 | AQ15: 0.008320881 | AR15: 0.034392975
A16: 2 | B16: ESCENARIO B | C16: LOS PELAMBRES LICITACION | D16: V | E16: Catemu | F16: 2.Pavimentado-Chagres a Mina Los Pelambres | G16: MINERA SUR ANDES - FUNDICION CHAGRES - CHAGRES | H16: MLP - LOS PELAMBRES | I16: H2SO4 | J16: 80 | K16: Ton/semana | L16: El ritmo o frecuencia de viajes estará determinado por el programa de consumo que entregue la Minera. | M16: - | N16: PATRICIO TORRES REVISADA | O16: 4160 | P16: 8.335 | Q16: 19.03 | R16: 27.364 | S16: 218.60221 | T16: 288.495 | U16: 0 | V16: 288.495 | W16: 2P-CMLP-RI | X16: 0.2 | Y16: Transporte H2SO4 | Z16: Pavimentado | AA16: Camión Combustible | AB16: 7189.2399 | AC16: 7.18924 | AD16: 2 | AE16: Si | AF16: 3143.1675 | AG16: 22 | AH16: 0.98493151 | AI16: 8 | AJ16: 0.15 | AK16: 0.62 | AL16: 0.15 | AM16: 1.5 | AO16: 0.31939355 | AP16: 1.32016 | AQ16: 0.00098878005 | AR16: 0.0040869575
A17: 2 | B17: ESCENARIO B | C17: LOS PELAMBRES LICITACION | D17: V | E17: Catemu | F17: 2.Pavimentado-Chagres a Mina Los Pelambres | G17: MINERA SUR ANDES - FUNDICION CHAGRES - CHAGRES | H17: MLP - LOS PELAMBRES | I17: H2SO4 | J17: 80 | K17: Ton/semana | L17: El ritmo o frecuencia de viajes estará determinado por el programa de consumo que entregue la Minera. | M17: - | N17: PATRICIO TORRES REVISADA | O17: 4160 | P17: 8.335 | Q17: 19.03 | R17: 27.364 | S17: 218.60221 | T17: 288.495 | U17: 0 | V17: 288.495 | W17: 2NP-CMLP-RI | X17: 0.2 | Y17: Transporte H2SO4 | Z17: Pavimentado | AA17: Camión Combustible | AB17: 2333.9214 | AC17: 2.333921 | AD17: 2 | AE17: Si | AF17: 1020.4006 | AG17: 22 | AH17: 0.93972603 | AI17: 27.364 | AJ17: 0.15 | AK17: 0.62 | AL17: 0.15 | AM17: 1.5 | AO17: 36.878329 | AP17: 368.78329 | AQ17: 0.035362518 | AR17: 0.35362518
A18: 3 | B18: ESCENARIO B | C18: ANGLO AMERICAN LICITACION | D18: V | E18: Catemu | F18: 3.Pavimentado-Fundicion Chagres a Los Bronces | G18: MINERA SUR ANDES - FUNDICION CHAGRES - CHAGRES | H18: ANGLO AMERICAN LOS BRONCES | I18: H2SO4 | J18: 11000 | K18: Ton/año | L18: 46227 | M18: - | N18: PATRICIO TORRES REVISADA | O18: 11000 | P18: 8.335 | Q18: 19.03 | R18: 27.364 | S18: 578.03468 | T18: 122.116 | U18: 28.428 | V18: 150.544 | W18: 3P-CLB-R05 | X18: 0.03 | Y18: Transporte H2SO4 | Z18: Pavimentado | AA18: Camión Combustible | AB18: 77787.506 | AC18: 77.787506 | AD18: 3 | AE18: Si | AF18: 89927.753 | AG18: 22 | AH18: 0.98493151 | AI18: 8 | AJ18: 0.15 | AK18: 0.62 | AL18: 0.15 | AM18: 1.5 | AO18: 0.056828892 | AP18: 0.23489275 | AQ18: 0.0050334871 | AR18: 0.02080508
A19: 3 | B19: ESCENARIO B | C19: ANGLO AMERICAN LICITACION | D19: V | E19: Catemu | F19: 3.No pavimentado-Fundicion Chagres a Los Bronces | G19: MINERA SUR ANDES - FUNDICION CHAGRES - CHAGRES | H19: ANGLO AMERICAN LOS BRONCES | I19: H2SO4 | J19: 11000 | K19: Ton/año | L19: 46227 | M19: - | N19: PATRICIO TORRES REVISADA | O19: 11000 | P19: 8.335 | Q19: 19.03 | R19: 27.364 | S19: 578.03468 | T19: 122.116 | U19: 28.428 | V19: 150.544 | W19: 3NP-CLB-G245 | X19: 0 | Y19: Transporte H2SO4 | Z19: No Pavimentado | AA19: Camión Combustible | AB19: 28377.09 | AC19: 28.37709 | AD19: 3 | AE19: Si | AF19: 32805.884 | AG19: 22 | AH19: 0.93972603 | AI19: 27.364 | AJ19: 0.15 | AK19: 0.62 | AL19: 0.15 | AM19: 1.5 | AO19: 36.878329 | AP19: 368.78329 | AQ19: 1.1369052 | AR19: 11.369052
A20: 3 | B20: ESCENARIO B | C20: ANGLO AMERICAN LICITACION | D20: V | E20: Catemu | F20: 3.Pavimentado-Fundicion Chagres a Los Bronces | G20: MINERA SUR ANDES - FUNDICION CHAGRES - CHAGRES | H20: ANGLO AMERICAN LOS BRONCES | I20: H2SO4 | J20: 11000 | K20: Ton/año | L20: 46227 | M20: - | N20: PATRICIO TORRES REVISADA | O20: 11000 | P20: 8.335 | Q20: 19.03 | R20: 27.364 | S20: 578.03468 | T20: 122.116 | U20: 28.428 | V20: 150.544 | W20: 3P-CLB-E60 | X20: 0.03 | Y20: Transporte H2SO4 | Z20: Pavimentado | AA20: Camión Combustible | AB20: 5579.0694 | AC20: 5.579069 | AD20: 3 | AE20: Si | AF20: 6449.7908 | AG20: 22 | AH20: 0.98493151 | AI20: 8 | AJ20: 0.15 | AK20: 0.62 | AL20: 0.15 | AM20: 1.5 | AO20: 0.056828892 | AP20: 0.23489275 | AQ20: 0.00036101134 | AR20: 0.0014921802
A21: 3 | B21: ESCENARIO B | C21: ANGLO AMERICAN LICITACION | D21: V | E21: Catemu | F21: 3.Pavimentado-Fundicion Chagres a Los Bronces | G21: MINERA SUR ANDES - FUNDICION CHAGRES - CHAGRES | H21: ANGLO AMERICAN LOS BRONCES | I21: H2SO4 | J21: 11000 | K21: Ton/año | L21: 46227 | M21: - | N21: PATRICIO TORRES REVISADA | O21: 11000 | P21: 8.335 | Q21: 19.03 | R21: 27.364 | S21: 578.03468 | T21: 122.116 | U21: 28.428 | V21: 150.544 | W21: 3P-CLB-E65 | X21: 0.03 | Y21: Transporte H2SO4 | Z21: Pavimentado | AA21: Camión Combustible | AB21: 505.92508 | AC21: 0.505925 | AD21: 3 | AE21: Si | AF21: 584.88439 | AG21: 22 | AH21: 0.98493151 | AI21: 8 | AJ21: 0.15 | AK21: 0.62 | AL21: 0.15 | AM21: 1.5 | AO21: 0.056828892 | AP21: 0.23489275 | AQ21: 3.2737481e-05 | AR21: 0.00013531492
A22: 3 | B22: ESCENARIO B | C22: ANGLO AMERICAN LICITACION | D22: V | E22: Catemu | F22: 3.Pavimentado-Fundicion Chagres a Los Bronces | G22: MINERA SUR ANDES - FUNDICION CHAGRES - CHAGRES | H22: ANGLO AMERICAN LOS BRONCES | I22: H2SO4 | J22: 11000 | K22: Ton/año | L22: 46227 | M22: - | N22: PATRICIO TORRES REVISADA | O22: 11000 | P22: 8.335 | Q22: 19.03 | R22: 27.364 | S22: 578.03468 | T22: 122.116 | U22: 28.428 | V22: 150.544 | W22: 3P-CLB-R70 | X22: 0.2 | Y22: Transporte H2SO4 | Z22: Pavimentado | AA22: Camión Combustible | AB22: 10346.447 | AC22: 10.346447 | AD22: 3 | AE22: Si | AF22: 11961.21 | AG22: 22 | AH22: 0.98493151 | AI22: 8 | AJ22: 0.15 | AK22: 0.62 | AL22: 0.15 | AM22: 1.5 | AO22: 0.31939355 | AP22: 1.32016 | AQ22: 0.0037627668 | AR22: 0.01555277
A23: 3 | B23: ESCENARIO B | C23: ANGLO AMERICAN LICITACION | D23: V | E23: Catemu | F23: 3.Pavimentado-Fundicion Chagres a Los Bronces | G23: MINERA SUR ANDES - FUNDICION CHAGRES - CHAGRES | H23: ANGLO AMERICAN LOS BRONCES | I23: H2SO4 | J23: 11000 | K23: Ton/año | L23: 46227 | M23: - | N23: PATRICIO TORRES REVISADA | O23: 11000 | P23: 8.335 | Q23: 19.03 | R23: 27.364 | S23: 578.03468 | T23: 122.116 | U23: 28.428 | V23: 150.544 | W23: 3P-CLB-ACN | X23: 0.2 | Y23: Transporte H2SO4 | Z23: Pavimentado | AA23: Camión Combustible | AB23: 9945.2675 | AC23: 9.945267 | AD23: 3 | AE23: Si | AF23: 11497.418 | AG23: 22 | AH23: 0.98493151 | AI23: 8 | AJ23: 0.15 | AK23: 0.62 | AL23: 0.15 | AM23: 1.5 | AO23: 0.31939355 | AP23: 1.32016 | AQ23: 0.0036168668 | AR23: 0.014949716
A24: 3 | B24: ESCENARIO B | C24: ANGLO AMERICAN LICITACION | D24: V | E24: Catemu | F24: 3.Pavimentado-Fundicion Chagres a Los Bronces | G24: MINERA SUR ANDES - FUNDICION CHAGRES - CHAGRES | H24: ANGLO AMERICAN LOS BRONCES | I24: H2SO4 | J24: 11000 | K24: Ton/año | L24: 46227 | M24: - | N24: PATRICIO TORRES REVISADA | O24: 11000 | P24: 8.335 | Q24: 19.03 | R24: 27.364 | S24: 578.03468 | T24: 122.116 | U24: 28.428 | V24: 150.544 | W24: 3P-CLB-ALD | X24: 0.2 | Y24: Transporte H2SO4 | Z24: Pavimentado | AA24: Camión Combustible | AB24: 562.11287 | AC24: 0.562113 | AD24: 3 | AE24: Si | AF24: 649.84162 | AG24: 22 | AH24: 0.98493151 | AI24: 8 | AJ24: 0.15 | AK24: 0.62 | AL24: 0.15 | AM24: 1.5 | AO24: 0.31939355 | AP24: 1.32016 | AQ24: 0.00020442768 | AR24: 0.00084496774
A25: 3 | B25: ESCENARIO B | C25: ANGLO AMERICAN LICITACION | D25: V | E25: Catemu | F25: 3.Pavimentado-Fundicion Chagres a Los Bronces | G25: MINERA SUR ANDES - FUNDICION CHAGRES - CHAGRES | H25: ANGLO AMERICAN LOS BRONCES | I25: H2SO4 | J25: 11000 | K25: Ton/año | L25: 46227 | M25: - | N25: PATRICIO TORRES REVISADA | O25: 11000 | P25: 8.335 | Q25: 19.03 | R25: 27.364 | S25: 578.03468 | T25: 122.116 | U25: 28.428 | V25: 150.544 | W25: 3P-CLB-ALC | X25: 0.2 | Y25: Transporte H2SO4 | Z25: Pavimentado | AA25: Camión Combustible | AB25: 1207.6235 | AC25: 1.207624 | AD25: 3 | AE25: Si | AF25: 1396.0971 | AG25: 22 | AH25: 0.98493151 | AI25: 8 | AJ25: 0.15 | AK25: 0.62 | AL25: 0.15 | AM25: 1.5 | AO25: 0.31939355 | AP25: 1.32016 | AQ25: 0.00043918531 | AR25: 0.0018152993
A26: 3 | B26: ESCENARIO B | C26: ANGLO AMERICAN LICITACION | D26: V | E26: Catemu | F26: 3.Pavimentado-Fundicion Chagres a Los Bronces | G26: MINERA SUR ANDES - FUNDICION CHAGRES - CHAGRES | H26: ANGLO AMERICAN LOS BRONCES | I26: H2SO4 | J26: 11000 | K26: Ton/año | L26: 46227 | M26: - | N26: PATRICIO TORRES REVISADA | O26: 11000 | P26: 8.335 | Q26: 19.03 | R26: 27.364 | S26: 578.03468 | T26: 122.116 | U26: 28.428 | V26: 150.544 | W26: 3P-CLB-CAF | X26: 0.2 | Y26: Transporte H2SO4 | Z26: Pavimentado | AA26: Camión Combustible | AB26: 16126.861 | AC26: 16.126861 | AD26: 3 | AE26: Si | AF26: 18643.77 | AG26: 22 | AH26: 0.98493151 | AI26: 8 | AJ26: 0.15 | AK26: 0.62 | AL26: 0.15 | AM26: 1.5 | AO26: 0.31939355 | AP26: 1.32016 | AQ26: 0.0058649716 | AR26: 0.024241882
A27: 4 | B27: ESCENARIO B | C27: ANGLO AMERICAN LICITACION | D27: V | E27: Catemu | F27: 4.Pavimentado.Chagres a Codelco Andina | G27: MINERA SUR ANDES - FUNDICION CHAGRES - CHAGRES | H27: CODELCO ANDINA | I27: H2SO4 | J27: 11000 | K27: Ton/año | L27: 46227 | M27: - | N27: PATRICIO TORRES REVISADA | O27: 11000 | P27: 8.335 | Q27: 19.03 | R27: 27.364 | S27: 578.03468 | T27: 78.649 | U27: 0 | V27: 78.649 | W27: 4P-CCA-E65 | X27: 0.03 | Y27: Transporte H2SO4 | Z27: Pavimentado | AA27: Camión Combustible | AB27: 793.77038 | AC27: 0.79377 | AD27: 4 | AE27: Si | AF27: 917.65318 | AG27: 22 | AH27: 0.98493151 | AI27: 8 | AJ27: 0.15 | AK27: 0.62 | AL27: 0.15 | AM27: 1.5 | AO27: 0.056828892 | AP27: 0.23489275 | AQ27: 5.1363404e-05 | AR27: 0.00021230207
A28: 4 | B28: ESCENARIO B | C28: ANGLO AMERICAN LICITACION | D28: V | E28: Catemu | F28: 4.Pavimentado.Chagres a Codelco Andina | G28: MINERA SUR ANDES - FUNDICION CHAGRES - CHAGRES | H28: CODELCO ANDINA | I28: H2SO4 | J28: 11000 | K28: Ton/año | L28: 46227 | M28: - | N28: PATRICIO TORRES REVISADA | O28: 11000 | P28: 8.335 | Q28: 19.03 | R28: 27.364 | S28: 578.03468 | T28: 78.649 | U28: 0 | V28: 78.649 | W28: 4P-CCA-E60 | X28: 0.03 | Y28: Transporte H2SO4 | Z28: Pavimentado | AA28: Camión Combustible | AB28: 75588.422 | AC28: 75.588422 | AD28: 4 | AE28: Si | AF28: 87385.459 | AG28: 22 | AH28: 0.98493151 | AI28: 8 | AJ28: 0.15 | AK28: 0.62 | AL28: 0.15 | AM28: 1.5 | AO28: 0.056828892 | AP28: 0.23489275 | AQ28: 0.0048911884 | AR28: 0.020216912
A29: 4 | B29: ESCENARIO B | C29: ANGLO AMERICAN LICITACION | D29: V | E29: Catemu | F29: 4.Pavimentado.Chagres a Codelco Andina | G29: MINERA SUR ANDES - FUNDICION CHAGRES - CHAGRES | H29: CODELCO ANDINA | I29: H2SO4 | J29: 11000 | K29: Ton/año | L29: 46227 | M29: - | N29: PATRICIO TORRES REVISADA | O29: 11000 | P29: 8.335 | Q29: 19.03 | R29: 27.364 | S29: 578.03468 | T29: 78.649 | U29: 0 | V29: 78.649 | W29: 4P-CCA-E767 | X29: 0.2 | Y29: Transporte H2SO4 | Z29: Pavimentado | AA29: Camión Combustible | AB29: 2300.313 | AC29: 2.300313 | AD29: 4 | AE29: Si | AF29: 2659.3214 | AG29: 22 | AH29: 0.98493151 | AI29: 8 | AJ29: 0.15 | AK29: 0.62 | AL29: 0.15 | AM29: 1.5 | AO29: 0.31939355 | AP29: 1.32016 | AQ29: 0.00083657138 | AR29: 0.0034578284
A30: 5 | B30: ESCENARIO B | C30: MANTO VERDE LICITACION | D30: II | E30: Chañaral Zona de Carga Habitual | F30: 5.Pavimentado.Puerto Barquito a Mantoverde | G30: TERMINAL PUERTO BARQUITO | H30: MANTOVERDE | I30: H2SO4 | J30: 180000 | K30: Ton/año | L30: 46227 | M30: - | N30: CRISTIAN SCHWARTZ REVISADA | O30: 180000 | P30: 8.335 | Q30: 19.03 | R30: 27.364 | S30: 9458.7493 | T30: 58.308 | U30: 1.195 | V30: 59.503 | W30: 5P-PBMV-C13 | X30: 0.2 | Y30: Transporte H2SO4 | Z30: Pavimentado | AA30: Camión Combustible | AB30: 22216.69 | AC30: 22.21669 | AD30: 5 | AE30: Si | AF30: 420284.2 | AG30: 2 | AH30: 0.99863014 | AI30: 8 | AJ30: 0.15 | AK30: 0.62 | AL30: 0.15 | AM30: 1.5 | AO30: 0.31939355 | AP30: 1.32016 | AQ30: 0.13405218 | AR30: 0.55408234
A31: 5 | B31: ESCENARIO B | C31: MANTO VERDE LICITACION | D31: II | E31: Chañaral Zona de Carga Habitual | F31: 5.Pavimentado.Puerto Barquito a Mantoverde | G31: TERMINAL PUERTO BARQUITO | H31: MANTOVERDE | I31: H2SO4 | J31: 180000 | K31: Ton/año | L31: 46227 | M31: - | N31: CRISTIAN SCHWARTZ REVISADA | O31: 180000 | P31: 8.335 | Q31: 19.03 | R31: 27.364 | S31: 9458.7493 | T31: 58.308 | U31: 1.195 | V31: 59.503 | W31: 5P-PBMV-AB | X31: 0.2 | Y31: Transporte H2SO4 | Z31: Pavimentado | AA31: Camión Combustible | AB31: 1339.655 | AC31: 1.339655 | AD31: 5 | AE31: Si | AF31: 25342.922 | AG31: 2 | AH31: 0.99863014 | AI31: 8 | AM31: 1.5 | AO31: 0 | AP31: 0 | AQ31: 0 | AR31: 0
A32: 5 | B32: ESCENARIO B | C32: MANTO VERDE LICITACION | D32: II | E32: Chañaral Zona de Carga Habitual | F32: 5.Pavimentado.Puerto Barquito a Mantoverde | G32: TERMINAL PUERTO BARQUITO | H32: MANTOVERDE | I32: H2SO4 | J32: 180000 | K32: Ton/año | L32: 46227 | M32: - | N32: CRISTIAN SCHWARTZ REVISADA | O32: 180000 | P32: 8.335 | Q32: 19.03 | R32: 27.364 | S32: 9458.7493 | T32: 58.308 | U32: 1.195 | V32: 59.503 | W32: 5P-PBMV-R05 | X32: 0.03 | Y32: Transporte H2SO4 | Z32: Pavimentado | AA32: Camión Combustible | AB32: 604.15083 | AC32: 0.604151 | AD32: 5 | AE32: Si | AF32: 11429.026 | AG32: 2 | AH32: 0.99863014 | AI32: 8 | AM32: 1.5 | AO32: 0 | AP32: 0 | AQ32: 0 | AR32: 0
A33: 5 | B33: ESCENARIO B | C33: MANTO VERDE LICITACION | D33: II | E33: Chañaral Zona de Carga Habitual | F33: 5.Pavimentado.Puerto Barquito a Mantoverde | G33: TERMINAL PUERTO BARQUITO | H33: MANTOVERDE | I33: H2SO4 | J33: 180000 | K33: Ton/año | L33: 46227 | M33: - | N33: CRISTIAN SCHWARTZ REVISADA | O33: 180000 | P33: 8.335 | Q33: 19.03 | R33: 27.364 | S33: 9458.7493 | T33: 58.308 | U33: 1.195 | V33: 59.503 | W33: 5P-PBMV-R05 | X33: 0.03 | Y33: Transporte H2SO4 | Z33: Pavimentado | AA33: Camión Combustible | AB33: 15381.191 | AC33: 15.381191 | AD33: 5 | AE33: Si | AF33: 290973.66 | AG33: 2 | AH33: 0.99863014 | AI33: 8 | AM33: 1.5 | AO33: 0 | AP33: 0 | AQ33: 0 | AR33: 0
A34: 5 | B34: ESCENARIO B | C34: MANTO VERDE LICITACION | D34: II | E34: Chañaral Zona de Carga Habitual | F34: 5.Pavimentado.Puerto Barquito a Mantoverde | G34: TERMINAL PUERTO BARQUITO | H34: MANTOVERDE | I34: H2SO4 | J34: 180000 | K34: Ton/año | L34: 46227 | M34: - | N34: CRISTIAN SCHWARTZ REVISADA | O34: 180000 | P34: 8.335 | Q34: 19.03 | R34: 27.364 | S34: 9458.7493 | T34: 58.308 | U34: 1.195 | V34: 59.503 | W34: 5P-PBMV-C209 | X34: 0.2 | Y34: Transporte H2SO4 | Z34: Pavimentado | AA34: Camión Combustible | AB34: 16488.552 | AC34: 16.488552 | AD34: 5 | AE34: Si | AF34: 311922.16 | AG34: 2 | AH34: 0.99863014 | AI34: 8 | AM34: 1.5 | AO34: 0 | AP34: 0 | AQ34: 0 | AR34: 0
A35: 5 | B35: ESCENARIO B | C35: MANTO VERDE LICITACION | D35: II | E35: Chañaral Zona de Carga Habitual | F35: 5.Pavimentado.Puerto Barquito a Mantoverde | G35: TERMINAL PUERTO BARQUITO | H35: MANTOVERDE | I35: H2SO4 | J35: 180000 | K35: Ton/año | L35: 46227 | M35: - | N35: CRISTIAN SCHWARTZ REVISADA | O35: 180000 | P35: 8.335 | Q35: 19.03 | R35: 27.364 | S35: 9458.7493 | T35: 58.308 | U35: 1.195 | V35: 59.503 | W35: 5P-PBMV-C225 | X35: 0.2 | Y35: Transporte H2SO4 | Z35: Pavimentado | AA35: Camión Combustible | AB35: 2339.1237 | AC35: 2.339124 | AD35: 5 | AE35: Si | AF35: 44250.375 | AG35: 2 | AH35: 0.99863014 | AI35: 8 | AM35: 1.5 | AO35: 0 | AP35: 0 | AQ35: 0 | AR35: 0
A36: 5 | B36: ESCENARIO B | C36: MANTO VERDE LICITACION | D36: II | E36: Chañaral Zona de Carga Habitual | F36: 5.Pavimentado.Puerto Barquito a Mantoverde | G36: TERMINAL PUERTO BARQUITO | H36: MANTOVERDE | I36: H2SO4 | J36: 180000 | K36: Ton/año | L36: 46227 | M36: - | N36: CRISTIAN SCHWARTZ REVISADA | O36: 180000 | P36: 8.335 | Q36: 19.03 | R36: 27.364 | S36: 9458.7493 | T36: 58.308 | U36: 1.195 | V36: 59.503 | W36: 5P-PBMV-C227 | X36: 0.2 | Y36: Transporte H2SO4 | Z36: Pavimentado | AA36: Camión Combustible | AB36: 1248.4095 | AC36: 1.248409 | AD36: 5 | AE36: Si | AF36: 23616.776 | AG36: 2 | AH36: 0.99863014 | AI36: 8 | AM36: 1.5 | AO36: 0 | AP36: 0 | AQ36: 0 | AR36: 0
A37: 6 | B37: ESCENARIO B | C37: MANTO VERDE LICITACION | D37: II | E37: Paipote Zona de Contingencia | F37: 6.Pavimentado.Enami Paipote a Mantoverde | G37: ENAMI PAIPOTE | H37: MANTOVERDE | I37: H2SO4 | J37: 50000 (contingencia) | K37: Ton/año | L37: 46227 | M37: - | N37: CRISTIAN SCHWARTZ REVISADA | O37: 50000 | P37: 8.335 | Q37: 19.03 | R37: 27.364 | S37: 2627.4304 | T37: 184.831 | U37: 1.248 | V37: 186.079 | W37: 6P-EPMV-C17 | X37: 0.2 | Y37: Transporte H2SO4 | Z37: Pavimentado | AA37: Camión Combustible | AB37: 109079.42 | AC37: 109.07942 | AD37: 6 | AE37: Si | AF37: 573197.15 | AG37: 2 | AI37: 8 | AM37: 1.5 | AO37: 0 | AP37: 0 | AQ37: 0 | AR37: 0
A38: 6 | B38: ESCENARIO B | C38: MANTO VERDE LICITACION | D38: II | E38: Paipote Zona de Contingencia | F38: 6.Pavimentado.Enami Paipote a Mantoverde | G38: ENAMI PAIPOTE | H38: MANTOVERDE | I38: H2SO4 | J38: 50000 (contingencia) | K38: Ton/año | L38: 46227 | M38: - | N38: CRISTIAN SCHWARTZ REVISADA | O38: 50000 | P38: 8.335 | Q38: 19.03 | R38: 27.364 | S38: 2627.4304 | T38: 184.831 | U38: 1.248 | V38: 186.079 | W38: 6P-EPMV-JG | X38: 0.2 | Y38: Transporte H2SO4 | Z38: Pavimentado | AA38: Camión Combustible | AB38: 1448.5814 | AC38: 1.448581 | AD38: 6 | AE38: Si | AF38: 7612.0914 | AG38: 2 | AI38: 8 | AM38: 1.5 | AO38: 0 | AP38: 0 | AQ38: 0 | AR38: 0
A39: 6 | B39: ESCENARIO B | C39: MANTO VERDE LICITACION | D39: II | E39: Paipote Zona de Contingencia | F39: 6.Pavimentado.Enami Paipote a Mantoverde | G39: ENAMI PAIPOTE | H39: MANTOVERDE | I39: H2SO4 | J39: 50000 (contingencia) | K39: Ton/año | L39: 46227 | M39: - | N39: CRISTIAN SCHWARTZ REVISADA | O39: 50000 | P39: 8.335 | Q39: 19.03 | R39: 27.364 | S39: 2627.4304 | T39: 184.831 | U39: 1.248 | V39: 186.079 | W39: 6P-EPMV-C35 | X39: 0.2 | Y39: Transporte H2SO4 | Z39: Pavimentado | AA39: Camión Combustible | AB39: 627.3102 | AC39: 0.62731 | AD39: 6 | AE39: Si | AF39: 3296.4267 | AG39: 2 | AM39: 1.5 | AO39: 0 | AP39: 0 | AQ39: 0 | AR39: 0
A40: 6 | B40: ESCENARIO B | C40: MANTO VERDE LICITACION | D40: II | E40: Paipote Zona de Contingencia | F40: 6.Pavimentado.Enami Paipote a Mantoverde | G40: ENAMI PAIPOTE | H40: MANTOVERDE | I40: H2SO4 | J40: 50000 (contingencia) | K40: Ton/año | L40: 46227 | M40: - | N40: CRISTIAN SCHWARTZ REVISADA | O40: 50000 | P40: 8.335 | Q40: 19.03 | R40: 27.364 | S40: 2627.4304 | T40: 184.831 | U40: 1.248 | V40: 186.079 | W40: 6P-EPMV-CI | X40: 0.2 | Y40: Transporte H2SO4 | Z40: Pavimentado | AA40: Camión Combustible | AB40: 16269.211 | AC40: 16.269211 | AD40: 6 | AE40: Si | AF40: 85492.438 | AG40: 2 | AM40: 1.5 | AO40: 0 | AP40: 0 | AQ40: 0 | AR40: 0
A41: 6 | B41: ESCENARIO B | C41: MANTO VERDE LICITACION | D41: II | E41: Paipote Zona de Contingencia | F41: 6.Pavimentado.Enami Paipote a Mantoverde | G41: ENAMI PAIPOTE | H41: MANTOVERDE | I41: H2SO4 | J41: 50000 (contingencia) | K41: Ton/año | L41: 46227 | M41: - | N41: CRISTIAN SCHWARTZ REVISADA | O41: 50000 | P41: 8.335 | Q41: 19.03 | R41: 27.364 | S41: 2627.4304 | T41: 184.831 | U41: 1.248 | V41: 186.079 | W41: 6P-EPMV-C241 | X41: 0.2 | Y41: Transporte H2SO4 | Z41: Pavimentado | AA41: Camión Combustible | AB41: 5155.9732 | AC41: 5.155973 | AD41: 6 | AE41: Si | AF41: 27093.92 | AG41: 2 | AM41: 1.5 | AO41: 0 | AP41: 0 | AQ41: 0 | AR41: 0
A42: 6 | B42: ESCENARIO B | C42: MANTO VERDE LICITACION | D42: II | E42: Paipote Zona de Contingencia | F42: 6.Pavimentado.Enami Paipote a Mantoverde | G42: ENAMI PAIPOTE | H42: MANTOVERDE | I42: H2SO4 | J42: 50000 (contingencia) | K42: Ton/año | L42: 46227 | M42: - | N42: CRISTIAN SCHWARTZ REVISADA | O42: 50000 | P42: 8.335 | Q42: 19.03 | R42: 27.364 | S42: 2627.4304 | T42: 184.831 | U42: 1.248 | V42: 186.079 | W42: 6P-EPMV-C237 | X42: 0.2 | Y42: Transporte H2SO4 | Z42: Pavimentado | AA42: Camión Combustible | AB42: 12987.257 | AC42: 12.987257 | AD42: 6 | AE42: Si | AF42: 68246.227 | AG42: 2 | AM42: 1.5 | AO42: 0 | AP42: 0 | AQ42: 0 | AR42: 0
A43: 6 | B43: ESCENARIO B | C43: MANTO VERDE LICITACION | D43: II | E43: Paipote Zona de Contingencia | F43: 6.Pavimentado.Enami Paipote a Mantoverde | G43: ENAMI PAIPOTE | H43: MANTOVERDE | I43: H2SO4 | J43: 50000 (contingencia) | K43: Ton/año | L43: 46227 | M43: - | N43: CRISTIAN SCHWARTZ REVISADA | O43: 50000 | P43: 8.335 | Q43: 19.03 | R43: 27.364 | S43: 2627.4304 | T43: 184.831 | U43: 1.248 | V43: 186.079 | W43: 6P-EPMV-C13 | X43: 0.2 | Y43: Transporte H2SO4 | Z43: Pavimentado | AA43: Camión Combustible | AB43: 19659.801 | AC43: 19.659801 | AD43: 6 | AE43: Si | AF43: 103309.52 | AG43: 2 | AM43: 1.5 | AO43: 0 | AP43: 0 | AQ43: 0 | AR43: 0
A44: 6 | B44: ESCENARIO B | C44: MANTO VERDE LICITACION | D44: II | E44: Paipote Zona de Contingencia | F44: 6.Pavimentado.Enami Paipote a Mantoverde | G44: ENAMI PAIPOTE | H44: MANTOVERDE | I44: H2SO4 | J44: 50000 (contingencia) | K44: Ton/año | L44: 46227 | M44: - | N44: CRISTIAN SCHWARTZ REVISADA | O44: 50000 | P44: 8.335 | Q44: 19.03 | R44: 27.364 | S44: 2627.4304 | T44: 184.831 | U44: 1.248 | V44: 186.079 | W44: 6P-EPMV-C209 | X44: 0.2 | Y44: Transporte H2SO4 | Z44: Pavimentado | AA44: Camión Combustible | AB44: 16489.147 | AC44: 16.489147 | AD44: 6 | AE44: Si | AF44: 86648.171 | AG44: 2 | AM44: 1.5 | AO44: 0 | AP44: 0 | AQ44: 0 | AR44: 0
A45: 6 | B45: ESCENARIO B | C45: MANTO VERDE LICITACION | D45: II | E45: Paipote Zona de Contingencia | F45: 6.Pavimentado.Enami Paipote a Mantoverde | G45: ENAMI PAIPOTE | H45: MANTOVERDE | I45: H2SO4 | J45: 50000 (contingencia) | K45: Ton/año | L45: 46227 | M45: - | N45: CRISTIAN SCHWARTZ REVISADA | O45: 50000 | P45: 8.335 | Q45: 19.03 | R45: 27.364 | S45: 2627.4304 | T45: 184.831 | U45: 1.248 | V45: 186.079 | W45: 6P-EPMV-C225 | X45: 0.2 | Y45: Transporte H2SO4 | Z45: Pavimentado | AA45: Camión Combustible | AB45: 2339.2841 | AC45: 2.339284 | AD45: 6 | AE45: Si | AF45: 12292.612 | AG45: 2 | AM45: 1.5 | AO45: 0 | AP45: 0 | AQ45: 0 | AR45: 0
A46: 6 | B46: ESCENARIO B | C46: MANTO VERDE LICITACION | D46: II | E46: Paipote Zona de Contingencia | F46: 6.Pavimentado.Enami Paipote a Mantoverde | G46: ENAMI PAIPOTE | H46: MANTOVERDE | I46: H2SO4 | J46: 50000 (contingencia) | K46: Ton/año | L46: 46227 | M46: - | N46: CRISTIAN SCHWARTZ REVISADA | O46: 50000 | P46: 8.335 | Q46: 19.03 | R46: 27.364 | S46: 2627.4304 | T46: 184.831 | U46: 1.248 | V46: 186.079 | W46: 6P-EPMV-C227 | X46: 0.2 | Y46: Transporte H2SO4 | Z46: Pavimentado | AA46: Camión Combustible | AB46: 1700.384 | AC46: 1.700384 | AD46: 6 | AE46: Si | AF46: 8935.2811 | AG46: 2 | AM46: 1.5 | AO46: 0 | AP46: 0 | AQ46: 0 | AR46: 0
A47: 7 | B47: ESCENARIO B | C47: MANTO VERDE LICITACION | D47: II | E47: Mejillones Zona de Carga Habitual | F47: 7.Pavimentado-Puerto Mejillones a Mantoverde | G47: PUERTO MEJILLONES | H47: MANTOVERDE | I47: H2SO4 | J47: 230851 (50% del total) | K47: Ton/año | L47: 46227 | M47: - | N47: CRISTIAN SCHWARTZ REVISADA | O47: 230851 | P47: 8.335 | Q47: 19.03 | R47: 27.364 | S47: 12130.899 | T47: 532.467 | U47: 1.248 | V47: 533.715 | W47: 7P-PMMV-C227 | X47: 0.2 | Y47: Transporte H2SO4 | Z47: Pavimentado | AA47: Camión Combustible | AB47: 1700.3694 | AC47: 1.700369 | AD47: 7 | AE47: Si | AF47: 41254.008 | AG47: 2 | AM47: 1.5 | AO47: 0 | AP47: 0 | AQ47: 0 | AR47: 0
A48: 7 | B48: ESCENARIO B | C48: MANTO VERDE LICITACION | D48: II | E48: Mejillones Zona de Carga Habitual | F48: 7.Pavimentado-Puerto Mejillones a Mantoverde | G48: PUERTO MEJILLONES | H48: MANTOVERDE | I48: H2SO4 | J48: 230851 (50% del total) | K48: Ton/año | L48: 46227 | M48: - | N48: CRISTIAN SCHWARTZ REVISADA | O48: 230851 | P48: 8.335 | Q48: 19.03 | R48: 27.364 | S48: 12130.899 | T48: 532.467 | U48: 1.248 | V48: 533.715 | W48: 7P-PMMV-C225 | X48: 0.2 | Y48: Transporte H2SO4 | Z48: Pavimentado | AA48: Camión Combustible | AB48: 2339.2764 | AC48: 2.339276 | AD48: 7 | AE48: Si | AF48: 56755.04 | AG48: 2 | AM48: 1.5 | AO48: 0 | AP48: 0 | AQ48: 0 | AR48: 0
A49: 7 | B49: ESCENARIO B | C49: MANTO VERDE LICITACION | D49: II | E49: Mejillones Zona de Carga Habitual | F49: 7.Pavimentado-Puerto Mejillones a Mantoverde | G49: PUERTO MEJILLONES | H49: MANTOVERDE | I49: H2SO4 | J49: 230851 (50% del total) | K49: Ton/año | L49: 46227 | M49: - | N49: CRISTIAN SCHWARTZ REVISADA | O49: 230851 | P49: 8.335 | Q49: 19.03 | R49: 27.364 | S49: 12130.899 | T49: 532.467 | U49: 1.248 | V49: 533.715 | W49: 7P-PMMV-C209 | X49: 0.2 | Y49: Transporte H2SO4 | Z49: Pavimentado | AA49: Camión Combustible | AB49: 16489.086 | AC49: 16.489086 | AD49: 7 | AE49: Si | AF49: 400054.86 | AG49: 2 | AM49: 1.5 | AO49: 0 | AP49: 0 | AQ49: 0 | AR49: 0
A50: 7 | B50: ESCENARIO B | C50: MANTO VERDE LICITACION | D50: II | E50: Mejillones Zona de Carga Habitual | F50: 7.Pavimentado-Puerto Mejillones a Mantoverde | G50: PUERTO MEJILLONES | H50: MANTOVERDE | I50: H2SO4 | J50: 230851 (50% del total) | K50: Ton/año | L50: 46227 | M50: - | N50: CRISTIAN SCHWARTZ REVISADA | O50: 230851 | P50: 8.335 | Q50: 19.03 | R50: 27.364 | S50: 12130.899 | T50: 532.467 | U50: 1.248 | V50: 533.715 | W50: 7P-PMMV-C13 | X50: 0.2 | Y50: Transporte H2SO4 | Z50: Pavimentado | AA50: Camión Combustible | AB50: 22477.319 | AC50: 22.477319 | AD50: 7 | AE50: Si | AF50: 545340.15 | AG50: 2 | AM50: 1.5 | AO50: 0 | AP50: 0 | AQ50: 0 | AR50: 0
A51: 7 | B51: ESCENARIO B | C51: MANTO VERDE LICITACION | D51: II | E51: Mejillones Zona de Carga Habitual | F51: 7.Pavimentado-Puerto Mejillones a Mantoverde | G51: PUERTO MEJILLONES | H51: MANTOVERDE | I51: H2SO4 | J51: 230851 (50% del total) | K51: Ton/año | L51: 46227 | M51: - | N51: CRISTIAN SCHWARTZ REVISADA | O51: 230851 | P51: 8.335 | Q51: 19.03 | R51: 27.364 | S51: 12130.899 | T51: 532.467 | U51: 1.248 | V51: 533.715 | W51: 7P-PMMV-B400 | X51: 0.2 | Y51: Transporte H2SO4 | Z51: Pavimentado | AA51: Camión Combustible | AB51: 33014.512 | AC51: 33.014512 | AD51: 7 | AE51: Si | AF51: 800991.39 | AG51: 2 | AM51: 1.5 | AO51: 0 | AP51: 0 | AR51: 0
A52: 7 | B52: ESCENARIO B | C52: MANTO VERDE LICITACION | D52: II | E52: Mejillones Zona de Carga Habitual | F52: 7.Pavimentado-Puerto Mejillones a Mantoverde | G52: PUERTO MEJILLONES | H52: MANTOVERDE | I52: H2SO4 | J52: 230851 (50% del total) | K52: Ton/año | L52: 46227 | M52: - | N52: CRISTIAN SCHWARTZ REVISADA | O52: 230851 | P52: 8.335 | Q52: 19.03 | R52: 27.364 | S52: 12130.899 | T52: 532.467 | U52: 1.248 | V52: 533.715 | W52: 7P-PMMV-R01 | X52: 0.03 | Y52: Transporte H2SO4 | Z52: Pavimentado | AA52: Camión Combustible | AB52: 12588.474 | AC52: 12.588474 | AD52: 7 | AE52: Si | AF52: 305419 | AG52: 2 | AM52: 1.5 | AO52: 0 | AP52: 0 | AR52: 0
A53: 7 | B53: ESCENARIO B | C53: MANTO VERDE LICITACION | D53: II | E53: Mejillones Zona de Carga Habitual | F53: 7.Pavimentado-Puerto Mejillones a Mantoverde | G53: PUERTO MEJILLONES | H53: MANTOVERDE | I53: H2SO4 | J53: 230851 (50% del total) | K53: Ton/año | L53: 46227 | M53: - | N53: CRISTIAN SCHWARTZ REVISADA | O53: 230851 | P53: 8.335 | Q53: 19.03 | R53: 27.364 | S53: 12130.899 | T53: 532.467 | U53: 1.248 | V53: 533.715 | W53: 7P-PMMV-B272 | X53: 0.2 | Y53: Transporte H2SO4 | Z53: Pavimentado | AA53: Camión Combustible | AB53: 17174.511 | AC53: 17.174511 | AD53: 7 | AE53: Si | AF53: 416684.5 | AG53: 2 | AM53: 1.5 | AO53: 0 | AP53: 0 | AR53: 0
A54: 7 | B54: ESCENARIO B | C54: MANTO VERDE LICITACION | D54: II | E54: Mejillones Zona de Carga Habitual | F54: 7.Pavimentado-Puerto Mejillones a Mantoverde | G54: PUERTO MEJILLONES | H54: MANTOVERDE | I54: H2SO4 | J54: 230851 (50% del total) | K54: Ton/año | L54: 46227 | M54: - | N54: CRISTIAN SCHWARTZ REVISADA | O54: 230851 | P54: 8.335 | Q54: 19.03 | R54: 27.364 | S54: 12130.899 | T54: 532.467 | U54: 1.248 | V54: 533.715 | W54: 7P-PMMV-AF | X54: 0.2 | Y54: Transporte H2SO4 | Z54: Pavimentado | AA54: Camión Combustible | AB54: 4451.8454 | AC54: 4.451845 | AD54: 7 | AE54: Si | AF54: 108009.76 | AG54: 2 | AM54: 1.5 | AO54: 0 | AP54: 0 | AR54: 0
A55: 7 | B55: ESCENARIO B | C55: MANTO VERDE LICITACION | D55: II | E55: Mejillones Zona de Carga Habitual | F55: 7.Pavimentado-Puerto Mejillones a Mantoverde | G55: PUERTO MEJILLONES | H55: MANTOVERDE | I55: H2SO4 | J55: 230851 (50% del total) | K55: Ton/año | L55: 46227 | M55: - | N55: CRISTIAN SCHWARTZ REVISADA | O55: 230851 | P55: 8.335 | Q55: 19.03 | R55: 27.364 | S55: 12130.899 | T55: 532.467 | U55: 1.248 | V55: 533.715 | W55: 7P-PMMV-R05 | X55: 0.03 | Y55: Transporte H2SO4 | Z55: Pavimentado | AA55: Camión Combustible | AB55: 413189.79 | AC55: 413.18979 | AD55: 7 | AE55: Si | AF55: 10024727 | AG55: 2 | AM55: 1.5 | AO55: 0 | AP55: 0 | AR55: 0
A56: 8 | B56: ESCENARIO B | C56: MANTO VERDE LICITACION | D56: II | E56: La Negra Zona de Carga Habitual | F56: 8.Pavimentado-Altonorte a Mantoverde | G56: ALTONORTE | H56: MANTOVERDE | I56: H2SO4 | J56: 230851 (50% del total) | K56: Ton/año | L56: 46227 | M56: - | N56: CRISTIAN SCHWARTZ REVISADA | O56: 230851 | P56: 8.335 | Q56: 19.03 | R56: 27.364 | S56: 12130.899 | T56: 432.383 | U56: 1.248 | V56: 433.631 | W56: 8P-ANMV-R05 | X56: 0.03 | Y56: Transporte H2SO4 | Z56: Pavimentado | AA56: Camión Combustible | AB56: 380596.06 | AC56: 380.59605 | AD56: 8 | AE56: Si | AF56: 9233944.3 | AG56: 2 | AM56: 1.5 | AO56: 0 | AP56: 0 | AR56: 0
A57: 8 | B57: ESCENARIO B | C57: MANTO VERDE LICITACION | D57: II | E57: La Negra Zona de Carga Habitual | F57: 8.Pavimentado-Altonorte a Mantoverde | G57: ALTONORTE | H57: MANTOVERDE | I57: H2SO4 | J57: 230851 (50% del total) | K57: Ton/año | L57: 46227 | M57: - | N57: CRISTIAN SCHWARTZ REVISADA | O57: 230851 | P57: 8.335 | Q57: 19.03 | R57: 27.364 | S57: 12130.899 | T57: 432.383 | U57: 1.248 | V57: 433.631 | W57: 8P-ANMV-C13 | X57: 0.2 | Y57: Transporte H2SO4 | Z57: Pavimentado | AA57: Camión Combustible | AB57: 22477.319 | AC57: 22.477319 | AD57: 8 | AE57: Si | AF57: 545340.15 | AG57: 2 | AM57: 1.5 | AO57: 0 | AP57: 0 | AR57: 0
A58: 8 | B58: ESCENARIO B | C58: MANTO VERDE LICITACION | D58: II | E58: La Negra Zona de Carga Habitual | F58: 8.Pavimentado-Altonorte a Mantoverde | G58: ALTONORTE | H58: MANTOVERDE | I58: H2SO4 | J58: 230851 (50% del total) | K58: Ton/año | L58: 46227 | M58: - | N58: CRISTIAN SCHWARTZ REVISADA | O58: 230851 | P58: 8.335 | Q58: 19.03 | R58: 27.364 | S58: 12130.899 | T58: 432.383 | U58: 1.248 | V58: 433.631 | W58: 8P-ANMV-C225 | X58: 0.2 | Y58: Transporte H2SO4 | Z58: Pavimentado | AA58: Camión Combustible | AB58: 2339.2764 | AC58: 2.339276 | AD58: 8 | AE58: Si | AF58: 56755.04 | AG58: 2 | AM58: 1.5 | AO58: 0 | AP58: 0 | AR58: 0
A59: 8 | B59: ESCENARIO B | C59: MANTO VERDE LICITACION | D59: II | E59: La Negra Zona de Carga Habitual | F59: 8.Pavimentado-Altonorte a Mantoverde | G59: ALTONORTE | H59: MANTOVERDE | I59: H2SO4 | J59: 230851 (50% del total) | K59: Ton/año | L59: 46227 | M59: - | N59: CRISTIAN SCHWARTZ REVISADA | O59: 230851 | P59: 8.335 | Q59: 19.03 | R59: 27.364 | S59: 12130.899 | T59: 432.383 | U59: 1.248 | V59: 433.631 | W59: 8P-ANMV-C227 | X59: 0.2 | Y59: Transporte H2SO4 | Z59: Pavimentado | AA59: Camión Combustible | AB59: 1700.3694 | AC59: 1.700369 | AD59: 8 | AE59: Si | AF59: 41254.008 | AG59: 2 | AM59: 1.5 | AO59: 0 | AP59: 0 | AR59: 0
A60: 8 | B60: ESCENARIO B | C60: MANTO VERDE LICITACION | D60: II | E60: La Negra Zona de Carga Habitual | F60: 8.Pavimentado-Altonorte a Mantoverde | G60: ALTONORTE | H60: MANTOVERDE | I60: H2SO4 | J60: 230851 (50% del total) | K60: Ton/año | L60: 46227 | M60: - | N60: CRISTIAN SCHWARTZ REVISADA | O60: 230851 | P60: 8.335 | Q60: 19.03 | R60: 27.364 | S60: 12130.899 | T60: 432.383 | U60: 1.248 | V60: 433.631 | W60: 8P-ANMV-C209 | X60: 0.2 | Y60: Transporte H2SO4 | Z60: Pavimentado | AA60: Camión Combustible | AB60: 16489.086 | AC60: 16.489086 | AD60: 8 | AE60: Si | AF60: 400054.86 | AG60: 2 | AM60: 1.5 | AO60: 0 | AP60: 0 | AR60: 0
A61: 9 | B61: ESCENARIO B | C61: MANTO VERDE LICITACION | D61: II | E61: Diego de Almagro Zona de Contingencia | F61: 9.Pavimentado-Potrerillos a Manto verde variante 3 | G61: POTRERILLOS | H61: MANTOVERDE | I61: H2SO4 | J61: 50000 (contingencia) | K61: Ton/año | L61: 46227 | M61: - | N61: CRISTIAN SCHWARTZ REVISADA | O61: 50000 | P61: 8.335 | Q61: 19.03 | R61: 27.364 | S61: 2627.4304 | T61: 520.623 | U61: 48.642 | V61: 569.265 | W61: 9P-PMV-C261-V3 | X61: 0.2 | Y61: Transporte H2SO4 | Z61: Pavimentado | AA61: Camión Combustible | AB61: 20149.707 | AC61: 20.149707 | AD61: 9 | AE61: Si | AF61: 105883.9 | AG61: 2 | AM61: 1.5 | AO61: 0 | AP61: 0 | AR61: 0
A62: 9 | B62: ESCENARIO B | C62: MANTO VERDE LICITACION | D62: II | E62: Diego de Almagro Zona de Contingencia | F62: 9.Pavimentado-Potrerillos a Manto verde variante 2 | G62: POTRERILLOS | H62: MANTOVERDE | I62: H2SO4 | J62: 50000 (contingencia) | K62: Ton/año | L62: 46227 | M62: - | N62: CRISTIAN SCHWARTZ REVISADA | O62: 50000 | P62: 8.335 | Q62: 19.03 | R62: 27.364 | S62: 2627.4304 | T62: 520.623 | U62: 48.642 | V62: 569.265 | W62: 9P-PMV-C13-V2 | X62: 0.6 | Y62: Transporte H2SO4 | Z62: Pavimentado | AA62: Camión Combustible | AB62: 70114.63 | AC62: 70.11463 | AD62: 9 | AE62: Si | AF62: 368442.62 | AG62: 2 | AM62: 1.5 | AO62: 0 | AP62: 0 | AR62: 0
... A67: 9 | B67: ESCENARIO B | C67: MANTO VERDE LICITACION | D67: II | E67: Diego de Almagro Zona de Contingencia | F67: 9.Pavimentado-Potrerillos a Manto verde Variante 1 | G67: POTRERILLOS | H67: MANTOVERDE | I67: H2SO4 | J67: 50000 (contingencia) | K67: Ton/año | L67: 46227 | M67: - | N67: CRISTIAN SCHWARTZ REVISADA | O67: 50000 | P67: 8.335 | Q67: 19.03 | R67: 27.364 | S67: 2627.4304 | T67: 520.623 | U67: 48.642 | V67: 569.265 | W67: 9P-PMV-C227-V1 | X67: 0.2 | Y67: Transporte H2SO4 | Z67: Pavimentado | AA67: Camión Combustible | AB67: 1696.8212 | AC67: 1.696821 | AD67: 9 | AE67: Si | AF67: 8916.5581 | AG67: 2 | AM67: 1.5 | AO67: 0 | AP67: 0 | AR67: 0
A68: 9 | B68: ESCENARIO B | C68: MANTO VERDE LICITACION | D68: II | E68: Diego de Almagro Zona de Contingencia | F68: 9.Pavimentado-Potrerillos a Manto verde variante 2 | G68: POTRERILLOS | H68: MANTOVERDE | I68: H2SO4 | J68: 50000 (contingencia) | K68: Ton/año | L68: 46227 | M68: - | N68: CRISTIAN SCHWARTZ REVISADA | O68: 50000 | P68: 8.335 | Q68: 19.03 | R68: 27.364 | S68: 2627.4304 | T68: 520.623 | U68: 48.642 | V68: 569.265 | W68: 9P-PMV-C17-V2 | X68: 0.2 | Y68: Transporte H2SO4 | Z68: Pavimentado | AA68: Camión Combustible | AB68: 3338.8052 | AC68: 3.338805 | AD68: 9 | AE68: Si | AF68: 17544.955 | AG68: 2 | AM68: 1.5 | AR68: 0
A69: 9 | B69: ESCENARIO B | C69: MANTO VERDE LICITACION | D69: II | E69: Diego de Almagro Zona de Contingencia | F69: 9.NoPavimentado-Potrerillos a Manto verde variante 2 | G69: POTRERILLOS | H69: MANTOVERDE | I69: H2SO4 | J69: 50000 (contingencia) | K69: Ton/año | L69: 46227 | M69: - | N69: CRISTIAN SCHWARTZ REVISADA | O69: 50000 | P69: 8.335 | Q69: 19.03 | R69: 27.364 | S69: 2627.4304 | T69: 520.623 | U69: 48.642 | V69: 569.265 | W69: 9NP-PMV-C239-V2 | X69: 0 | Y69: Transporte H2SO4 | Z69: Pavimentado | AA69: Camión Combustible | AB69: 13730.452 | AC69: 13.730452 | AD69: 9 | AE69: Si | AF69: 72151.613 | AG69: 2 | AM69: 1.5 | AR69: 0
A70: 9 | B70: ESCENARIO B | C70: MANTO VERDE LICITACION | D70: II | E70: Diego de Almagro Zona de Contingencia | F70: 9.Pavimentado-Potrerillos a Manto verde variante 2 | G70: POTRERILLOS | H70: MANTOVERDE | I70: H2SO4 | J70: 50000 (contingencia) | K70: Ton/año | L70: 46227 | M70: - | N70: CRISTIAN SCHWARTZ REVISADA | O70: 50000 | P70: 8.335 | Q70: 19.03 | R70: 27.364 | S70: 2627.4304 | T70: 520.623 | U70: 48.642 | V70: 569.265 | W70: 9P-PMV-C13-V2 | X70: 0.6 | Y70: Transporte H2SO4 | Z70: Pavimentado | AA70: Camión Combustible | AB70: 20057.033 | AC70: 20.057033 | AD70: 9 | AE70: Si | AF70: 105396.92 | AG70: 2 | AM70: 1.5 | AR70: 0
A71: 9 | B71: ESCENARIO B | C71: MANTO VERDE LICITACION | D71: II | E71: Diego de Almagro Zona de Contingencia | F71: 9.Pavimentado-Potrerillos a Manto verde variante 2 | G71: POTRERILLOS | H71: MANTOVERDE | I71: H2SO4 | J71: 50000 (contingencia) | K71: Ton/año | L71: 46227 | M71: - | N71: CRISTIAN SCHWARTZ REVISADA | O71: 50000 | P71: 8.335 | Q71: 19.03 | R71: 27.364 | S71: 2627.4304 | T71: 520.623 | U71: 48.642 | V71: 569.265 | W71: 9P-PMV-C209-V2 | X71: 0.2 | Y71: Transporte H2SO4 | Z71: Pavimentado | AA71: Camión Combustible | AB71: 16488.552 | AC71: 16.488552 | AD71: 9 | AE71: Si | AF71: 86645.045 | AG71: 2 | AM71: 1.5 | AR71: 0
A72: 9 | B72: ESCENARIO B | C72: MANTO VERDE LICITACION | D72: II | E72: Diego de Almagro Zona de Contingencia | F72: 9.Pavimentado-Potrerillos a Manto verde variante 2 | G72: POTRERILLOS | H72: MANTOVERDE | I72: H2SO4 | J72: 50000 (contingencia) | K72: Ton/año | L72: 46227 | M72: - | N72: CRISTIAN SCHWARTZ REVISADA | O72: 50000 | P72: 8.335 | Q72: 19.03 | R72: 27.364 | S72: 2627.4304 | T72: 520.623 | U72: 48.642 | V72: 569.265 | W72: 9P-PMV-C225-V2 | X72: 0.2 | Y72: Transporte H2SO4 | Z72: Pavimentado | AA72: Camión Combustible | AB72: 2339.1237 | AC72: 2.339124 | AD72: 9 | AE72: Si | AF72: 12291.771 | AG72: 2 | AM72: 1.5 | AR72: 0
A73: 9 | B73: ESCENARIO B | C73: MANTO VERDE LICITACION | D73: II | E73: Diego de Almagro Zona de Contingencia | F73: 9.Pavimentado-Potrerillos a Manto verde variante 2 | G73: POTRERILLOS | H73: MANTOVERDE | I73: H2SO4 | J73: 50000 (contingencia) | K73: Ton/año | L73: 46227 | M73: - | N73: CRISTIAN SCHWARTZ REVISADA | O73: 50000 | P73: 8.335 | Q73: 19.03 | R73: 27.364 | S73: 2627.4304 | T73: 520.623 | U73: 48.642 | V73: 569.265 | W73: 9P-PMV-C227-V2 | X73: 0.2 | Y73: Transporte H2SO4 | Z73: Pavimentado | AA73: Camión Combustible | AB73: 1700.4279 | AC73: 1.700428 | AD73: 9 | AE73: Si | AF73: 8935.5123 | AG73: 2 | AM73: 1.5 | AR73: 0
A74: 9 | B74: ESCENARIO B | C74: MANTO VERDE LICITACION | D74: II | E74: Diego de Almagro Zona de Contingencia | F74: 9.Pavimentado-Potrerillos a Manto verde variante 3 | G74: POTRERILLOS | H74: MANTOVERDE | I74: H2SO4 | J74: 50000 (contingencia) | K74: Ton/año | L74: 46227 | M74: - | N74: CRISTIAN SCHWARTZ REVISADA | O74: 50000 | P74: 8.335 | Q74: 19.03 | R74: 27.364 | S74: 2627.4304 | T74: 520.623 | U74: 48.642 | V74: 569.265 | W74: 9P-PMV-C13-V3 | X74: 0.6 | Y74: Transporte H2SO4 | Z74: Pavimentado | AA74: Camión Combustible | AB74: 70116.496 | AC74: 70.116496 | AD74: 9 | AE74: Si | AF74: 368452.42 | AG74: 0 | AM74: 1.5 | AR74: 0
A75: 9 | B75: ESCENARIO B | C75: MANTO VERDE LICITACION | D75: II | E75: Diego de Almagro Zona de Contingencia | F75: 9.Pavimentado-Potrerillos a Manto verde variante 3 | G75: POTRERILLOS | H75: MANTOVERDE | I75: H2SO4 | J75: 50000 (contingencia) | K75: Ton/año | L75: 46227 | M75: - | N75: CRISTIAN SCHWARTZ REVISADA | O75: 50000 | P75: 8.335 | Q75: 19.03 | R75: 27.364 | S75: 2627.4304 | T75: 520.623 | U75: 48.642 | V75: 569.265 | W75: 9P-PMV-C17-V3 | X75: 0.2 | Y75: Transporte H2SO4 | Z75: Pavimentado | AA75: Camión Combustible | AB75: 81850.468 | AC75: 81.850468 | AD75: 9 | AE75: Si | AF75: 430112.81 | AG75: 0 | AM75: 1.5 | AR75: 0
A76: 9 | B76: ESCENARIO B | C76: MANTO VERDE LICITACION | D76: II | E76: Diego de Almagro Zona de Contingencia | F76: 9.Pavimentado-Potrerillos a Manto verde variante 3 | G76: POTRERILLOS | H76: MANTOVERDE | I76: H2SO4 | J76: 50000 (contingencia) | K76: Ton/año | L76: 46227 | M76: - | N76: CRISTIAN SCHWARTZ REVISADA | O76: 50000 | P76: 8.335 | Q76: 19.03 | R76: 27.364 | S76: 2627.4304 | T76: 520.623 | U76: 48.642 | V76: 569.265 | W76: 9P-PMV-C261-V3 | X76: 0.2 | Y76: Transporte H2SO4 | Z76: Pavimentado | AA76: Camión Combustible | AB76: 37190.624 | AC76: 37.190624 | AD76: 9 | AE76: Si | AF76: 195431.55 | AG76: 0 | AM76: 1.5 | AR76: 0
A77: 9 | B77: ESCENARIO B | C77: MANTO VERDE LICITACION | D77: II | E77: Diego de Almagro Zona de Contingencia | F77: 9.No Pavimentado-Potrerillos a Manto verde variante 3 | G77: POTRERILLOS | H77: MANTOVERDE | I77: H2SO4 | J77: 50000 (contingencia) | K77: Ton/año | L77: 46227 | M77: - | N77: CRISTIAN SCHWARTZ REVISADA | O77: 50000 | P77: 8.335 | Q77: 19.03 | R77: 27.364 | S77: 2627.4304 | T77: 520.623 | U77: 48.642 | V77: 569.265 | W77: 9NP-PMV-C261-V3 | X77: 0 | Y77: Transporte H2SO4 | Z77: Pavimentado | AA77: Camión Combustible | AB77: 9683.8965 | AC77: 9.683896 | AD77: 9 | AE77: Si | AF77: 50887.525 | AG77: 0 | AM77: 1.5 | AR77: 0
A78: 9 | B78: ESCENARIO B | C78: MANTO VERDE LICITACION | D78: II | E78: Diego de Almagro Zona de Contingencia | F78: 9.Pavimentado-Potrerillos a Manto verde variante 3 | G78: POTRERILLOS | H78: MANTOVERDE | I78: H2SO4 | J78: 50000 (contingencia) | K78: Ton/año | L78: 46227 | M78: - | N78: CRISTIAN SCHWARTZ REVISADA | O78: 50000 | P78: 8.335 | Q78: 19.03 | R78: 27.364 | S78: 2627.4304 | T78: 520.623 | U78: 48.642 | V78: 569.265 | W78: 9P-PMV-C211-V3 | X78: 0.6 | Y78: Transporte H2SO4 | Z78: Pavimentado | AA78: Camión Combustible | AB78: 17556.287 | AC78: 17.556287 | AD78: 9 | AE78: Si | AF78: 92255.843 | AG78: 0 | AM78: 1.5 | AR78: 0
A79: 9 | B79: ESCENARIO B | C79: MANTO VERDE LICITACION | D79: II | E79: Diego de Almagro Zona de Contingencia | F79: 9.Pavimentado-Potrerillos a Manto verde variante 3 | G79: POTRERILLOS | H79: MANTOVERDE | I79: H2SO4 | J79: 50000 (contingencia) | K79: Ton/año | L79: 46227 | M79: - | N79: CRISTIAN SCHWARTZ REVISADA | O79: 50000 | P79: 8.335 | Q79: 19.03 | R79: 27.364 | S79: 2627.4304 | T79: 520.623 | U79: 48.642 | V79: 569.265 | W79: 9P-PMV-C227-V3 | X79: 0.2 | Y79: Transporte H2SO4 | Z79: Pavimentado | AA79: Camión Combustible | AB79: 1700.3613 | AC79: 1.700361 | AD79: 9 | AE79: Si | AF79: 8935.1603 | AG79: 0 | AM79: 1.5 | AR79: 0
... A95: 11 | B95: ESCENARIO B | C95: MANTO VERDE LICITACION | D95: II | E95: Iquique Zona de Contingencia | F95: 11.Pavimentado-Puerto Patache a Manto verde | G95: TERMINAL MARITIMO PUERTO PATACHE | H95: MANTOVERDE | I95: H2SO4 | J95: 50000 (contingencia) | K95: Ton/año | L95: 46227 | M95: - | N95: CRISTIAN SCHWARTZ REVISADA | O95: 50000 | P95: 8.335 | Q95: 19.03 | R95: 27.364 | S95: 2627.4304 | T95: 812.755 | U95: 1.248 | V95: 814.003 | W95: 11P-PPMV-R05 | X95: 0.2 | Y95: Transporte H2SO4 | Z95: Pavimentado | AA95: Camión Combustible | AB95: 412296.64 | AC95: 412.29664 | AD95: 11 | AE95: Si | AF95: 2166561.4 | AG95: 0 | AM95: 1.5 | AR95: 0
A96: 12 | B96: ESCENARIO B | C96: CASERONES LICITACION | D96: II | E96: Antofagasta | F96: 12.Pavimentado-Mina Caserones a Puerto Barquito (Vuelta) | G96: TERMINAL PUERTO BARQUITO | H96: LUNDIN MINING CASERONES | I96: H2SO4 | J96: 34000 | K96: Ton/año | L96: 46227 | M96: - | N96: CRISTIAN SCHWARTZ REVISADA | O96: 34000 | P96: 8.335 | Q96: 19.03 | R96: 27.364 | S96: 1786.6527 | T96: 613.085 | U96: 9.998 | V96: 623.083 | W96: 12P-PBMC-R05-VUE | X96: 0.2 | Y96: Transporte H2SO4 | Z96: Pavimentado | AA96: Camión Combustible | AB96: 305959.58 | AC96: 305.95958 | AD96: 12 | AE96: Si | AF96: 1093287 | AG96: 0 | AM96: 1.5 | AR96: 0
A97: 12 | B97: ESCENARIO B | C97: CASERONES LICITACION | D97: II | E97: Antofagasta | F97: 12.Pavimentado-Puerto Barquito a Mina Caserones (Ida) | G97: TERMINAL PUERTO BARQUITO | H97: LUNDIN MINING CASERONES | I97: H2SO4 | J97: 34000 | K97: Ton/año | L97: 46227 | M97: - | N97: CRISTIAN SCHWARTZ REVISADA | O97: 34000 | P97: 8.335 | Q97: 19.03 | R97: 27.364 | S97: 1786.6527 | T97: 613.085 | U97: 9.998 | V97: 623.083 | W97: 12P-PBMC-R05-IDA | X97: 0.2 | Y97: Transporte H2SO4 | Z97: Pavimentado | AA97: Camión Combustible | AB97: 183599.3 | AC97: 183.5993 | AD97: 12 | AE97: Si | AF97: 656056.36 | AG97: 0 | AM97: 1.5 | AR97: 0
A98: 12 | B98: ESCENARIO B | C98: CASERONES LICITACION | D98: II | E98: Antofagasta | F98: 12.No Pavimentado-Puerto Barquito a Mina Caserones (Ida) | G98: TERMINAL PUERTO BARQUITO | H98: LUNDIN MINING CASERONES | I98: H2SO4 | J98: 34000 | K98: Ton/año | L98: 46227 | M98: - | N98: CRISTIAN SCHWARTZ REVISADA | O98: 34000 | P98: 8.335 | Q98: 19.03 | R98: 27.364 | S98: 1786.6527 | T98: 613.085 | U98: 9.998 | V98: 623.083 | W98: 12NP-PBMC-C473-IDA | X98: 0.2 | Y98: Transporte H2SO4 | Z98: No Pavimentado | AA98: Camión Combustible | AB98: 5509.6605 | AC98: 5.50966 | AD98: 12 | AE98: No | AF98: 9843.8487 | AG98: 0 | AM98: 1.5 | AR98: 0
A99: 12 | B99: ESCENARIO B | C99: CASERONES LICITACION | D99: II | E99: Antofagasta | F99: 12.No Pavimentado-Mina Caserones a Puerto Barquito (Vuelta) | G99: TERMINAL PUERTO BARQUITO | H99: LUNDIN MINING CASERONES | I99: H2SO4 | J99: 34000 | K99: Ton/año | L99: 46227 | M99: - | N99: CRISTIAN SCHWARTZ REVISADA | O99: 34000 | P99: 8.335 | Q99: 19.03 | R99: 27.364 | S99: 1786.6527 | T99: 613.085 | U99: 9.998 | V99: 623.083 | W99: 12NP-PBMC-C535-VUE | X99: 0.2 | Y99: Transporte H2SO4 | Z99: No Pavimentado | AA99: Camión Combustible | AB99: 4478.9272 | AC99: 4.478927 | AD99: 12 | AE99: Si | AM99: 1.5 | AR99: 0
A100: 12 | B100: ESCENARIO B | C100: CASERONES LICITACION | D100: II | E100: Antofagasta | F100: 12.Pavimentado-Puerto Barquito a Mina Caserones (Ida) | G100: TERMINAL PUERTO BARQUITO | H100: LUNDIN MINING CASERONES | I100: H2SO4 | J100: 34000 | K100: Ton/año | L100: 46227 | M100: - | N100: CRISTIAN SCHWARTZ REVISADA | O100: 34000 | P100: 8.335 | Q100: 19.03 | R100: 27.364 | S100: 1786.6527 | T100: 613.085 | U100: 9.998 | V100: 623.083 | W100: 12P-PBMC-C453-IDA | X100: 0.2 | Y100: Transporte H2SO4 | Z100: Pavimentado | AA100: Camión Combustible | AB100: 24815.446 | AC100: 24.815446 | AD100: 12 | AE100: Si | AM100: 1.5 | AR100: 0
A101: 12 | B101: ESCENARIO B | C101: CASERONES LICITACION | D101: II | E101: Antofagasta | F101: 12.Pavimentado-Puerto Barquito a Mina Caserones (Ida) | G101: TERMINAL PUERTO BARQUITO | H101: LUNDIN MINING CASERONES | I101: H2SO4 | J101: 34000 | K101: Ton/año | L101: 46227 | M101: - | N101: CRISTIAN SCHWARTZ REVISADA | O101: 34000 | P101: 8.335 | Q101: 19.03 | R101: 27.364 | S101: 1786.6527 | T101: 613.085 | U101: 9.998 | V101: 623.083 | W101: 12P-PBMC-C411-IDA | X101: 0.2 | Y101: Transporte H2SO4 | Z101: Pavimentado | AA101: Camión Combustible | AB101: 24960.154 | AC101: 24.960154 | AD101: 12 | AE101: Si | AM101: 1.5 | AR101: 0
A102: 12 | B102: ESCENARIO B | C102: CASERONES LICITACION | D102: II | E102: Antofagasta | F102: 12.Pavimentado-Puerto Barquito a Mina Caserones (Ida) | G102: TERMINAL PUERTO BARQUITO | H102: LUNDIN MINING CASERONES | I102: H2SO4 | J102: 34000 | K102: Ton/año | L102: 46227 | M102: - | N102: CRISTIAN SCHWARTZ REVISADA | O102: 34000 | P102: 8.335 | Q102: 19.03 | R102: 27.364 | S102: 1786.6527 | T102: 613.085 | U102: 9.998 | V102: 623.083 | W102: 12P-PBMC-C35-IDA | X102: 0.2 | Y102: Transporte H2SO4 | Z102: Pavimentado | AA102: Camión Combustible | AB102: 72131.374 | AC102: 72.131374 | AD102: 12 | AE102: Si | AM102: 1.5 | AR102: 0
A103: 12 | B103: ESCENARIO B | C103: CASERONES LICITACION | D103: II | E103: Antofagasta | F103: 12.Pavimentado-Puerto Barquito a Mina Caserones (Ida) | G103: TERMINAL PUERTO BARQUITO | H103: LUNDIN MINING CASERONES | I103: H2SO4 | J103: 34000 | K103: Ton/año | L103: 46227 | M103: - | N103: CRISTIAN SCHWARTZ REVISADA | O103: 34000 | P103: 8.335 | Q103: 19.03 | R103: 27.364 | S103: 1786.6527 | T103: 613.085 | U103: 9.998 | V103: 623.083 | W103: 12P-PBMC-RI-IDA | X103: 0.2 | Y103: Transporte H2SO4 | Z103: Pavimentado | AA103: Camión Combustible | AB103: 391.85327 | AC103: 0.391853 | AD103: 12 | AE103: Si | AM103: 1.5 | AR103: 0
A104: 12 | B104: ESCENARIO B | C104: CASERONES LICITACION | D104: VI | E104: RANCAGUA | F104: 13.Pavimentado-Codelco El Teniente a PLG Caletones | G104: CODELCO EL TENIENTE - STS | H104: CODELCO EL TENIENTE - PLG Caletones (Planta de Limpieza de Gases) | I104: H2SO4 | J104: 134137 (Total dividido por 9 rutas) | K104: Ton/año | L104: 46227 | M104: - | N104: PATRICIO TORRES REVISADA | O104: 134137 | P104: 8.335 | Q104: 19.03 | R104: 27.364 | S104: 7048.7126 | T104: 57.772 | U104: 4.54 | V104: 62.312 | W104: 12P-PBMC-R35-VUE | X104: 0.2 | Y104: Transporte H2SO4 | Z104: Pavimentado | AA104: Camión Combustible | AB104: 57769.005 | AC104: 57.769005 | AD104: 13 | AE104: Si | AM104: 1.5 | AR104: 0
A105: 12 | B105: ESCENARIO B | C105: CASERONES LICITACION | D105: VI | E105: RANCAGUA | F105: 13.No Pavimentado-Codelco El Teniente a PLG Caletones | G105: CODELCO EL TENIENTE - STS | H105: CODELCO EL TENIENTE - PLG Caletones (Planta de Limpieza de Gases) | I105: H2SO4 | J105: 134137 (Total dividido por 9 rutas) | K105: Ton/año | L105: 46227 | M105: - | N105: PATRICIO TORRES REVISADA | O105: 134137 | P105: 8.335 | Q105: 19.03 | R105: 27.364 | S105: 7048.7126 | T105: 57.772 | U105: 4.54 | V105: 62.312 | W105: 12P-PBMC-C411-VUE | X105: 0.2 | Y105: Transporte H2SO4 | Z105: Pavimentado | AA105: Camión Combustible | AB105: 4537.8239 | AC105: 4.537824 | AD105: 13 | AE105: Si | AM105: 1.5 | AR105: 0
A106: 12 | B106: ESCENARIO B | C106: CASERONES LICITACION | D106: VI | E106: RANCAGUA | F106: 14.Pavimentado-Codelco PLG Caletones a ETA Olivar | G106: CODELCO EL TENIENTE - PLG Caletones (Planta de Limpieza de Gases) | H106: CODELCO EL TENIENTE - ETA OLIVAR (Estacion de Transferencia de H2SO4) | I106: 1 | J106: 134137 | K106: Ton/año | L106: 46227 | M106: - | N106: PATRICIO TORRES REVISADA | O106: 134137 | P106: 8.335 | Q106: 19.03 | R106: 27.364 | S106: 7048.7126 | T106: 58.468 | U106: 4.504 | V106: 62.972 | W106: 12P-PBMC-C453-VUE | X106: 0.2 | Y106: Transporte H2SO4 | Z106: Pavimentado | AA106: Camión Combustible | AB106: 58466.237 | AC106: 58.466237 | AD106: 14 | AE106: Si | AM106: 1.5 | AR106: 0
A107: 12 | B107: ESCENARIO B | C107: CASERONES LICITACION | D107: VI | E107: RANCAGUA | F107: 14.No Pavimentado-Codelco PLG Caletones a ETA Olivar | G107: CODELCO EL TENIENTE - PLG Caletones (Planta de Limpieza de Gases) | H107: CODELCO EL TENIENTE - ETA OLIVAR (Estacion de Transferencia de H2SO4) | I107: 1 | J107: 134137 | K107: Ton/año | L107: 46227 | M107: - | N107: PATRICIO TORRES REVISADA | O107: 134137 | P107: 8.335 | Q107: 19.03 | R107: 27.364 | S107: 7048.7126 | T107: 58.468 | U107: 4.504 | V107: 62.972 | W107: 12P-PBMC-RI-VUE | X107: 0.2 | Y107: Transporte H2SO4 | Z107: Pavimentado | AA107: Camión Combustible | AB107: 4501.8745 | AC107: 4.501875 | AD107: 14 | AE107: Si | AM107: 1.5 | AR107: 0
A108: 13 | B108: ESCENARIO B | C108: DET LICITACION | D108: VI | E108: RANCAGUA (Ruta de Contingencia) | F108: 15.Pavimentado-Codelco PLG Caletones a ETA Olivar variante | G108: CODELCO EL TENIENTE - PLG Caletones (Planta de Limpieza de Gases) | H108: CODELCO EL TENIENTE - ETA OLIVAR (Estacion de Transferencia de H2SO4) | I108: H2SO4 | J108: 50000 (Contingencia) | K108: Ton/año | L108: 46227 | M108: - | N108: PATRICIO TORRES REVISADA | O108: 50000 | P108: 8.335 | Q108: 19.03 | R108: 27.364 | S108: 2627.4304 | T108: 49.21 | U108: 4.504 | V108: 53.714 | W108: 13P-CTPLGC-H35 | X108: 0.2 | Y108: Transporte H2SO4 | Z108: Pavimentado | AA108: Camión Combustible | AB108: 49212.625 | AC108: 49.212625 | AD108: 15 | AE108: Si | AM108: 1.5 | AR108: 0
A109: 13 | B109: ESCENARIO B | C109: DET LICITACION | D109: VI | E109: RANCAGUA (Ruta de Contingencia) | F109: 15.No Pavimentado-Codelco PLG Caletones a ETA Olivar variante | G109: CODELCO EL TENIENTE - PLG Caletones (Planta de Limpieza de Gases) | H109: CODELCO EL TENIENTE - ETA OLIVAR (Estacion de Transferencia de H2SO4) | I109: H2SO4 | J109: 50000 (Contingencia) | K109: Ton/año | L109: 46227 | M109: - | N109: PATRICIO TORRES REVISADA | O109: 50000 | P109: 8.335 | Q109: 19.03 | R109: 27.364 | S109: 2627.4304 | T109: 49.21 | U109: 4.504 | V109: 53.714 | W109: 13NP-CTPLGC-RI | X109: 0.2 | Y109: Transporte H2SO4 | Z109: No Pavimentado | AA109: Camión Combustible | AB109: 4501.8745 | AC109: 4.501875 | AD109: 15 | AE109: Si | AM109: 1.5 | AR109: 0
A110: 13 | B110: ESCENARIO B | C110: DET LICITACION | D110: VI | E110: RANCAGUA | F110: 16.Pavimentado-Codelco PLG Caletones a Minera Valle Central (pasa por ETAS Olivar) | G110: CODELCO EL TENIENTE - PLG Caletones (Planta de Limpieza de Gases) | H110: MINERA VALLE CENTRAL (MVC) | I110: H2SO4 | J110: 134137 | K110: Ton/año | L110: 46227 | M110: - | N110: PATRICIO TORRES REVISADA | O110: 134137 | P110: 8.335 | Q110: 19.03 | R110: 27.364 | S110: 7048.7126 | T110: 59.977 | U110: 4.504 | V110: 64.481 | W110: 13P-CTPLGC-H265 | X110: 0.2 | Y110: Transporte H2SO4 | Z110: Pavimentado | AA110: Camión Combustible | AB110: 58664.079 | AC110: 58.664079 | AD110: 16 | AE110: Si | AM110: 1.5 | AR110: 0
A111: 13 | B111: ESCENARIO B | C111: DET LICITACION | D111: VI | E111: RANCAGUA | F111: 16.No Pavimentado-Codelco PLG Caletones a Minera Valle Central (pasa por ETAS Olivar) | G111: CODELCO EL TENIENTE - PLG Caletones (Planta de Limpieza de Gases) | H111: MINERA VALLE CENTRAL (MVC) | I111: H2SO4 | J111: 134137 | K111: Ton/año | L111: 46227 | M111: - | N111: PATRICIO TORRES REVISADA | O111: 134137 | P111: 8.335 | Q111: 19.03 | R111: 27.364 | S111: 7048.7126 | T111: 59.977 | U111: 4.504 | V111: 64.481 | W111: 13P-CTPLGC-H25 | X111: 0.2 | Y111: Transporte H2SO4 | Z111: Pavimentado | AA111: Camión Combustible | AB111: 4501.8745 | AC111: 4.501875 | AD111: 16 | AE111: Si | AM111: 1.5 | AR111: 0
A112: 13 | B112: ESCENARIO B | C112: DET LICITACION | D112: VI | E112: RANCAGUA | F112: 17.Pavimentado-Codelco PLG Caletones a Planta Sewell | G112: CODELCO EL TENIENTE - PLG Caletones (Planta de Limpieza de Gases) | H112: CODELCO EL TENIENTE - PLANTA CONCENTRADO SEWELL | I112: H2SO4 | J112: 134137 | K112: Ton/año | L112: 46227 | M112: - | N112: PATRICIO TORRES REVISADA | O112: 134137 | P112: 8.335 | Q112: 19.03 | R112: 27.364 | S112: 7048.7126 | T112: 12.857 | U112: 5.889 | V112: 18.746 | W112: 13P-CTPLGC-RI | X112: 0.2 | Y112: Transporte H2SO4 | Z112: Pavimentado | AA112: Camión Combustible | AB112: 12858.351 | AC112: 12.858351 | AD112: 17 | AE112: Si | AM112: 1.5 | AR112: 0
A113: 13 | B113: ESCENARIO B | C113: DET LICITACION | D113: VI | E113: RANCAGUA | F113: 17.No Pavimentado-Codelco PLG Caletones a Planta Sewell | G113: CODELCO EL TENIENTE - PLG Caletones (Planta de Limpieza de Gases) | H113: CODELCO EL TENIENTE - PLANTA CONCENTRADO SEWELL | I113: H2SO4 | J113: 134137 | K113: Ton/año | L113: 46227 | M113: - | N113: PATRICIO TORRES REVISADA | O113: 134137 | P113: 8.335 | Q113: 19.03 | R113: 27.364 | S113: 7048.7126 | T113: 12.857 | U113: 5.889 | V113: 18.746 | W113: 13P-CTPLGC-RI | X113: 0.2 | Y113: Transporte H2SO4 | Z113: Pavimentado | AA113: Camión Combustible | AB113: 5885.5136 | AC113: 5.885514 | AD113: 17 | AE113: Si | AM113: 1.5 | AR113: 0
A114: 14 | B114: ESCENARIO B | C114: DET LICITACION | D114: VI | E114: RANCAGUA | F114: 18.Pavimentado-Codelco PLG Caletones a Planta PTPF | G114: CODELCO EL TENIENTE - PLG Caletones (Planta de Limpieza de Gases) | H114: CODELCO EL TENIENTE - PLANTA PTPF (Planta de Tratamiento de Polvos Fundición) | I114: H2SO4 | J114: 134137 | K114: Ton/año | L114: 46227 | M114: - | N114: PATRICIO TORRES REVISADA | O114: 134137 | P114: 8.335 | Q114: 19.03 | R114: 27.364 | S114: 7048.7126 | T114: 0.247 | U114: 4.215 | V114: 4.462 | W114: 14P-CPLGCETAO-H35 | X114: 0.2 | Y114: Transporte H2SO4 | Z114: Pavimentado | AA114: Camión Combustible | AB114: 247.1269 | AC114: 0.247127 | AD114: 18 | AE114: Si | AM114: 1.5 | AR114: 0
A115: 14 | B115: ESCENARIO B | C115: DET LICITACION | D115: VI | E115: RANCAGUA | F115: 18.No Pavimentado-Codelco PLG Caletones a Planta PTPF | G115: CODELCO EL TENIENTE - PLG Caletones (Planta de Limpieza de Gases) | H115: CODELCO EL TENIENTE - PLANTA PTPF (Planta de Tratamiento de Polvos Fundición) | I115: H2SO4 | J115: 134137 | K115: Ton/año | L115: 46227 | M115: - | N115: PATRICIO TORRES REVISADA | O115: 134137 | P115: 8.335 | Q115: 19.03 | R115: 27.364 | S115: 7048.7126 | T115: 0.247 | U115: 4.215 | V115: 4.462 | W115: 14NP-CPLGCETAO-RI | X115: 0.2 | Y115: Transporte H2SO4 | Z115: No Pavimentado | AA115: Camión Combustible | AB115: 4212.925 | AC115: 4.212925 | AD115: 18 | AE115: Si | AM115: 1.5 | AR115: 0
A116: 14 | B116: ESCENARIO B | C116: DET LICITACION | D116: VI | E116: RANCAGUA | F116: 19.Pavimentado-Codelco PLG Caletones a Planta reactivos y Cal Colon | G116: CODELCO EL TENIENTE - PLG Caletones (Planta de Limpieza de Gases) | H116: PLANTA REACTIVOS Y CAL COLON | I116: H2SO4 | J116: 134137 | K116: Ton/año | L116: 46227 | M116: - | N116: PATRICIO TORRES REVISADA | O116: 134137 | P116: 8.335 | Q116: 19.03 | R116: 27.364 | S116: 7048.7126 | T116: 0.247 | U116: 3.786 | V116: 4.033 | W116: 14P-CPLGCETAO-H265 | X116: 0.2 | Y116: Transporte H2SO4 | Z116: Pavimentado | AA116: Camión Combustible | AB116: 247.1269 | AC116: 0.247127 | AD116: 19 | AE116: Si | AM116: 1.5 | AR116: 0
A117: 14 | B117: ESCENARIO B | C117: DET LICITACION | D117: VI | E117: RANCAGUA | F117: 19.No Pavimentado-Codelco PLG Caletones a Planta reactivos y Cal Colon | G117: CODELCO EL TENIENTE - PLG Caletones (Planta de Limpieza de Gases) | H117: PLANTA REACTIVOS Y CAL COLON | I117: H2SO4 | J117: 134137 | K117: Ton/año | L117: 46227 | M117: - | N117: PATRICIO TORRES REVISADA | O117: 134137 | P117: 8.335 | Q117: 19.03 | R117: 27.364 | S117: 7048.7126 | T117: 0.247 | U117: 3.786 | V117: 4.033 | W117: 14P-CPLGCETAO-H25 | X117: 0.2 | Y117: Transporte H2SO4 | Z117: Pavimentado | AA117: Camión Combustible | AB117: 3783.7631 | AC117: 3.783763 | AD117: 19 | AE117: Si | AM117: 1.5 | AR117: 0
A118: 14 | B118: ESCENARIO B | C118: DET LICITACION | D118: VI | E118: RANCAGUA | F118: 20.Pavimentado-PLG Caletones a Puero San Antonio | G118: CODELCO EL TENIENTE - PLG Caletones (Planta de Limpieza de Gases) | H118: PUERTO SAN ANTONIO | I118: H2SO4 | J118: 134137 | K118: Ton/año | L118: 46227 | M118: - | N118: PATRICIO TORRES REVISADA | O118: 134137 | P118: 8.335 | Q118: 19.03 | R118: 27.364 | S118: 7048.7126 | T118: 231.25 | U118: 4.528 | V118: 235.778 | W118: 14P-CPLGCETAO-RI | X118: 0.2 | Y118: Transporte H2SO4 | Z118: Pavimentado | AA118: Camión Combustible | AB118: 231163.12 | AC118: 231.16312 | AD118: 20 | AE118: Si | AM118: 1.5 | AR118: 0
A119: 14 | B119: ESCENARIO B | C119: DET LICITACION | D119: VI | E119: RANCAGUA | F119: 20.No Pavimentado-PLG Caletones a Puero San Antonio | G119: CODELCO EL TENIENTE - PLG Caletones (Planta de Limpieza de Gases) | H119: PUERTO SAN ANTONIO | I119: H2SO4 | J119: 134137 | K119: Ton/año | L119: 46227 | M119: - | N119: PATRICIO TORRES REVISADA | O119: 134137 | P119: 8.335 | Q119: 19.03 | R119: 27.364 | S119: 7048.7126 | T119: 231.25 | U119: 4.528 | V119: 235.778 | W119: 14P-CPLGCETAO-RI | X119: 0.2 | Y119: Transporte H2SO4 | Z119: Pavimentado | AA119: Camión Combustible | AB119: 4526.6509 | AC119: 4.526651 | AD119: 20 | AE119: Si | AM119: 1.5 | AR119: 0
...

Sheet Hoja2
A1: ID | B1: DENOMINACION INTERNA | C1: RCA N° ORIGEN RUTA | D1: REGIÓN | E1: COMUNA | F1: Name | G1: INSTALACIÓN DE ORIGEN O LUGAR DE CARGA | H1: INSTALACIÓN DE DESTINO O LUGAR DE DESCARGA | I1: SUSTANCIA | J1: CANTIDAD_ | K1: CANTIDAD | L1: FRECUENCIA | M1: UNIDAD | N1: QUIEN_VALI | O1: Cantidad_t | P1: Tara__ton_ | Q1: Carga_úti | R1: PBV__ton_ | S1: Cantidad de viajes (ida/año) | T1: Distancia pavimentada | U1: Distancia no pavimentada | V1: Distancia total | W1: Codigo | X1: sL | Y1: Actividad | Z1: Tipo de camino | AA1: Tipo_Cam | AB1: Dis_mts | AC1: Dis_km | AD1: Numero | AE1: ¿Es un viaje de ida y vuelta? | AF1: NA ida y vuelta | AG1: P | AH1: Factor Lluvia | AI1: W | AJ1: k (P) MP2,5 | AK1: k (P) MP10 | AL1: k (NP) MP2,5 | AM1: k (NP) MP10 | AN1: Eficiencia de Abatimiento (Ea) | AO1: Factor de Emisión PM2,5 (g/km) | AP1: Factor de Emisión PM10 (g/km) | AQ1: Emisiones totales PM2,5 (ton/año) | AR1: Emisiones totales PM10 (ton/año)
A2: 1 | B2: ESCENARIO B | C2: ANGLO AMERICAN LICITACION | D2: V | E2: Catemu | F2: 1.Pavimentado-Chagres a Puerto Ventanas | G2: MINERA SUR ANDES - FUNDICION CHAGRES - CHAGRES | H2: PUERTO VENTANAS | I2: H2SO4 | J2: 11000 | K2: Ton/año | L2: 46227 | M2: - | N2: PATRICIO TORRES REVISADA | O2: 11000 | P2: 8.335 | Q2: 19.03 | R2: 27.364 | S2: 578.03468 | T2: 66.32 | U2: 0 | V2: 66.32 | W2: 1P-CPV-R05 | X2: 0.03 | Y2: Transporte H2SO4 | Z2: Pavimentado | AA2: Camión Combustible | AB2: 28094.326 | AC2: 28.094326 | AD2: 1 | AE2: Si | AF2: =IF(AE2="Si",AC2*S2*2,AC2*S2) -> 32478.99 | AG2: {=_xlfn.IFS(D2="I",MIN('Datos pp I Región'!$K$7:$K$9),D2="II",MIN('Datos pp II Región'!$K$7:$K$9),D2="III",MIN('Datos pp III Región'!$K$7:$K$9),D2="IV",MIN('Datos pp IV Región'!$K$7:$K$9),D2="V",MIN('Datos pp V Región'!$K$7:$K$9),D2="RM",MIN('Datos pp RM'!$K$7:$K$9),D2="VI",MIN('Datos pp VI Región'!$K$7:$K$9))} -> 22 | AH2: {=_xlfn.IFS(Z2="Pavimentado",1-(AG2/(4*365)),Z2="No Pavimentado",1-(AG2/365))} -> 0.98493151 | AI2: {=_xlfn.IFS(Z2="Pavimentado",8,Z2="No Pavimentado",R2)} -> 8 | AJ2: 0.15 | AK2: 0.62 | AL2: 0.15 | AM2: 1.5 | AO2: {=_xlfn.IFS($Z2=$AT$3,AJ2*($X2)^(0.91)*(8*1.1023)^1.02,$Z2=$AT$4,AL2*281.9*(8.5/12)^0.9*(4/2.72)^0.45)} -> 0.056828892 | AP2: {=_xlfn.IFS($Z2=$AT$3,AK2*($X2)^(0.91)*(8*1.1023)^1.02,$Z2=$AT$4,AM2*281.9*(8.5/12)^0.9*(4/2.72)^0.45)} -> 0.23489275 | AQ2: {=_xlfn.IFS(Z2=$AT$3,(AF2*AO2*AH2)/1000000,Z2=$AT$4,(AF2*AH2*AO2*(1-AN2))/1000000)} -> 0.0018179324 | AR2: {=_xlfn.IFS(Z2=$AT$3,(AF2*AP2*AH2)/1000000,Z2=$AT$4,(AF2*AH2*AP2*(1-AN2))/1000000)} -> 0.0075141206 | AT2: {=+_xlfn.UNIQUE(Z:Z)} -> Tipo de camino | AU2: Emisiones totales PM2,5 (ton/año) | AV2: Emisiones totales PM10 (ton/año)
A3: 1 | B3: ESCENARIO B | C3: ANGLO AMERICAN LICITACION | D3: V | E3: Catemu | F3: 1.Pavimentado-Chagres a Puerto Ventanas | G3: MINERA SUR ANDES - FUNDICION CHAGRES - CHAGRES | H3: PUERTO VENTANAS | I3: H2SO4 | J3: 11000 | K3: Ton/año | L3: 46227 | M3: - | N3: PATRICIO TORRES REVISADA | O3: 11000 | P3: 8.335 | Q3: 19.03 | R3: 27.364 | S3: 578.03468 | T3: 66.32 | U3: 0 | V3: 66.32 | W3: 1P-CPV-RI | X3: 0.03 | Y3: Transporte H2SO4 | Z3: Pavimentado | AA3: Camión Combustible | AB3: 1058.6761 | AC3: 1.058676 | AD3: 1 | AE3: Si | AF3: =IF(AE3="Si",AC3*S3*2,AC3*S3) -> 1223.9029 | AG3: {=_xlfn.IFS(D3="I",MIN('Datos pp I Región'!$K$7:$K$9),D3="II",MIN('Datos pp II Región'!$K$7:$K$9),D3="III",MIN('Datos pp III Región'!$K$7:$K$9),D3="IV",MIN('Datos pp IV Región'!$K$7:$K$9),D3="V",MIN('Datos pp V Región'!$K$7:$K$9),D3="RM",MIN('Datos pp RM'!$K$7:$K$9),D3="VI",MIN('Datos pp VI Región'!$K$7:$K$9))} -> 22 | AH3: {=_xlfn.IFS(Z3="Pavimentado",1-(AG3/(4*365)),Z3="No Pavimentado",1-(AG3/365))} -> 0.98493151 | AI3: {=_xlfn.IFS(Z3="Pavimentado",8,Z3="No Pavimentado",R3)} -> 8 | AJ3: 0.15 | AK3: 0.62 | AL3: 0.15 | AM3: 1.5 | AO3: {=_xlfn.IFS($Z3=$AT$3,AJ3*($X3)^(0.91)*(8*1.1023)^1.02,$Z3=$AT$4,AL3*281.9*(8.5/12)^0.9*(4/2.72)^0.45)} -> 0.056828892 | AP3: {=_xlfn.IFS($Z3=$AT$3,AK3*($X3)^(0.91)*(8*1.1023)^1.02,$Z3=$AT$4,AM3*281.9*(8.5/12)^0.9*(4/2.72)^0.45)} -> 0.23489275 | AQ3: {=_xlfn.IFS(Z3=$AT$3,(AF3*AO3*AH3)/1000000,Z3=$AT$4,(AF3*AH3*AO3*(1-AN3))/1000000)} -> 6.8504986e-05 | AR3: {=_xlfn.IFS(Z3=$AT$3,(AF3*AP3*AH3)/1000000,Z3=$AT$4,(AF3*AH3*AP3*(1-AN3))/1000000)} -> 0.00028315394 | AT3: Pavimentado | AU3: =+SUMIFS($AQ$2:$AQ$50,$Z$2:$Z$50,$AT3) -> 0.97742532 | AV3: =+SUMIFS($AR$2:$AR$50,$Z$2:$Z$50,$AT3) -> 4.0400247
A4: 1 | B4: ESCENARIO B | C4: ANGLO AMERICAN LICITACION | D4: V | E4: Catemu | F4: 1.Pavimentado-Chagres a Puerto Ventanas | G4: MINERA SUR ANDES - FUNDICION CHAGRES - CHAGRES | H4: PUERTO VENTANAS | I4: H2SO4 | J4: 11000 | K4: Ton/año | L4: 46227 | M4: - | N4: PATRICIO TORRES REVISADA | O4: 11000 | P4: 8.335 | Q4: 19.03 | R4: 27.364 | S4: 578.03468 | T4: 66.32 | U4: 0 | V4: 66.32 | W4: 1P-CPV-F30E | X4: 0.03 | Y4: Transporte H2SO4 | Z4: Pavimentado | AA4: Camión Combustible | AB4: 4752.121 | AC4: 4.752121 | AD4: 1 | AE4: Si | AF4: =IF(AE4="Si",AC4*S4*2,AC4*S4) -> 5493.7815 | AG4: {=_xlfn.IFS(D4="I",MIN('Datos pp I Región'!$K$7:$K$9),D4="II",MIN('Datos pp II Región'!$K$7:$K$9),D4="III",MIN('Datos pp III Región'!$K$7:$K$9),D4="IV",MIN('Datos pp IV Región'!$K$7:$K$9),D4="V",MIN('Datos pp V Región'!$K$7:$K$9),D4="RM",MIN('Datos pp RM'!$K$7:$K$9),D4="VI",MIN('Datos pp VI Región'!$K$7:$K$9))} -> 22 | AH4: {=_xlfn.IFS(Z4="Pavimentado",1-(AG4/(4*365)),Z4="No Pavimentado",1-(AG4/365))} -> 0.98493151 | AI4: {=_xlfn.IFS(Z4="Pavimentado",8,Z4="No Pavimentado",R4)} -> 8 | AJ4: 0.15 | AK4: 0.62 | AL4: 0.15 | AM4: 1.5 | AO4: {=_xlfn.IFS($Z4=$AT$3,AJ4*($X4)^(0.91)*(8*1.1023)^1.02,$Z4=$AT$4,AL4*281.9*(8.5/12)^0.9*(4/2.72)^0.45)} -> 0.056828892 | AP4: {=_xlfn.IFS($Z4=$AT$3,AK4*($X4)^(0.91)*(8*1.1023)^1.02,$Z4=$AT$4,AM4*281.9*(8.5/12)^0.9*(4/2.72)^0.45)} -> 0.23489275 | AQ4: {=_xlfn.IFS(Z4=$AT$3,(AF4*AO4*AH4)/1000000,Z4=$AT$4,(AF4*AH4*AO4*(1-AN4))/1000000)} -> 0.00030750105 | AR4: {=_xlfn.IFS(Z4=$AT$3,(AF4*AP4*AH4)/1000000,Z4=$AT$4,(AF4*AH4*AP4*(1-AN4))/1000000)} -> 0.0012710043 | AT4: No Pavimentado | AU4: =+SUMIFS($AQ$2:$AQ$50,$Z$2:$Z$50,$AT4) -> 1.1369052 | AV4: =+SUMIFS($AR$2:$AR$50,$Z$2:$Z$50,$AT4) -> 11.369052
A5: 1 | B5: ESCENARIO B | C5: ANGLO AMERICAN LICITACION | D5: V | E5: Catemu | F5: 1.Pavimentado-Chagres a Puerto Ventanas | G5: MINERA SUR ANDES - FUNDICION CHAGRES - CHAGRES | H5: PUERTO VENTANAS | I5: H2SO4 | J5: 11000 | K5: Ton/año | L5: 46227 | M5: - | N5: PATRICIO TORRES REVISADA | O5: 11000 | P5: 8.335 | Q5: 19.03 | R5: 27.364 | S5: 578.03468 | T5: 66.32 | U5: 0 | V5: 66.32 | W5: 1P-CPV-F20 | X5: 0.03 | Y5: Transporte H2SO4 | Z5: Pavimentado | AA5: Camión Combustible | AB5: 26475.273 | AC5: 26.475273 | AD5: 1 | AE5: Si | AF5: =IF(AE5="Si",AC5*S5*2,AC5*S5) -> 30607.252 | AG5: {=_xlfn.IFS(D5="I",MIN('Datos pp I Región'!$K$7:$K$9),D5="II",MIN('Datos pp II Región'!$K$7:$K$9),D5="III",MIN('Datos pp III Región'!$K$7:$K$9),D5="IV",MIN('Datos pp IV Región'!$K$7:$K$9),D5="V",MIN('Datos pp V Región'!$K$7:$K$9),D5="RM",MIN('Datos pp RM'!$K$7:$K$9),D5="VI",MIN('Datos pp VI Región'!$K$7:$K$9))} -> 22 | AH5: {=_xlfn.IFS(Z5="Pavimentado",1-(AG5/(4*365)),Z5="No Pavimentado",1-(AG5/365))} -> 0.98493151 | AI5: {=_xlfn.IFS(Z5="Pavimentado",8,Z5="No Pavimentado",R5)} -> 8 | AJ5: 0.15 | AK5: 0.62 | AL5: 0.15 | AM5: 1.5 | AO5: {=_xlfn.IFS($Z5=$AT$3,AJ5*($X5)^(0.91)*(8*1.1023)^1.02,$Z5=$AT$4,AL5*281.9*(8.5/12)^0.9*(4/2.72)^0.45)} -> 0.056828892 | AP5: {=_xlfn.IFS($Z5=$AT$3,AK5*($X5)^(0.91)*(8*1.1023)^1.02,$Z5=$AT$4,AM5*281.9*(8.5/12)^0.9*(4/2.72)^0.45)} -> 0.23489275 | AQ5: {=_xlfn.IFS(Z5=$AT$3,(AF5*AO5*AH5)/1000000,Z5=$AT$4,(AF5*AH5*AO5*(1-AN5))/1000000)} -> 0.0017131665 | AR5: {=_xlfn.IFS(Z5=$AT$3,(AF5*AP5*AH5)/1000000,Z5=$AT$4,(AF5*AH5*AP5*(1-AN5))/1000000)} -> 0.007081088 | AT5: 0 | AU5: =+SUM(AU3:AU4) -> 2.1143305 | AV5: =+SUM(AV3:AV4) -> 15.409076
A6: 1 | B6: ESCENARIO B | C6: ANGLO AMERICAN LICITACION | D6: V | E6: Catemu | F6: 1.Pavimentado-Chagres a Puerto Ventanas | G6: MINERA SUR ANDES - FUNDICION CHAGRES - CHAGRES | H6: PUERTO VENTANAS | I6: H2SO4 | J6: 11000 | K6: Ton/año | L6: 46227 | M6: - | N6: PATRICIO TORRES REVISADA | O6: 11000 | P6: 8.335 | Q6: 19.03 | R6: 27.364 | S6: 578.03468 | T6: 66.32 | U6: 0 | V6: 66.32 | W6: 1P-CPV-E60 | X6: 0.03 | Y6: Transporte H2SO4 | Z6: Pavimentado | AA6: Camión Combustible | AB6: 5470.8773 | AC6: 5.470877 | AD6: 1 | AE6: Si | AF6: =IF(AE6="Si",AC6*S6*2,AC6*S6) -> 6324.7133 | AG6: {=_xlfn.IFS(D6="I",MIN('Datos pp I Región'!$K$7:$K$9),D6="II",MIN('Datos pp II Región'!$K$7:$K$9),D6="III",MIN('Datos pp III Región'!$K$7:$K$9),D6="IV",MIN('Datos pp IV Región'!$K$7:$K$9),D6="V",MIN('Datos pp V Región'!$K$7:$K$9),D6="RM",MIN('Datos pp RM'!$K$7:$K$9),D6="VI",MIN('Datos pp VI Región'!$K$7:$K$9))} -> 22 | AH6: {=_xlfn.IFS(Z6="Pavimentado",1-(AG6/(4*365)),Z6="No Pavimentado",1-(AG6/365))} -> 0.98493151 | AI6: {=_xlfn.IFS(Z6="Pavimentado",8,Z6="No Pavimentado",R6)} -> 8 | AJ6: 0.15 | AK6: 0.62 | AL6: 0.15 | AM6: 1.5 | AO6: {=_xlfn.IFS($Z6=$AT$3,AJ6*($X6)^(0.91)*(8*1.1023)^1.02,$Z6=$AT$4,AL6*281.9*(8.5/12)^0.9*(4/2.72)^0.45)} -> 0.056828892 | AP6: {=_xlfn.IFS($Z6=$AT$3,AK6*($X6)^(0.91)*(8*1.1023)^1.02,$Z6=$AT$4,AM6*281.9*(8.5/12)^0.9*(4/2.72)^0.45)} -> 0.23489275 | AQ6: {=_xlfn.IFS(Z6=$AT$3,(AF6*AO6*AH6)/1000000,Z6=$AT$4,(AF6*AH6*AO6*(1-AN6))/1000000)} -> 0.00035401044 | AR6: {=_xlfn.IFS(Z6=$AT$3,(AF6*AP6*AH6)/1000000,Z6=$AT$4,(AF6*AH6*AP6*(1-AN6))/1000000)} -> 0.0014632431
A7: 1 | B7: ESCENARIO B | C7: ANGLO AMERICAN LICITACION | D7: V | E7: Catemu | F7: 1.Pavimentado-Chagres a Puerto Ventanas | G7: MINERA SUR ANDES - FUNDICION CHAGRES - CHAGRES | H7: PUERTO VENTANAS | I7: H2SO4 | J7: 11000 | K7: Ton/año | L7: 46227 | M7: - | N7: PATRICIO TORRES REVISADA | O7: 11000 | P7: 8.335 | Q7: 19.03 | R7: 27.364 | S7: 578.03468 | T7: 66.32 | U7: 0 | V7: 66.32 | W7: 1P-CPV-E65 | X7: 0.03 | Y7: Transporte H2SO4 | Z7: Pavimentado | AA7: Camión Combustible | AB7: 505.8 | AC7: 0.5058 | AD7: 1 | AE7: Si | AF7: =IF(AE7="Si",AC7*S7*2,AC7*S7) -> 584.73988 | AG7: {=_xlfn.IFS(D7="I",MIN('Datos pp I Región'!$K$7:$K$9),D7="II",MIN('Datos pp II Región'!$K$7:$K$9),D7="III",MIN('Datos pp III Región'!$K$7:$K$9),D7="IV",MIN('Datos pp IV Región'!$K$7:$K$9),D7="V",MIN('Datos pp V Región'!$K$7:$K$9),D7="RM",MIN('Datos pp RM'!$K$7:$K$9),D7="VI",MIN('Datos pp VI Región'!$K$7:$K$9))} -> 22 | AH7: {=_xlfn.IFS(Z7="Pavimentado",1-(AG7/(4*365)),Z7="No Pavimentado",1-(AG7/365))} -> 0.98493151 | AI7: {=_xlfn.IFS(Z7="Pavimentado",8,Z7="No Pavimentado",R7)} -> 8 | AJ7: 0.15 | AK7: 0.62 | AL7: 0.15 | AM7: 1.5 | AO7: {=_xlfn.IFS($Z7=$AT$3,AJ7*($X7)^(0.91)*(8*1.1023)^1.02,$Z7=$AT$4,AL7*281.9*(8.5/12)^0.9*(4/2.72)^0.45)} -> 0.056828892 | AP7: {=_xlfn.IFS($Z7=$AT$3,AK7*($X7)^(0.91)*(8*1.1023)^1.02,$Z7=$AT$4,AM7*281.9*(8.5/12)^0.9*(4/2.72)^0.45)} -> 0.23489275 | AQ7: {=_xlfn.IFS(Z7=$AT$3,(AF7*AO7*AH7)/1000000,Z7=$AT$4,(AF7*AH7*AO7*(1-AN7))/1000000)} -> 3.2729392e-05 | AR7: {=_xlfn.IFS(Z7=$AT$3,(AF7*AP7*AH7)/1000000,Z7=$AT$4,(AF7*AH7*AP7*(1-AN7))/1000000)} -> 0.00013528149
A8: 2 | B8: ESCENARIO B | C8: LOS PELAMBRES LICITACION | D8: V | E8: Catemu | F8: 2.Pavimentado-Chagres a Mina Los Pelambres | G8: MINERA SUR ANDES - FUNDICION CHAGRES - CHAGRES | H8: MLP - LOS PELAMBRES | I8: H2SO4 | J8: 80 | K8: Ton/semana | L8: El ritmo o frecuencia de viajes estará determinado por el programa de consumo que entregue la Minera. | M8: - | N8: PATRICIO TORRES REVISADA | O8: 4160 | P8: 8.335 | Q8: 19.03 | R8: 27.364 | S8: 218.60221 | T8: 288.495 | U8: 0 | V8: 288.495 | W8: 2P-CMLP-R05 | X8: 0.03 | Y8: Transporte H2SO4 | Z8: Pavimentado | AA8: Camión Combustible | AB8: 137273.59 | AC8: 137.27359 | AD8: 2 | AE8: Si | AF8: =IF(AE8="Si",AC8*S8*2,AC8*S8) -> 60016.62 | AG8: {=_xlfn.IFS(D8="I",MIN('Datos pp I Región'!$K$7:$K$9),D8="II",MIN('Datos pp II Región'!$K$7:$K$9),D8="III",MIN('Datos pp III Región'!$K$7:$K$9),D8="IV",MIN('Datos pp IV Región'!$K$7:$K$9),D8="V",MIN('Datos pp V Región'!$K$7:$K$9),D8="RM",MIN('Datos pp RM'!$K$7:$K$9),D8="VI",MIN('Datos pp VI Región'!$K$7:$K$9))} -> 22 | AH8: {=_xlfn.IFS(Z8="Pavimentado",1-(AG8/(4*365)),Z8="No Pavimentado",1-(AG8/365))} -> 0.98493151 | AI8: {=_xlfn.IFS(Z8="Pavimentado",8,Z8="No Pavimentado",R8)} -> 8 | AJ8: 0.15 | AK8: 0.62 | AL8: 0.15 | AM8: 1.5 | AO8: {=_xlfn.IFS($Z8=$AT$3,AJ8*($X8)^(0.91)*(8*1.1023)^1.02,$Z8=$AT$4,AL8*281.9*(8.5/12)^0.9*(4/2.72)^0.45)} -> 0.056828892 | AP8: {=_xlfn.IFS($Z8=$AT$3,AK8*($X8)^(0.91)*(8*1.1023)^1.02,$Z8=$AT$4,AM8*281.9*(8.5/12)^0.9*(4/2.72)^0.45)} -> 0.23489275 | AQ8: {=_xlfn.IFS(Z8=$AT$3,(AF8*AO8*AH8)/1000000,Z8=$AT$4,(AF8*AH8*AO8*(1-AN8))/1000000)} -> 0.0033592843 | AR8: {=_xlfn.IFS(Z8=$AT$3,(AF8*AP8*AH8)/1000000,Z8=$AT$4,(AF8*AH8*AP8*(1-AN8))/1000000)} -> 0.013885042
A9: 2 | B9: ESCENARIO B | C9: LOS PELAMBRES LICITACION | D9: V | E9: Catemu | F9: 2.Pavimentado-Chagres a Mina Los Pelambres | G9: MINERA SUR ANDES - FUNDICION CHAGRES - CHAGRES | H9: MLP - LOS PELAMBRES | I9: H2SO4 | J9: 80 | K9: Ton/semana | L9: El ritmo o frecuencia de viajes estará determinado por el programa de consumo que entregue la Minera. | M9: - | N9: PATRICIO TORRES REVISADA | O9: 4160 | P9: 8.335 | Q9: 19.03 | R9: 27.364 | S9: 218.60221 | T9: 288.495 | U9: 0 | V9: 288.495 | W9: 2P-CMLP-E65 | X9: 0.03 | Y9: Transporte H2SO4 | Z9: Pavimentado | AA9: Camión Combustible | AB9: 505.8 | AC9: 0.5058 | AD9: 2 | AE9: Si | AF9: =IF(AE9="Si",AC9*S9*2,AC9*S9) -> 221.13799 | AG9: {=_xlfn.IFS(D9="I",MIN('Datos pp I Región'!$K$7:$K$9),D9="II",MIN('Datos pp II Región'!$K$7:$K$9),D9="III",MIN('Datos pp III Región'!$K$7:$K$9),D9="IV",MIN('Datos pp IV Región'!$K$7:$K$9),D9="V",MIN('Datos pp V Región'!$K$7:$K$9),D9="RM",MIN('Datos pp RM'!$K$7:$K$9),D9="VI",MIN('Datos pp VI Región'!$K$7:$K$9))} -> 22 | AH9: {=_xlfn.IFS(Z9="Pavimentado",1-(AG9/(4*365)),Z9="No Pavimentado",1-(AG9/365))} -> 0.98493151 | AI9: {=_xlfn.IFS(Z9="Pavimentado",8,Z9="No Pavimentado",R9)} -> 8 | AJ9: 0.15 | AK9: 0.62 | AL9: 0.15 | AM9: 1.5 | AO9: {=_xlfn.IFS($Z9=$AT$3,AJ9*($X9)^(0.91)*(8*1.1023)^1.02,$Z9=$AT$4,AL9*281.9*(8.5/12)^0.9*(4/2.72)^0.45)} -> 0.056828892 | AP9: {=_xlfn.IFS($Z9=$AT$3,AK9*($X9)^(0.91)*(8*1.1023)^1.02,$Z9=$AT$4,AM9*281.9*(8.5/12)^0.9*(4/2.72)^0.45)} -> 0.23489275 | AQ9: {=_xlfn.IFS(Z9=$AT$3,(AF9*AO9*AH9)/1000000,Z9=$AT$4,(AF9*AH9*AO9*(1-AN9))/1000000)} -> 1.2377661e-05 | AR9: {=_xlfn.IFS(Z9=$AT$3,(AF9*AP9*AH9)/1000000,Z9=$AT$4,(AF9*AH9*AP9*(1-AN9))/1000000)} -> 5.1160999e-05
A10: 2 | B10: ESCENARIO B | C10: LOS PELAMBRES LICITACION | D10: V | E10: Catemu | F10: 2.Pavimentado-Chagres a Mina Los Pelambres | G10: MINERA SUR ANDES - FUNDICION CHAGRES - CHAGRES | H10: MLP - LOS PELAMBRES | I10: H2SO4 | J10: 80 | K10: Ton/semana | L10: El ritmo o frecuencia de viajes estará determinado por el programa de consumo que entregue la Minera. | M10: - | N10: PATRICIO TORRES REVISADA | O10: 4160 | P10: 8.335 | Q10: 19.03 | R10: 27.364 | S10: 218.60221 | T10: 288.495 | U10: 0 | V10: 288.495 | W10: 2P-CMLP-E60 | X10: 0.03 | Y10: Transporte H2SO4 | Z10: Pavimentado | AA10: Camión Combustible | AB10: 5470.8632 | AC10: 5.470863 | AD10: 2 | AE10: Si | AF10: =IF(AE10="Si",AC10*S10*2,AC10*S10) -> 2391.8855 | AG10: {=_xlfn.IFS(D10="I",MIN('Datos pp I Región'!$K$7:$K$9),D10="II",MIN('Datos pp II Región'!$K$7:$K$9),D10="III",MIN('Datos pp III Región'!$K$7:$K$9),D10="IV",MIN('Datos pp IV Región'!$K$7:$K$9),D10="V",MIN('Datos pp V Región'!$K$7:$K$9),D10="RM",MIN('Datos pp RM'!$K$7:$K$9),D10="VI",MIN('Datos pp VI Región'!$K$7:$K$9))} -> 22 | AH10: {=_xlfn.IFS(Z10="Pavimentado",1-(AG10/(4*365)),Z10="No Pavimentado",1-(AG10/365))} -> 0.98493151 | AI10: {=_xlfn.IFS(Z10="Pavimentado",8,Z10="No Pavimentado",R10)} -> 8 | AJ10: 0.15 | AK10: 0.62 | AL10: 0.15 | AM10: 1.5 | AO10: {=_xlfn.IFS($Z10=$AT$3,AJ10*($X10)^(0.91)*(8*1.1023)^1.02,$Z10=$AT$4,AL10*281.9*(8.5/12)^0.9*(4/2.72)^0.45)} -> 0.056828892 | AP10: {=_xlfn.IFS($Z10=$AT$3,AK10*($X10)^(0.91)*(8*1.1023)^1.02,$Z10=$AT$4,AM10*281.9*(8.5/12)^0.9*(4/2.72)^0.45)} -> 0.23489275 | AQ10: {=_xlfn.IFS(Z10=$AT$3,(AF10*AO10*AH10)/1000000,Z10=$AT$4,(AF10*AH10*AO10*(1-AN10))/1000000)} -> 0.00013387997 | AR10: {=_xlfn.IFS(Z10=$AT$3,(AF10*AP10*AH10)/1000000,Z10=$AT$4,(AF10*AH10*AP10*(1-AN10))/1000000)} -> 0.00055337053
A11: 2 | B11: ESCENARIO B | C11: LOS PELAMBRES LICITACION | D11: V | E11: Catemu | F11: 2.Pavimentado-Chagres a Mina Los Pelambres | G11: MINERA SUR ANDES - FUNDICION CHAGRES - CHAGRES | H11: MLP - LOS PELAMBRES | I11: H2SO4 | J11: 80 | K11: Ton/semana | L11: El ritmo o frecuencia de viajes estará determinado por el programa de consumo que entregue la Minera. | M11: - | N11: PATRICIO TORRES REVISADA | O11: 4160 | P11: 8.335 | Q11: 19.03 | R11: 27.364 | S11: 218.60221 | T11: 288.495 | U11: 0 | V11: 288.495 | W11: 2P-CMLP-R47 | X11: 0.2 | Y11: Transporte H2SO4 | Z11: Pavimentado | AA11: Camión Combustible | AB11: 36296.073 | AC11: 36.296073 | AD11: 2 | AE11: Si | AF11: =IF(AE11="Si",AC11*S11*2,AC11*S11) -> 15868.803 | AG11: {=_xlfn.IFS(D11="I",MIN('Datos pp I Región'!$K$7:$K$9),D11="II",MIN('Datos pp II Región'!$K$7:$K$9),D11="III",MIN('Datos pp III Región'!$K$7:$K$9),D11="IV",MIN('Datos pp IV Región'!$K$7:$K$9),D11="V",MIN('Datos pp V Región'!$K$7:$K$9),D11="RM",MIN('Datos pp RM'!$K$7:$K$9),D11="VI",MIN('Datos pp VI Región'!$K$7:$K$9))} -> 22 | AH11: {=_xlfn.IFS(Z11="Pavimentado",1-(AG11/(4*365)),Z11="No Pavimentado",1-(AG11/365))} -> 0.98493151 | AI11: {=_xlfn.IFS(Z11="Pavimentado",8,Z11="No Pavimentado",R11)} -> 8 | AJ11: 0.15 | AK11: 0.62 | AL11: 0.15 | AM11: 1.5 | AO11: {=_xlfn.IFS($Z11=$AT$3,AJ11*($X11)^(0.91)*(8*1.1023)^1.02,$Z11=$AT$4,AL11*281.9*(8.5/12)^0.9*(4/2.72)^0.45)} -> 0.31939355 | AP11: {=_xlfn.IFS($Z11=$AT$3,AK11*($X11)^(0.91)*(8*1.1023)^1.02,$Z11=$AT$4,AM11*281.9*(8.5/12)^0.9*(4/2.72)^0.45)} -> 1.32016 | AQ11: {=_xlfn.IFS(Z11=$AT$3,(AF11*AO11*AH11)/1000000,Z11=$AT$4,(AF11*AH11*AO11*(1-AN11))/1000000)} -> 0.0049920204 | AR11: {=_xlfn.IFS(Z11=$AT$3,(AF11*AP11*AH11)/1000000,Z11=$AT$4,(AF11*AH11*AP11*(1-AN11))/1000000)} -> 0.020633684
A12: 2 | B12: ESCENARIO B | C12: LOS PELAMBRES LICITACION | D12: V | E12: Catemu | F12: 2.Pavimentado-Chagres a Mina Los Pelambres | G12: MINERA SUR ANDES - FUNDICION CHAGRES - CHAGRES | H12: MLP - LOS PELAMBRES | I12: H2SO4 | J12: 80 | K12: Ton/semana | L12: El ritmo o frecuencia de viajes estará determinado por el programa de consumo que entregue la Minera. | M12: - | N12: PATRICIO TORRES REVISADA | O12: 4160 | P12: 8.335 | Q12: 19.03 | R12: 27.364 | S12: 218.60221 | T12: 288.495 | U12: 0 | V12: 288.495 | W12: 2P-CMLP-D81 | X12: 0.2 | Y12: Transporte H2SO4 | Z12: Pavimentado | AA12: Camión Combustible | AB12: 20065.425 | AC12: 20.065425 | AD12: 2 | AE12: Si | AF12: =IF(AE12="Si",AC12*S12*2,AC12*S12) -> 8772.6924 | AG12: {=_xlfn.IFS(D12="I",MIN('Datos pp I Región'!$K$7:$K$9),D12="II",MIN('Datos pp II Región'!$K$7:$K$9),D12="III",MIN('Datos pp III Región'!$K$7:$K$9),D12="IV",MIN('Datos pp IV Región'!$K$7:$K$9),D12="V",MIN('Datos pp V Región'!$K$7:$K$9),D12="RM",MIN('Datos pp RM'!$K$7:$K$9),D12="VI",MIN('Datos pp VI Región'!$K$7:$K$9))} -> 22 | AH12: {=_xlfn.IFS(Z12="Pavimentado",1-(AG12/(4*365)),Z12="No Pavimentado",1-(AG12/365))} -> 0.98493151 | AI12: {=_xlfn.IFS(Z12="Pavimentado",8,Z12="No Pavimentado",R12)} -> 8 | AJ12: 0.15 | AK12: 0.62 | AL12: 0.15 | AM12: 1.5 | AO12: {=_xlfn.IFS($Z12=$AT$3,AJ12*($X12)^(0.91)*(8*1.1023)^1.02,$Z12=$AT$4,AL12*281.9*(8.5/12)^0.9*(4/2.72)^0.45)} -> 0.31939355 | AP12: {=_xlfn.IFS($Z12=$AT$3,AK12*($X12)^(0.91)*(8*1.1023)^1.02,$Z12=$AT$4,AM12*281.9*(8.5/12)^0.9*(4/2.72)^0.45)} -> 1.32016 | AQ12: {=_xlfn.IFS(Z12=$AT$3,(AF12*AO12*AH12)/1000000,Z12=$AT$4,(AF12*AH12*AO12*(1-AN12))/1000000)} -> 0.0027597204 | AR12: {=_xlfn.IFS(Z12=$AT$3,(AF12*AP12*AH12)/1000000,Z12=$AT$4,(AF12*AH12*AP12*(1-AN12))/1000000)} -> 0.011406844
A13: 2 | B13: ESCENARIO B | C13: LOS PELAMBRES LICITACION | D13: V | E13: Catemu | F13: 2.Pavimentado-Chagres a Mina Los Pelambres | G13: MINERA SUR ANDES - FUNDICION CHAGRES - CHAGRES | H13: MLP - LOS PELAMBRES | I13: H2SO4 | J13: 80 | K13: Ton/semana | L13: El ritmo o frecuencia de viajes estará determinado por el programa de consumo que entregue la Minera. | M13: - | N13: PATRICIO TORRES REVISADA | O13: 4160 | P13: 8.335 | Q13: 19.03 | R13: 27.364 | S13: 218.60221 | T13: 288.495 | U13: 0 | V13: 288.495 | W13: 2P-CMLP-D37E | X13: 0.2 | Y13: Transporte H2SO4 | Z13: Pavimentado | AA13: Camión Combustible | AB13: 12478.546 | AC13: 12.478546 | AD13: 2 | AE13: Si | AF13: =IF(AE13="Si",AC13*S13*2,AC13*S13) -> 5455.6754 | AG13: {=_xlfn.IFS(D13="I",MIN('Datos pp I Región'!$K$7:$K$9),D13="II",MIN('Datos pp II Región'!$K$7:$K$9),D13="III",MIN('Datos pp III Región'!$K$7:$K$9),D13="IV",MIN('Datos pp IV Región'!$K$7:$K$9),D13="V",MIN('Datos pp V Región'!$K$7:$K$9),D13="RM",MIN('Datos pp RM'!$K$7:$K$9),D13="VI",MIN('Datos pp VI Región'!$K$7:$K$9))} -> 22 | AH13: {=_xlfn.IFS(Z13="Pavimentado",1-(AG13/(4*365)),Z13="No Pavimentado",1-(AG13/365))} -> 0.98493151 | AI13: {=_xlfn.IFS(Z13="Pavimentado",8,Z13="No Pavimentado",R13)} -> 8 | AJ13: 0.15 | AK13: 0.62 | AL13: 0.15 | AM13: 1.5 | AO13: {=_xlfn.IFS($Z13=$AT$3,AJ13*($X13)^(0.91)*(8*1.1023)^1.02,$Z13=$AT$4,AL13*281.9*(8.5/12)^0.9*(4/2.72)^0.45)} -> 0.31939355 | AP13: {=_xlfn.IFS($Z13=$AT$3,AK13*($X13)^(0.91)*(8*1.1023)^1.02,$Z13=$AT$4,AM13*281.9*(8.5/12)^0.9*(4/2.72)^0.45)} -> 1.32016 | AQ13: {=_xlfn.IFS(Z13=$AT$3,(AF13*AO13*AH13)/1000000,Z13=$AT$4,(AF13*AH13*AO13*(1-AN13))/1000000)} -> 0.0017162506 | AR13: {=_xlfn.IFS(Z13=$AT$3,(AF13*AP13*AH13)/1000000,Z13=$AT$4,(AF13*AH13*AP13*(1-AN13))/1000000)} -> 0.0070938357
A14: 2 | B14: ESCENARIO B | C14: LOS PELAMBRES LICITACION | D14: V | E14: Catemu | F14: 2.Pavimentado-Chagres a Mina Los Pelambres | G14: MINERA SUR ANDES - FUNDICION CHAGRES - CHAGRES | H14: MLP - LOS PELAMBRES | I14: H2SO4 | J14: 80 | K14: Ton/semana | L14: El ritmo o frecuencia de viajes estará determinado por el programa de consumo que entregue la Minera. | M14: - | N14: PATRICIO TORRES REVISADA | O14: 4160 | P14: 8.335 | Q14: 19.03 | R14: 27.364 | S14: 218.60221 | T14: 288.495 | U14: 0 | V14: 288.495 | W14: 2P-CMLP-D867 | X14: 0.2 | Y14: Transporte H2SO4 | Z14: Pavimentado | AA14: Camión Combustible | AB14: 6244.8906 | AC14: 6.244891 | AD14: 2 | AE14: Si | AF14: =IF(AE14="Si",AC14*S14*2,AC14*S14) -> 2730.2939 | AG14: {=_xlfn.IFS(D14="I",MIN('Datos pp I Región'!$K$7:$K$9),D14="II",MIN('Datos pp II Región'!$K$7:$K$9),D14="III",MIN('Datos pp III Región'!$K$7:$K$9),D14="IV",MIN('Datos pp IV Región'!$K$7:$K$9),D14="V",MIN('Datos pp V Región'!$K$7:$K$9),D14="RM",MIN('Datos pp RM'!$K$7:$K$9),D14="VI",MIN('Datos pp VI Región'!$K$7:$K$9))} -> 22 | AH14: {=_xlfn.IFS(Z14="Pavimentado",1-(AG14/(4*365)),Z14="No Pavimentado",1-(AG14/365))} -> 0.98493151 | AI14: {=_xlfn.IFS(Z14="Pavimentado",8,Z14="No Pavimentado",R14)} -> 8 | AJ14: 0.15 | AK14: 0.62 | AL14: 0.15 | AM14: 1.5 | AO14: {=_xlfn.IFS($Z14=$AT$3,AJ14*($X14)^(0.91)*(8*1.1023)^1.02,$Z14=$AT$4,AL14*281.9*(8.5/12)^0.9*(4/2.72)^0.45)} -> 0.31939355 | AP14: {=_xlfn.IFS($Z14=$AT$3,AK14*($X14)^(0.91)*(8*1.1023)^1.02,$Z14=$AT$4,AM14*281.9*(8.5/12)^0.9*(4/2.72)^0.45)} -> 1.32016 | AQ14: {=_xlfn.IFS(Z14=$AT$3,(AF14*AO14*AH14)/1000000,Z14=$AT$4,(AF14*AH14*AO14*(1-AN14))/1000000)} -> 0.00085889797 | AR14: {=_xlfn.IFS(Z14=$AT$3,(AF14*AP14*AH14)/1000000,Z14=$AT$4,(AF14*AH14*AP14*(1-AN14))/1000000)} -> 0.0035501116
A15: 2 | B15: ESCENARIO B | C15: LOS PELAMBRES LICITACION | D15: V | E15: Catemu | F15: 2.Pavimentado-Chagres a Mina Los Pelambres | G15: MINERA SUR ANDES - FUNDICION CHAGRES - CHAGRES | H15: MLP - LOS PELAMBRES | I15: H2SO4 | J15: 80 | K15: Ton/semana | L15: El ritmo o frecuencia de viajes estará determinado por el programa de consumo que entregue la Minera. | M15: - | N15: PATRICIO TORRES REVISADA | O15: 4160 | P15: 8.335 | Q15: 19.03 | R15: 27.364 | S15: 218.60221 | T15: 288.495 | U15: 0 | V15: 288.495 | W15: 2P-CMLP-D835 | X15: 0.2 | Y15: Transporte H2SO4 | Z15: Pavimentado | AA15: Camión Combustible | AB15: 60499.613 | AC15: 60.499613 | AD15: 2 | AE15: Si | AF15: =IF(AE15="Si",AC15*S15*2,AC15*S15) -> 26450.698 | AG15: {=_xlfn.IFS(D15="I",MIN('Datos pp I Región'!$K$7:$K$9),D15="II",MIN('Datos pp II Región'!$K$7:$K$9),D15="III",MIN('Datos pp III Región'!$K$7:$K$9),D15="IV",MIN('Datos pp IV Región'!$K$7:$K$9),D15="V",MIN('Datos pp V Región'!$K$7:$K$9),D15="RM",MIN('Datos pp RM'!$K$7:$K$9),D15="VI",MIN('Datos pp VI Región'!$K$7:$K$9))} -> 22 | AH15: {=_xlfn.IFS(Z15="Pavimentado",1-(AG15/(4*365)),Z15="No Pavimentado",1-(AG15/365))} -> 0.98493151 | AI15: {=_xlfn.IFS(Z15="Pavimentado",8,Z15="No Pavimentado",R15)} -> 8 | AJ15: 0.15 | AK15: 0.62 | AL15: 0.15 | AM15: 1.5 | AO15: {=_xlfn.IFS($Z15=$AT$3,AJ15*($X15)^(0.91)*(8*1.1023)^1.02,$Z15=$AT$4,AL15*281.9*(8.5/12)^0.9*(4/2.72)^0.45)} -> 0.31939355 | AP15: {=_xlfn.IFS($Z15=$AT$3,AK15*($X15)^(0.91)*(8*1.1023)^1.02,$Z15=$AT$4,AM15*281.9*(8.5/12)^0.9*(4/2.72)^0.45)} -> 1.32016 | AQ15: {=_xlfn.IFS(Z15=$AT$3,(AF15*AO15*AH15)/1000000,Z15=$AT$4,(AF15*AH15*AO15*(1-AN15))/1000000)} -> 0.008320881 | AR15: {=_xlfn.IFS(Z15=$AT$3,(AF15*AP15*AH15)/1000000,Z15=$AT$4,(AF15*AH15*AP15*(1-AN15))/1000000)} -> 0.034392975
A16: 2 | B16: ESCENARIO B | C16: LOS PELAMBRES LICITACION | D16: V | E16: Catemu | F16: 2.Pavimentado-Chagres a Mina Los Pelambres | G16: MINERA SUR ANDES - FUNDICION CHAGRES - CHAGRES | H16: MLP - LOS PELAMBRES | I16: H2SO4 | J16: 80 | K16: Ton/semana | L16: El ritmo o frecuencia de viajes estará determinado por el programa de consumo que entregue la Minera. | M16: - | N16: PATRICIO TORRES REVISADA | O16: 4160 | P16: 8.335 | Q16: 19.03 | R16: 27.364 | S16: 218.60221 | T16: 288.495 | U16: 0 | V16: 288.495 | W16: 2P-CMLP-RI | X16: 0.2 | Y16: Transporte H2SO4 | Z16: Pavimentado | AA16: Camión Combustible | AB16: 7189.2399 | AC16: 7.18924 | AD16: 2 | AE16: Si | AF16: =IF(AE16="Si",AC16*S16*2,AC16*S16) -> 3143.1675 | AG16: {=_xlfn.IFS(D16="I",MIN('Datos pp I Región'!$K$7:$K$9),D16="II",MIN('Datos pp II Región'!$K$7:$K$9),D16="III",MIN('Datos pp III Región'!$K$7:$K$9),D16="IV",MIN('Datos pp IV Región'!$K$7:$K$9),D16="V",MIN('Datos pp V Región'!$K$7:$K$9),D16="RM",MIN('Datos pp RM'!$K$7:$K$9),D16="VI",MIN('Datos pp VI Región'!$K$7:$K$9))} -> 22 | AH16: {=_xlfn.IFS(Z16="Pavimentado",1-(AG16/(4*365)),Z16="No Pavimentado",1-(AG16/365))} -> 0.98493151 | AI16: {=_xlfn.IFS(Z16="Pavimentado",8,Z16="No Pavimentado",R16)} -> 8 | AJ16: 0.15 | AK16: 0.62 | AL16: 0.15 | AM16: 1.5 | AO16: {=_xlfn.IFS($Z16=$AT$3,AJ16*($X16)^(0.91)*(8*1.1023)^1.02,$Z16=$AT$4,AL16*281.9*(8.5/12)^0.9*(4/2.72)^0.45)} -> 0.31939355 | AP16: {=_xlfn.IFS($Z16=$AT$3,AK16*($X16)^(0.91)*(8*1.1023)^1.02,$Z16=$AT$4,AM16*281.9*(8.5/12)^0.9*(4/2.72)^0.45)} -> 1.32016 | AQ16: {=_xlfn.IFS(Z16=$AT$3,(AF16*AO16*AH16)/1000000,Z16=$AT$4,(AF16*AH16*AO16*(1-AN16))/1000000)} -> 0.00098878005 | AR16: {=_xlfn.IFS(Z16=$AT$3,(AF16*AP16*AH16)/1000000,Z16=$AT$4,(AF16*AH16*AP16*(1-AN16))/1000000)} -> 0.0040869575
A17: 2 | B17: ESCENARIO B | C17: LOS PELAMBRES LICITACION | D17: V | E17: Catemu | F17: 2.Pavimentado-Chagres a Mina Los Pelambres | G17: MINERA SUR ANDES - FUNDICION CHAGRES - CHAGRES | H17: MLP - LOS PELAMBRES | I17: H2SO4 | J17: 80 | K17: Ton/semana | L17: El ritmo o frecuencia de viajes estará determinado por el programa de consumo que entregue la Minera. | M17: - | N17: PATRICIO TORRES REVISADA | O17: 4160 | P17: 8.335 | Q17: 19.03 | R17: 27.364 | S17: 218.60221 | T17: 288.495 | U17: 0 | V17: 288.495 | W17: 2NP-CMLP-RI | X17: 0.2 | Y17: Transporte H2SO4 | Z17: Pavimentado | AA17: Camión Combustible | AB17: 2333.9214 | AC17: 2.333921 | AD17: 2 | AE17: Si | AF17: =IF(AE17="Si",AC17*S17*2,AC17*S17) -> 1020.4006 | AG17: {=_xlfn.IFS(D17="I",MIN('Datos pp I Región'!$K$7:$K$9),D17="II",MIN('Datos pp II Región'!$K$7:$K$9),D17="III",MIN('Datos pp III Región'!$K$7:$K$9),D17="IV",MIN('Datos pp IV Región'!$K$7:$K$9),D17="V",MIN('Datos pp V Región'!$K$7:$K$9),D17="RM",MIN('Datos pp RM'!$K$7:$K$9),D17="VI",MIN('Datos pp VI Región'!$K$7:$K$9))} -> 22 | AH17: {=_xlfn.IFS(Z17="Pavimentado",1-(AG17/(4*365)),Z17="No Pavimentado",1-(AG17/365))} -> 0.98493151 | AI17: {=_xlfn.IFS(Z17="Pavimentado",8,Z17="No Pavimentado",R17)} -> 8 | AJ17: 0.15 | AK17: 0.62 | AL17: 0.15 | AM17: 1.5 | AO17: {=_xlfn.IFS($Z17=$AT$3,AJ17*($X17)^(0.91)*(8*1.1023)^1.02,$Z17=$AT$4,AL17*281.9*(8.5/12)^0.9*(4/2.72)^0.45)} -> 0.31939355 | AP17: {=_xlfn.IFS($Z17=$AT$3,AK17*($X17)^(0.91)*(8*1.1023)^1.02,$Z17=$AT$4,AM17*281.9*(8.5/12)^0.9*(4/2.72)^0.45)} -> 1.32016 | AQ17: {=_xlfn.IFS(Z17=$AT$3,(AF17*AO17*AH17)/1000000,Z17=$AT$4,(AF17*AH17*AO17*(1-AN17))/1000000)} -> 0.0003209984 | AR17: {=_xlfn.IFS(Z17=$AT$3,(AF17*AP17*AH17)/1000000,Z17=$AT$4,(AF17*AH17*AP17*(1-AN17))/1000000)} -> 0.0013267934
A18: 3 | B18: ESCENARIO B | C18: ANGLO AMERICAN LICITACION | D18: V | E18: Catemu | F18: 3.Pavimentado-Fundicion Chagres a Los Bronces | G18: MINERA SUR ANDES - FUNDICION CHAGRES - CHAGRES | H18: ANGLO AMERICAN LOS BRONCES | I18: H2SO4 | J18: 11000 | K18: Ton/año | L18: 46227 | M18: - | N18: PATRICIO TORRES REVISADA | O18: 11000 | P18: 8.335 | Q18: 19.03 | R18: 27.364 | S18: 578.03468 | T18: 122.116 | U18: 28.428 | V18: 150.544 | W18: 3P-CLB-R05 | X18: 0.03 | Y18: Transporte H2SO4 | Z18: Pavimentado | AA18: Camión Combustible | AB18: 77787.506 | AC18: 77.787506 | AD18: 3 | AE18: Si | AF18: =IF(AE18="Si",AC18*S18*2,AC18*S18) -> 89927.753 | AG18: {=_xlfn.IFS(D18="I",MIN('Datos pp I Región'!$K$7:$K$9),D18="II",MIN('Datos pp II Región'!$K$7:$K$9),D18="III",MIN('Datos pp III Región'!$K$7:$K$9),D18="IV",MIN('Datos pp IV Región'!$K$7:$K$9),D18="V",MIN('Datos pp V Región'!$K$7:$K$9),D18="RM",MIN('Datos pp RM'!$K$7:$K$9),D18="VI",MIN('Datos pp VI Región'!$K$7:$K$9))} -> 22 | AH18: {=_xlfn.IFS(Z18="Pavimentado",1-(AG18/(4*365)),Z18="No Pavimentado",1-(AG18/365))} -> 0.98493151 | AI18: {=_xlfn.IFS(Z18="Pavimentado",8,Z18="No Pavimentado",R18)} -> 8 | AJ18: 0.15 | AK18: 0.62 | AL18: 0.15 | AM18: 1.5 | AO18: {=_xlfn.IFS($Z18=$AT$3,AJ18*($X18)^(0.91)*(8*1.1023)^1.02,$Z18=$AT$4,AL18*281.9*(8.5/12)^0.9*(4/2.72)^0.45)} -> 0.056828892 | AP18: {=_xlfn.IFS($Z18=$AT$3,AK18*($X18)^(0.91)*(8*1.1023)^1.02,$Z18=$AT$4,AM18*281.9*(8.5/12)^0.9*(4/2.72)^0.45)} -> 0.23489275 | AQ18: {=_xlfn.IFS(Z18=$AT$3,(AF18*AO18*AH18)/1000000,Z18=$AT$4,(AF18*AH18*AO18*(1-AN18))/1000000)} -> 0.0050334871 | AR18: {=_xlfn.IFS(Z18=$AT$3,(AF18*AP18*AH18)/1000000,Z18=$AT$4,(AF18*AH18*AP18*(1-AN18))/1000000)} -> 0.02080508
A19: 3 | B19: ESCENARIO B | C19: ANGLO AMERICAN LICITACION | D19: V | E19: Catemu | F19: 3.No pavimentado-Fundicion Chagres a Los Bronces | G19: MINERA SUR ANDES - FUNDICION CHAGRES - CHAGRES | H19: ANGLO AMERICAN LOS BRONCES | I19: H2SO4 | J19: 11000 | K19: Ton/año | L19: 46227 | M19: - | N19: PATRICIO TORRES REVISADA | O19: 11000 | P19: 8.335 | Q19: 19.03 | R19: 27.364 | S19: 578.03468 | T19: 122.116 | U19: 28.428 | V19: 150.544 | W19: 3NP-CLB-G245 | X19: 0 | Y19: Transporte H2SO4 | Z19: No Pavimentado | AA19: Camión Combustible | AB19: 28377.09 | AC19: 28.37709 | AD19: 3 | AE19: Si | AF19: =IF(AE19="Si",AC19*S19*2,AC19*S19) -> 32805.884 | AG19: {=_xlfn.IFS(D19="I",MIN('Datos pp I Región'!$K$7:$K$9),D19="II",MIN('Datos pp II Región'!$K$7:$K$9),D19="III",MIN('Datos pp III Región'!$K$7:$K$9),D19="IV",MIN('Datos pp IV Región'!$K$7:$K$9),D19="V",MIN('Datos pp V Región'!$K$7:$K$9),D19="RM",MIN('Datos pp RM'!$K$7:$K$9),D19="VI",MIN('Datos pp VI Región'!$K$7:$K$9))} -> 22 | AH19: {=_xlfn.IFS(Z19="Pavimentado",1-(AG19/(4*365)),Z19="No Pavimentado",1-(AG19/365))} -> 0.93972603 | AI19: {=_xlfn.IFS(Z19="Pavimentado",8,Z19="No Pavimentado",R19)} -> 27.364 | AJ19: 0.15 | AK19: 0.62 | AL19: 0.15 | AM19: 1.5 | AO19: {=_xlfn.IFS($Z19=$AT$3,AJ19*($X19)^(0.91)*(8*1.1023)^1.02,$Z19=$AT$4,AL19*281.9*(8.5/12)^0.9*(4/2.72)^0.45)} -> 36.878329 | AP19: {=_xlfn.IFS($Z19=$AT$3,AK19*($X19)^(0.91)*(8*1.1023)^1.02,$Z19=$AT$4,AM19*281.9*(8.5/12)^0.9*(4/2.72)^0.45)} -> 368.78329 | AQ19: {=_xlfn.IFS(Z19=$AT$3,(AF19*AO19*AH19)/1000000,Z19=$AT$4,(AF19*AH19*AO19*(1-AN19))/1000000)} -> 1.1369052 | AR19: {=_xlfn.IFS(Z19=$AT$3,(AF19*AP19*AH19)/1000000,Z19=$AT$4,(AF19*AH19*AP19*(1-AN19))/1000000)} -> 11.369052
A20: 3 | B20: ESCENARIO B | C20: ANGLO AMERICAN LICITACION | D20: V | E20: Catemu | F20: 3.Pavimentado-Fundicion Chagres a Los Bronces | G20: MINERA SUR ANDES - FUNDICION CHAGRES - CHAGRES | H20: ANGLO AMERICAN LOS BRONCES | I20: H2SO4 | J20: 11000 | K20: Ton/año | L20: 46227 | M20: - | N20: PATRICIO TORRES REVISADA | O20: 11000 | P20: 8.335 | Q20: 19.03 | R20: 27.364 | S20: 578.03468 | T20: 122.116 | U20: 28.428 | V20: 150.544 | W20: 3P-CLB-E60 | X20: 0.03 | Y20: Transporte H2SO4 | Z20: Pavimentado | AA20: Camión Combustible | AB20: 5579.0694 | AC20: 5.579069 | AD20: 3 | AE20: Si | AF20: =IF(AE20="Si",AC20*S20*2,AC20*S20) -> 6449.7908 | AG20: {=_xlfn.IFS(D20="I",MIN('Datos pp I Región'!$K$7:$K$9),D20="II",MIN('Datos pp II Región'!$K$7:$K$9),D20="III",MIN('Datos pp III Región'!$K$7:$K$9),D20="IV",MIN('Datos pp IV Región'!$K$7:$K$9),D20="V",MIN('Datos pp V Región'!$K$7:$K$9),D20="RM",MIN('Datos pp RM'!$K$7:$K$9),D20="VI",MIN('Datos pp VI Región'!$K$7:$K$9))} -> 22 | AH20: {=_xlfn.IFS(Z20="Pavimentado",1-(AG20/(4*365)),Z20="No Pavimentado",1-(AG20/365))} -> 0.98493151 | AI20: {=_xlfn.IFS(Z20="Pavimentado",8,Z20="No Pavimentado",R20)} -> 8 | AJ20: 0.15 | AK20: 0.62 | AL20: 0.15 | AM20: 1.5 | AO20: {=_xlfn.IFS($Z20=$AT$3,AJ20*($X20)^(0.91)*(8*1.1023)^1.02,$Z20=$AT$4,AL20*281.9*(8.5/12)^0.9*(4/2.72)^0.45)} -> 0.056828892 | AP20: {=_xlfn.IFS($Z20=$AT$3,AK20*($X20)^(0.91)*(8*1.1023)^1.02,$Z20=$AT$4,AM20*281.9*(8.5/12)^0.9*(4/2.72)^0.45)} -> 0.23489275 | AQ20: {=_xlfn.IFS(Z20=$AT$3,(AF20*AO20*AH20)/1000000,Z20=$AT$4,(AF20*AH20*AO20*(1-AN20))/1000000)} -> 0.00036101134 | AR20: {=_xlfn.IFS(Z20=$AT$3,(AF20*AP20*AH20)/1000000,Z20=$AT$4,(AF20*AH20*AP20*(1-AN20))/1000000)} -> 0.0014921802
A21: 3 | B21: ESCENARIO B | C21: ANGLO AMERICAN LICITACION | D21: V | E21: Catemu | F21: 3.Pavimentado-Fundicion Chagres a Los Bronces | G21: MINERA SUR ANDES - FUNDICION CHAGRES - CHAGRES | H21: ANGLO AMERICAN LOS BRONCES | I21: H2SO4 | J21: 11000 | K21: Ton/año | L21: 46227 | M21: - | N21: PATRICIO TORRES REVISADA | O21: 11000 | P21: 8.335 | Q21: 19.03 | R21: 27.364 | S21: 578.03468 | T21: 122.116 | U21: 28.428 | V21: 150.544 | W21: 3P-CLB-E65 | X21: 0.03 | Y21: Transporte H2SO4 | Z21: Pavimentado | AA21: Camión Combustible | AB21: 505.92508 | AC21: 0.505925 | AD21: 3 | AE21: Si | AF21: =IF(AE21="Si",AC21*S21*2,AC21*S21) -> 584.88439 | AG21: {=_xlfn.IFS(D21="I",MIN('Datos pp I Región'!$K$7:$K$9),D21="II",MIN('Datos pp II Región'!$K$7:$K$9),D21="III",MIN('Datos pp III Región'!$K$7:$K$9),D21="IV",MIN('Datos pp IV Región'!$K$7:$K$9),D21="V",MIN('Datos pp V Región'!$K$7:$K$9),D21="RM",MIN('Datos pp RM'!$K$7:$K$9),D21="VI",MIN('Datos pp VI Región'!$K$7:$K$9))} -> 22 | AH21: {=_xlfn.IFS(Z21="Pavimentado",1-(AG21/(4*365)),Z21="No Pavimentado",1-(AG21/365))} -> 0.98493151 | AI21: {=_xlfn.IFS(Z21="Pavimentado",8,Z21="No Pavimentado",R21)} -> 8 | AJ21: 0.15 | AK21: 0.62 | AL21: 0.15 | AM21: 1.5 | AO21: {=_xlfn.IFS($Z21=$AT$3,AJ21*($X21)^(0.91)*(8*1.1023)^1.02,$Z21=$AT$4,AL21*281.9*(8.5/12)^0.9*(4/2.72)^0.45)} -> 0.056828892 | AP21: {=_xlfn.IFS($Z21=$AT$3,AK21*($X21)^(0.91)*(8*1.1023)^1.02,$Z21=$AT$4,AM21*281.9*(8.5/12)^0.9*(4/2.72)^0.45)} -> 0.23489275 | AQ21: {=_xlfn.IFS(Z21=$AT$3,(AF21*AO21*AH21)/1000000,Z21=$AT$4,(AF21*AH21*AO21*(1-AN21))/1000000)} -> 3.2737481e-05 | AR21: {=_xlfn.IFS(Z21=$AT$3,(AF21*AP21*AH21)/1000000,Z21=$AT$4,(AF21*AH21*AP21*(1-AN21))/1000000)} -> 0.00013531492
A22: 3 | B22: ESCENARIO B | C22: ANGLO AMERICAN LICITACION | D22: V | E22: Catemu | F22: 3.Pavimentado-Fundicion Chagres a Los Bronces | G22: MINERA SUR ANDES - FUNDICION CHAGRES - CHAGRES | H22: ANGLO AMERICAN LOS BRONCES | I22: H2SO4 | J22: 11000 | K22: Ton/año | L22: 46227 | M22: - | N22: PATRICIO TORRES REVISADA | O22: 11000 | P22: 8.335 | Q22: 19.03 | R22: 27.364 | S22: 578.03468 | T22: 122.116 | U22: 28.428 | V22: 150.544 | W22: 3P-CLB-R70 | X22: 0.2 | Y22: Transporte H2SO4 | Z22: Pavimentado | AA22: Camión Combustible | AB22: 10346.447 | AC22: 10.346447 | AD22: 3 | AE22: Si | AF22: =IF(AE22="Si",AC22*S22*2,AC22*S22) -> 11961.21 | AG22: {=_xlfn.IFS(D22="I",MIN('Datos pp I Región'!$K$7:$K$9),D22="II",MIN('Datos pp II Región'!$K$7:$K$9),D22="III",MIN('Datos pp III Región'!$K$7:$K$9),D22="IV",MIN('Datos pp IV Región'!$K$7:$K$9),D22="V",MIN('Datos pp V Región'!$K$7:$K$9),D22="RM",MIN('Datos pp RM'!$K$7:$K$9),D22="VI",MIN('Datos pp VI Región'!$K$7:$K$9))} -> 22 | AH22: {=_xlfn.IFS(Z22="Pavimentado",1-(AG22/(4*365)),Z22="No Pavimentado",1-(AG22/365))} -> 0.98493151 | AI22: {=_xlfn.IFS(Z22="Pavimentado",8,Z22="No Pavimentado",R22)} -> 8 | AJ22: 0.15 | AK22: 0.62 | AL22: 0.15 | AM22: 1.5 | AO22: {=_xlfn.IFS($Z22=$AT$3,AJ22*($X22)^(0.91)*(8*1.1023)^1.02,$Z22=$AT$4,AL22*281.9*(8.5/12)^0.9*(4/2.72)^0.45)} -> 0.31939355 | AP22: {=_xlfn.IFS($Z22=$AT$3,AK22*($X22)^(0.91)*(8*1.1023)^1.02,$Z22=$AT$4,AM22*281.9*(8.5/12)^0.9*(4/2.72)^0.45)} -> 1.32016 | AQ22: {=_xlfn.IFS(Z22=$AT$3,(AF22*AO22*AH22)/1000000,Z22=$AT$4,(AF22*AH22*AO22*(1-AN22))/1000000)} -> 0.0037627668 | AR22: {=_xlfn.IFS(Z22=$AT$3,(AF22*AP22*AH22)/1000000,Z22=$AT$4,(AF22*AH22*AP22*(1-AN22))/1000000)} -> 0.01555277
A23: 3 | B23: ESCENARIO B | C23: ANGLO AMERICAN LICITACION | D23: V | E23: Catemu | F23: 3.Pavimentado-Fundicion Chagres a Los Bronces | G23: MINERA SUR ANDES - FUNDICION CHAGRES - CHAGRES | H23: ANGLO AMERICAN LOS BRONCES | I23: H2SO4 | J23: 11000 | K23: Ton/año | L23: 46227 | M23: - | N23: PATRICIO TORRES REVISADA | O23: 11000 | P23: 8.335 | Q23: 19.03 | R23: 27.364 | S23: 578.03468 | T23: 122.116 | U23: 28.428 | V23: 150.544 | W23: 3P-CLB-ACN | X23: 0.2 | Y23: Transporte H2SO4 | Z23: Pavimentado | AA23: Camión Combustible | AB23: 9945.2675 | AC23: 9.945267 | AD23: 3 | AE23: Si | AF23: =IF(AE23="Si",AC23*S23*2,AC23*S23) -> 11497.418 | AG23: {=_xlfn.IFS(D23="I",MIN('Datos pp I Región'!$K$7:$K$9),D23="II",MIN('Datos pp II Región'!$K$7:$K$9),D23="III",MIN('Datos pp III Región'!$K$7:$K$9),D23="IV",MIN('Datos pp IV Región'!$K$7:$K$9),D23="V",MIN('Datos pp V Región'!$K$7:$K$9),D23="RM",MIN('Datos pp RM'!$K$7:$K$9),D23="VI",MIN('Datos pp VI Región'!$K$7:$K$9))} -> 22 | AH23: {=_xlfn.IFS(Z23="Pavimentado",1-(AG23/(4*365)),Z23="No Pavimentado",1-(AG23/365))} -> 0.98493151 | AI23: {=_xlfn.IFS(Z23="Pavimentado",8,Z23="No Pavimentado",R23)} -> 8 | AJ23: 0.15 | AK23: 0.62 | AL23: 0.15 | AM23: 1.5 | AO23: {=_xlfn.IFS($Z23=$AT$3,AJ23*($X23)^(0.91)*(8*1.1023)^1.02,$Z23=$AT$4,AL23*281.9*(8.5/12)^0.9*(4/2.72)^0.45)} -> 0.31939355 | AP23: {=_xlfn.IFS($Z23=$AT$3,AK23*($X23)^(0.91)*(8*1.1023)^1.02,$Z23=$AT$4,AM23*281.9*(8.5/12)^0.9*(4/2.72)^0.45)} -> 1.32016 | AQ23: {=_xlfn.IFS(Z23=$AT$3,(AF23*AO23*AH23)/1000000,Z23=$AT$4,(AF23*AH23*AO23*(1-AN23))/1000000)} -> 0.0036168668 | AR23: {=_xlfn.IFS(Z23=$AT$3,(AF23*AP23*AH23)/1000000,Z23=$AT$4,(AF23*AH23*AP23*(1-AN23))/1000000)} -> 0.014949716
A24: 3 | B24: ESCENARIO B | C24: ANGLO AMERICAN LICITACION | D24: V | E24: Catemu | F24: 3.Pavimentado-Fundicion Chagres a Los Bronces | G24: MINERA SUR ANDES - FUNDICION CHAGRES - CHAGRES | H24: ANGLO AMERICAN LOS BRONCES | I24: H2SO4 | J24: 11000 | K24: Ton/año | L24: 46227 | M24: - | N24: PATRICIO TORRES REVISADA | O24: 11000 | P24: 8.335 | Q24: 19.03 | R24: 27.364 | S24: 578.03468 | T24: 122.116 | U24: 28.428 | V24: 150.544 | W24: 3P-CLB-ALD | X24: 0.2 | Y24: Transporte H2SO4 | Z24: Pavimentado | AA24: Camión Combustible | AB24: 562.11287 | AC24: 0.562113 | AD24: 3 | AE24: Si | AF24: =IF(AE24="Si",AC24*S24*2,AC24*S24) -> 649.84162 | AG24: {=_xlfn.IFS(D24="I",MIN('Datos pp I Región'!$K$7:$K$9),D24="II",MIN('Datos pp II Región'!$K$7:$K$9),D24="III",MIN('Datos pp III Región'!$K$7:$K$9),D24="IV",MIN('Datos pp IV Región'!$K$7:$K$9),D24="V",MIN('Datos pp V Región'!$K$7:$K$9),D24="RM",MIN('Datos pp RM'!$K$7:$K$9),D24="VI",MIN('Datos pp VI Región'!$K$7:$K$9))} -> 22 | AH24: {=_xlfn.IFS(Z24="Pavimentado",1-(AG24/(4*365)),Z24="No Pavimentado",1-(AG24/365))} -> 0.98493151 | AI24: {=_xlfn.IFS(Z24="Pavimentado",8,Z24="No Pavimentado",R24)} -> 8 | AJ24: 0.15 | AK24: 0.62 | AL24: 0.15 | AM24: 1.5 | AO24: {=_xlfn.IFS($Z24=$AT$3,AJ24*($X24)^(0.91)*(8*1.1023)^1.02,$Z24=$AT$4,AL24*281.9*(8.5/12)^0.9*(4/2.72)^0.45)} -> 0.31939355 | AP24: {=_xlfn.IFS($Z24=$AT$3,AK24*($X24)^(0.91)*(8*1.1023)^1.02,$Z24=$AT$4,AM24*281.9*(8.5/12)^0.9*(4/2.72)^0.45)} -> 1.32016 | AQ24: {=_xlfn.IFS(Z24=$AT$3,(AF24*AO24*AH24)/1000000,Z24=$AT$4,(AF24*AH24*AO24*(1-AN24))/1000000)} -> 0.00020442768 | AR24: {=_xlfn.IFS(Z24=$AT$3,(AF24*AP24*AH24)/1000000,Z24=$AT$4,(AF24*AH24*AP24*(1-AN24))/1000000)} -> 0.00084496774
A25: 3 | B25: ESCENARIO B | C25: ANGLO AMERICAN LICITACION | D25: V | E25: Catemu | F25: 3.Pavimentado-Fundicion Chagres a Los Bronces | G25: MINERA SUR ANDES - FUNDICION CHAGRES - CHAGRES | H25: ANGLO AMERICAN LOS BRONCES | I25: H2SO4 | J25: 11000 | K25: Ton/año | L25: 46227 | M25: - | N25: PATRICIO TORRES REVISADA | O25: 11000 | P25: 8.335 | Q25: 19.03 | R25: 27.364 | S25: 578.03468 | T25: 122.116 | U25: 28.428 | V25: 150.544 | W25: 3P-CLB-ALC | X25: 0.2 | Y25: Transporte H2SO4 | Z25: Pavimentado | AA25: Camión Combustible | AB25: 1207.6235 | AC25: 1.207624 | AD25: 3 | AE25: Si | AF25: =IF(AE25="Si",AC25*S25*2,AC25*S25) -> 1396.0971 | AG25: {=_xlfn.IFS(D25="I",MIN('Datos pp I Región'!$K$7:$K$9),D25="II",MIN('Datos pp II Región'!$K$7:$K$9),D25="III",MIN('Datos pp III Región'!$K$7:$K$9),D25="IV",MIN('Datos pp IV Región'!$K$7:$K$9),D25="V",MIN('Datos pp V Región'!$K$7:$K$9),D25="RM",MIN('Datos pp RM'!$K$7:$K$9),D25="VI",MIN('Datos pp VI Región'!$K$7:$K$9))} -> 22 | AH25: {=_xlfn.IFS(Z25="Pavimentado",1-(AG25/(4*365)),Z25="No Pavimentado",1-(AG25/365))} -> 0.98493151 | AI25: {=_xlfn.IFS(Z25="Pavimentado",8,Z25="No Pavimentado",R25)} -> 8 | AJ25: 0.15 | AK25: 0.62 | AL25: 0.15 | AM25: 1.5 | AO25: {=_xlfn.IFS($Z25=$AT$3,AJ25*($X25)^(0.91)*(8*1.1023)^1.02,$Z25=$AT$4,AL25*281.9*(8.5/12)^0.9*(4/2.72)^0.45)} -> 0.31939355 | AP25: {=_xlfn.IFS($Z25=$AT$3,AK25*($X25)^(0.91)*(8*1.1023)^1.02,$Z25=$AT$4,AM25*281.9*(8.5/12)^0.9*(4/2.72)^0.45)} -> 1.32016 | AQ25: {=_xlfn.IFS(Z25=$AT$3,(AF25*AO25*AH25)/1000000,Z25=$AT$4,(AF25*AH25*AO25*(1-AN25))/1000000)} -> 0.00043918531 | AR25: {=_xlfn.IFS(Z25=$AT$3,(AF25*AP25*AH25)/1000000,Z25=$AT$4,(AF25*AH25*AP25*(1-AN25))/1000000)} -> 0.0018152993
A26: 3 | B26: ESCENARIO B | C26: ANGLO AMERICAN LICITACION | D26: V | E26: Catemu | F26: 3.Pavimentado-Fundicion Chagres a Los Bronces | G26: MINERA SUR ANDES - FUNDICION CHAGRES - CHAGRES | H26: ANGLO AMERICAN LOS BRONCES | I26: H2SO4 | J26: 11000 | K26: Ton/año | L26: 46227 | M26: - | N26: PATRICIO TORRES REVISADA | O26: 11000 | P26: 8.335 | Q26: 19.03 | R26: 27.364 | S26: 578.03468 | T26: 122.116 | U26: 28.428 | V26: 150.544 | W26: 3P-CLB-CAF | X26: 0.2 | Y26: Transporte H2SO4 | Z26: Pavimentado | AA26: Camión Combustible | AB26: 16126.861 | AC26: 16.126861 | AD26: 3 | AE26: Si | AF26: =IF(AE26="Si",AC26*S26*2,AC26*S26) -> 18643.77 | AG26: {=_xlfn.IFS(D26="I",MIN('Datos pp I Región'!$K$7:$K$9),D26="II",MIN('Datos pp II Región'!$K$7:$K$9),D26="III",MIN('Datos pp III Región'!$K$7:$K$9),D26="IV",MIN('Datos pp IV Región'!$K$7:$K$9),D26="V",MIN('Datos pp V Región'!$K$7:$K$9),D26="RM",MIN('Datos pp RM'!$K$7:$K$9),D26="VI",MIN('Datos pp VI Región'!$K$7:$K$9))} -> 22 | AH26: {=_xlfn.IFS(Z26="Pavimentado",1-(AG26/(4*365)),Z26="No Pavimentado",1-(AG26/365))} -> 0.98493151 | AI26: {=_xlfn.IFS(Z26="Pavimentado",8,Z26="No Pavimentado",R26)} -> 8 | AJ26: 0.15 | AK26: 0.62 | AL26: 0.15 | AM26: 1.5 | AO26: {=_xlfn.IFS($Z26=$AT$3,AJ26*($X26)^(0.91)*(8*1.1023)^1.02,$Z26=$AT$4,AL26*281.9*(8.5/12)^0.9*(4/2.72)^0.45)} -> 0.31939355 | AP26: {=_xlfn.IFS($Z26=$AT$3,AK26*($X26)^(0.91)*(8*1.1023)^1.02,$Z26=$AT$4,AM26*281.9*(8.5/12)^0.9*(4/2.72)^0.45)} -> 1.32016 | AQ26: {=_xlfn.IFS(Z26=$AT$3,(AF26*AO26*AH26)/1000000,Z26=$AT$4,(AF26*AH26*AO26*(1-AN26))/1000000)} -> 0.0058649716 | AR26: {=_xlfn.IFS(Z26=$AT$3,(AF26*AP26*AH26)/1000000,Z26=$AT$4,(AF26*AH26*AP26*(1-AN26))/1000000)} -> 0.024241882
A27: 4 | B27: ESCENARIO B | C27: ANGLO AMERICAN LICITACION | D27: V | E27: Catemu | F27: 4.Pavimentado.Chagres a Codelco Andina | G27: MINERA SUR ANDES - FUNDICION CHAGRES - CHAGRES | H27: CODELCO ANDINA | I27: H2SO4 | J27: 11000 | K27: Ton/año | L27: 46227 | M27: - | N27: PATRICIO TORRES REVISADA | O27: 11000 | P27: 8.335 | Q27: 19.03 | R27: 27.364 | S27: 578.03468 | T27: 78.649 | U27: 0 | V27: 78.649 | W27: 4P-CCA-E65 | X27: 0.03 | Y27: Transporte H2SO4 | Z27: Pavimentado | AA27: Camión Combustible | AB27: 793.77038 | AC27: 0.79377 | AD27: 4 | AE27: Si | AF27: =IF(AE27="Si",AC27*S27*2,AC27*S27) -> 917.65318 | AG27: {=_xlfn.IFS(D27="I",MIN('Datos pp I Región'!$K$7:$K$9),D27="II",MIN('Datos pp II Región'!$K$7:$K$9),D27="III",MIN('Datos pp III Región'!$K$7:$K$9),D27="IV",MIN('Datos pp IV Región'!$K$7:$K$9),D27="V",MIN('Datos pp V Región'!$K$7:$K$9),D27="RM",MIN('Datos pp RM'!$K$7:$K$9),D27="VI",MIN('Datos pp VI Región'!$K$7:$K$9))} -> 22 | AH27: {=_xlfn.IFS(Z27="Pavimentado",1-(AG27/(4*365)),Z27="No Pavimentado",1-(AG27/365))} -> 0.98493151 | AI27: {=_xlfn.IFS(Z27="Pavimentado",8,Z27="No Pavimentado",R27)} -> 8 | AJ27: 0.15 | AK27: 0.62 | AL27: 0.15 | AM27: 1.5 | AO27: {=_xlfn.IFS($Z27=$AT$3,AJ27*($X27)^(0.91)*(8*1.1023)^1.02,$Z27=$AT$4,AL27*281.9*(8.5/12)^0.9*(4/2.72)^0.45)} -> 0.056828892 | AP27: {=_xlfn.IFS($Z27=$AT$3,AK27*($X27)^(0.91)*(8*1.1023)^1.02,$Z27=$AT$4,AM27*281.9*(8.5/12)^0.9*(4/2.72)^0.45)} -> 0.23489275 | AQ27: {=_xlfn.IFS(Z27=$AT$3,(AF27*AO27*AH27)/1000000,Z27=$AT$4,(AF27*AH27*AO27*(1-AN27))/1000000)} -> 5.1363404e-05 | AR27: {=_xlfn.IFS(Z27=$AT$3,(AF27*AP27*AH27)/1000000,Z27=$AT$4,(AF27*AH27*AP27*(1-AN27))/1000000)} -> 0.00021230207
A28: 4 | B28: ESCENARIO B | C28: ANGLO AMERICAN LICITACION | D28: V | E28: Catemu | F28: 4.Pavimentado.Chagres a Codelco Andina | G28: MINERA SUR ANDES - FUNDICION CHAGRES - CHAGRES | H28: CODELCO ANDINA | I28: H2SO4 | J28: 11000 | K28: Ton/año | L28: 46227 | M28: - | N28: PATRICIO TORRES REVISADA | O28: 11000 | P28: 8.335 | Q28: 19.03 | R28: 27.364 | S28: 578.03468 | T28: 78.649 | U28: 0 | V28: 78.649 | W28: 4P-CCA-E60 | X28: 0.03 | Y28: Transporte H2SO4 | Z28: Pavimentado | AA28: Camión Combustible | AB28: 75588.422 | AC28: 75.588422 | AD28: 4 | AE28: Si | AF28: =IF(AE28="Si",AC28*S28*2,AC28*S28) -> 87385.459 | AG28: {=_xlfn.IFS(D28="I",MIN('Datos pp I Región'!$K$7:$K$9),D28="II",MIN('Datos pp II Región'!$K$7:$K$9),D28="III",MIN('Datos pp III Región'!$K$7:$K$9),D28="IV",MIN('Datos pp IV Región'!$K$7:$K$9),D28="V",MIN('Datos pp V Región'!$K$7:$K$9),D28="RM",MIN('Datos pp RM'!$K$7:$K$9),D28="VI",MIN('Datos pp VI Región'!$K$7:$K$9))} -> 22 | AH28: {=_xlfn.IFS(Z28="Pavimentado",1-(AG28/(4*365)),Z28="No Pavimentado",1-(AG28/365))} -> 0.98493151 | AI28: {=_xlfn.IFS(Z28="Pavimentado",8,Z28="No Pavimentado",R28)} -> 8 | AJ28: 0.15 | AK28: 0.62 | AL28: 0.15 | AM28: 1.5 | AO28: {=_xlfn.IFS($Z28=$AT$3,AJ28*($X28)^(0.91)*(8*1.1023)^1.02,$Z28=$AT$4,AL28*281.9*(8.5/12)^0.9*(4/2.72)^0.45)} -> 0.056828892 | AP28: {=_xlfn.IFS($Z28=$AT$3,AK28*($X28)^(0.91)*(8*1.1023)^1.02,$Z28=$AT$4,AM28*281.9*(8.5/12)^0.9*(4/2.72)^0.45)} -> 0.23489275 | AQ28: {=_xlfn.IFS(Z28=$AT$3,(AF28*AO28*AH28)/1000000,Z28=$AT$4,(AF28*AH28*AO28*(1-AN28))/1000000)} -> 0.0048911884 | AR28: {=_xlfn.IFS(Z28=$AT$3,(AF28*AP28*AH28)/1000000,Z28=$AT$4,(AF28*AH28*AP28*(1-AN28))/1000000)} -> 0.020216912
A29: 4 | B29: ESCENARIO B | C29: ANGLO AMERICAN LICITACION | D29: V | E29: Catemu | F29: 4.Pavimentado.Chagres a Codelco Andina | G29: MINERA SUR ANDES - FUNDICION CHAGRES - CHAGRES | H29: CODELCO ANDINA | I29: H2SO4 | J29: 11000 | K29: Ton/año | L29: 46227 | M29: - | N29: PATRICIO TORRES REVISADA | O29: 11000 | P29: 8.335 | Q29: 19.03 | R29: 27.364 | S29: 578.03468 | T29: 78.649 | U29: 0 | V29: 78.649 | W29: 4P-CCA-E767 | X29: 0.2 | Y29: Transporte H2SO4 | Z29: Pavimentado | AA29: Camión Combustible | AB29: 2300.313 | AC29: 2.300313 | AD29: 4 | AE29: Si | AF29: =IF(AE29="Si",AC29*S29*2,AC29*S29) -> 2659.3214 | AG29: {=_xlfn.IFS(D29="I",MIN('Datos pp I Región'!$K$7:$K$9),D29="II",MIN('Datos pp II Región'!$K$7:$K$9),D29="III",MIN('Datos pp III Región'!$K$7:$K$9),D29="IV",MIN('Datos pp IV Región'!$K$7:$K$9),D29="V",MIN('Datos pp V Región'!$K$7:$K$9),D29="RM",MIN('Datos pp RM'!$K$7:$K$9),D29="VI",MIN('Datos pp VI Región'!$K$7:$K$9))} -> 22 | AH29: {=_xlfn.IFS(Z29="Pavimentado",1-(AG29/(4*365)),Z29="No Pavimentado",1-(AG29/365))} -> 0.98493151 | AI29: {=_xlfn.IFS(Z29="Pavimentado",8,Z29="No Pavimentado",R29)} -> 8 | AJ29: 0.15 | AK29: 0.62 | AL29: 0.15 | AM29: 1.5 | AO29: {=_xlfn.IFS($Z29=$AT$3,AJ29*($X29)^(0.91)*(8*1.1023)^1.02,$Z29=$AT$4,AL29*281.9*(8.5/12)^0.9*(4/2.72)^0.45)} -> 0.31939355 | AP29: {=_xlfn.IFS($Z29=$AT$3,AK29*($X29)^(0.91)*(8*1.1023)^1.02,$Z29=$AT$4,AM29*281.9*(8.5/12)^0.9*(4/2.72)^0.45)} -> 1.32016 | AQ29: {=_xlfn.IFS(Z29=$AT$3,(AF29*AO29*AH29)/1000000,Z29=$AT$4,(AF29*AH29*AO29*(1-AN29))/1000000)} -> 0.00083657138 | AR29: {=_xlfn.IFS(Z29=$AT$3,(AF29*AP29*AH29)/1000000,Z29=$AT$4,(AF29*AH29*AP29*(1-AN29))/1000000)} -> 0.0034578284
... A36: 5 | B36: ESCENARIO B | C36: MANTO VERDE LICITACION | D36: II | E36: Chañaral Zona de Carga Habitual | F36: 5.Pavimentado.Puerto Barquito a Mantoverde | G36: TERMINAL PUERTO BARQUITO | H36: MANTOVERDE | I36: H2SO4 | J36: 180000 | K36: Ton/año | L36: 46227 | M36: - | N36: CRISTIAN SCHWARTZ REVISADA | O36: 180000 | P36: 8.335 | Q36: 19.03 | R36: 27.364 | S36: 9458.7493 | T36: 58.308 | U36: 1.195 | V36: 59.503 | W36: 5P-PBMV-C227 | X36: 0.2 | Y36: Transporte H2SO4 | Z36: Pavimentado | AA36: Camión Combustible | AB36: 1248.4095 | AC36: 1.248409 | AD36: 5 | AE36: Si | AF36: =IF(AE36="Si",AC36*S36*2,AC36*S36) -> 23616.776 | AG36: {=_xlfn.IFS(D36="I",MIN('Datos pp I Región'!$K$7:$K$9),D36="II",MIN('Datos pp II Región'!$K$7:$K$9),D36="III",MIN('Datos pp III Región'!$K$7:$K$9),D36="IV",MIN('Datos pp IV Región'!$K$7:$K$9),D36="V",MIN('Datos pp V Región'!$K$7:$K$9),D36="RM",MIN('Datos pp RM'!$K$7:$K$9),D36="VI",MIN('Datos pp VI Región'!$K$7:$K$9))} -> 2 | AH36: {=_xlfn.IFS(Z36="Pavimentado",1-(AG36/(4*365)),Z36="No Pavimentado",1-(AG36/365))} -> 0.99863014 | AI36: {=_xlfn.IFS(Z36="Pavimentado",8,Z36="No Pavimentado",R36)} -> 8 | AJ36: 0.15 | AK36: 0.62 | AL36: 0.15 | AM36: 1.5 | AO36: {=_xlfn.IFS($Z36=$AT$3,AJ36*($X36)^(0.91)*(8*1.1023)^1.02,$Z36=$AT$4,AL36*281.9*(8.5/12)^0.9*(4/2.72)^0.45)} -> 0.31939355 | AP36: {=_xlfn.IFS($Z36=$AT$3,AK36*($X36)^(0.91)*(8*1.1023)^1.02,$Z36=$AT$4,AM36*281.9*(8.5/12)^0.9*(4/2.72)^0.45)} -> 1.32016 | AQ36: {=_xlfn.IFS(Z36=$AT$3,(AF36*AO36*AH36)/1000000,Z36=$AT$4,(AF36*AH36*AO36*(1-AN36))/1000000)} -> 0.0075327129 | AR36: {=_xlfn.IFS(Z36=$AT$3,(AF36*AP36*AH36)/1000000,Z36=$AT$4,(AF36*AH36*AP36*(1-AN36))/1000000)} -> 0.031135213
A37: 6 | B37: ESCENARIO B | C37: MANTO VERDE LICITACION | D37: II | E37: Paipote Zona de Contingencia | F37: 6.Pavimentado.Enami Paipote a Mantoverde | G37: ENAMI PAIPOTE | H37: MANTOVERDE | I37: H2SO4 | J37: 50000 (contingencia) | K37: Ton/año | L37: 46227 | M37: - | N37: CRISTIAN SCHWARTZ REVISADA | O37: 50000 | P37: 8.335 | Q37: 19.03 | R37: 27.364 | S37: 2627.4304 | T37: 184.831 | U37: 1.248 | V37: 186.079 | W37: 6P-EPMV-C17 | X37: 0.2 | Y37: Transporte H2SO4 | Z37: Pavimentado | AA37: Camión Combustible | AB37: 109079.42 | AC37: 109.07942 | AD37: 6 | AE37: Si | AF37: =IF(AE37="Si",AC37*S37*2,AC37*S37) -> 573197.15 | AG37: {=_xlfn.IFS(D37="I",MIN('Datos pp I Región'!$K$7:$K$9),D37="II",MIN('Datos pp II Región'!$K$7:$K$9),D37="III",MIN('Datos pp III Región'!$K$7:$K$9),D37="IV",MIN('Datos pp IV Región'!$K$7:$K$9),D37="V",MIN('Datos pp V Región'!$K$7:$K$9),D37="RM",MIN('Datos pp RM'!$K$7:$K$9),D37="VI",MIN('Datos pp VI Región'!$K$7:$K$9))} -> 2 | AH37: {=_xlfn.IFS(Z37="Pavimentado",1-(AG37/(4*365)),Z37="No Pavimentado",1-(AG37/365))} -> 0.99863014 | AI37: {=_xlfn.IFS(Z37="Pavimentado",8,Z37="No Pavimentado",R37)} -> 8 | AJ37: 0.15 | AK37: 0.62 | AL37: 0.15 | AM37: 1.5 | AO37: {=_xlfn.IFS($Z37=$AT$3,AJ37*($X37)^(0.91)*(8*1.1023)^1.02,$Z37=$AT$4,AL37*281.9*(8.5/12)^0.9*(4/2.72)^0.45)} -> 0.31939355 | AP37: {=_xlfn.IFS($Z37=$AT$3,AK37*($X37)^(0.91)*(8*1.1023)^1.02,$Z37=$AT$4,AM37*281.9*(8.5/12)^0.9*(4/2.72)^0.45)} -> 1.32016 | AQ37: {=_xlfn.IFS(Z37=$AT$3,(AF37*AO37*AH37)/1000000,Z37=$AT$4,(AF37*AH37*AO37*(1-AN37))/1000000)} -> 0.18282468 | AR37: {=_xlfn.IFS(Z37=$AT$3,(AF37*AP37*AH37)/1000000,Z37=$AT$4,(AF37*AH37*AP37*(1-AN37))/1000000)} -> 0.75567536
A38: 6 | B38: ESCENARIO B | C38: MANTO VERDE LICITACION | D38: II | E38: Paipote Zona de Contingencia | F38: 6.Pavimentado.Enami Paipote a Mantoverde | G38: ENAMI PAIPOTE | H38: MANTOVERDE | I38: H2SO4 | J38: 50000 (contingencia) | K38: Ton/año | L38: 46227 | M38: - | N38: CRISTIAN SCHWARTZ REVISADA | O38: 50000 | P38: 8.335 | Q38: 19.03 | R38: 27.364 | S38: 2627.4304 | T38: 184.831 | U38: 1.248 | V38: 186.079 | W38: 6P-EPMV-JG | X38: 0.2 | Y38: Transporte H2SO4 | Z38: Pavimentado | AA38: Camión Combustible | AB38: 1448.5814 | AC38: 1.448581 | AD38: 6 | AE38: Si | AF38: =IF(AE38="Si",AC38*S38*2,AC38*S38) -> 7612.0914 | AG38: {=_xlfn.IFS(D38="I",MIN('Datos pp I Región'!$K$7:$K$9),D38="II",MIN('Datos pp II Región'!$K$7:$K$9),D38="III",MIN('Datos pp III Región'!$K$7:$K$9),D38="IV",MIN('Datos pp IV Región'!$K$7:$K$9),D38="V",MIN('Datos pp V Región'!$K$7:$K$9),D38="RM",MIN('Datos pp RM'!$K$7:$K$9),D38="VI",MIN('Datos pp VI Región'!$K$7:$K$9))} -> 2 | AH38: {=_xlfn.IFS(Z38="Pavimentado",1-(AG38/(4*365)),Z38="No Pavimentado",1-(AG38/365))} -> 0.99863014 | AI38: {=_xlfn.IFS(Z38="Pavimentado",8,Z38="No Pavimentado",R38)} -> 8 | AJ38: 0.15 | AK38: 0.62 | AL38: 0.15 | AM38: 1.5 | AO38: {=_xlfn.IFS($Z38=$AT$3,AJ38*($X38)^(0.91)*(8*1.1023)^1.02,$Z38=$AT$4,AL38*281.9*(8.5/12)^0.9*(4/2.72)^0.45)} -> 0.31939355 | AP38: {=_xlfn.IFS($Z38=$AT$3,AK38*($X38)^(0.91)*(8*1.1023)^1.02,$Z38=$AT$4,AM38*281.9*(8.5/12)^0.9*(4/2.72)^0.45)} -> 1.32016 | AQ38: {=_xlfn.IFS(Z38=$AT$3,(AF38*AO38*AH38)/1000000,Z38=$AT$4,(AF38*AH38*AO38*(1-AN38))/1000000)} -> 0.0024279224 | AR38: {=_xlfn.IFS(Z38=$AT$3,(AF38*AP38*AH38)/1000000,Z38=$AT$4,(AF38*AH38*AP38*(1-AN38))/1000000)} -> 0.010035413
A39: 6 | B39: ESCENARIO B | C39: MANTO VERDE LICITACION | D39: II | E39: Paipote Zona de Contingencia | F39: 6.Pavimentado.Enami Paipote a Mantoverde | G39: ENAMI PAIPOTE | H39: MANTOVERDE | I39: H2SO4 | J39: 50000 (contingencia) | K39: Ton/año | L39: 46227 | M39: - | N39: CRISTIAN SCHWARTZ REVISADA | O39: 50000 | P39: 8.335 | Q39: 19.03 | R39: 27.364 | S39: 2627.4304 | T39: 184.831 | U39: 1.248 | V39: 186.079 | W39: 6P-EPMV-C35 | X39: 0.2 | Y39: Transporte H2SO4 | Z39: Pavimentado | AA39: Camión Combustible | AB39: 627.3102 | AC39: 0.62731 | AD39: 6 | AE39: Si | AF39: =IF(AE39="Si",AC39*S39*2,AC39*S39) -> 3296.4267 | AG39: {=_xlfn.IFS(D39="I",MIN('Datos pp I Región'!$K$7:$K$9),D39="II",MIN('Datos pp II Región'!$K$7:$K$9),D39="III",MIN('Datos pp III Región'!$K$7:$K$9),D39="IV",MIN('Datos pp IV Región'!$K$7:$K$9),D39="V",MIN('Datos pp V Región'!$K$7:$K$9),D39="RM",MIN('Datos pp RM'!$K$7:$K$9),D39="VI",MIN('Datos pp VI Región'!$K$7:$K$9))} -> 2 | AH39: {=_xlfn.IFS(Z39="Pavimentado",1-(AG39/(4*365)),Z39="No Pavimentado",1-(AG39/365))} -> 0.99863014 | AI39: {=_xlfn.IFS(Z39="Pavimentado",8,Z39="No Pavimentado",R39)} -> 8 | AJ39: 0.15 | AK39: 0.62 | AL39: 0.15 | AM39: 1.5 | AO39: {=_xlfn.IFS($Z39=$AT$3,AJ39*($X39)^(0.91)*(8*1.1023)^1.02,$Z39=$AT$4,AL39*281.9*(8.5/12)^0.9*(4/2.72)^0.45)} -> 0.31939355 | AP39: {=_xlfn.IFS($Z39=$AT$3,AK39*($X39)^(0.91)*(8*1.1023)^1.02,$Z39=$AT$4,AM39*281.9*(8.5/12)^0.9*(4/2.72)^0.45)} -> 1.32016 | AQ39: {=_xlfn.IFS(Z39=$AT$3,(AF39*AO39*AH39)/1000000,Z39=$AT$4,(AF39*AH39*AO39*(1-AN39))/1000000)} -> 0.0010514152 | AR39: {=_xlfn.IFS(Z39=$AT$3,(AF39*AP39*AH39)/1000000,Z39=$AT$4,(AF39*AH39*AP39*(1-AN39))/1000000)} -> 0.0043458493
A40: 6 | B40: ESCENARIO B | C40: MANTO VERDE LICITACION | D40: II | E40: Paipote Zona de Contingencia | F40: 6.Pavimentado.Enami Paipote a Mantoverde | G40: ENAMI PAIPOTE | H40: MANTOVERDE | I40: H2SO4 | J40: 50000 (contingencia) | K40: Ton/año | L40: 46227 | M40: - | N40: CRISTIAN SCHWARTZ REVISADA | O40: 50000 | P40: 8.335 | Q40: 19.03 | R40: 27.364 | S40: 2627.4304 | T40: 184.831 | U40: 1.248 | V40: 186.079 | W40: 6P-EPMV-CI | X40: 0.2 | Y40: Transporte H2SO4 | Z40: Pavimentado | AA40: Camión Combustible | AB40: 16269.211 | AC40: 16.269211 | AD40: 6 | AE40: Si | AF40: =IF(AE40="Si",AC40*S40*2,AC40*S40) -> 85492.438 | AG40: {=_xlfn.IFS(D40="I",MIN('Datos pp I Región'!$K$7:$K$9),D40="II",MIN('Datos pp II Región'!$K$7:$K$9),D40="III",MIN('Datos pp III Región'!$K$7:$K$9),D40="IV",MIN('Datos pp IV Región'!$K$7:$K$9),D40="V",MIN('Datos pp V Región'!$K$7:$K$9),D40="RM",MIN('Datos pp RM'!$K$7:$K$9),D40="VI",MIN('Datos pp VI Región'!$K$7:$K$9))} -> 2 | AH40: {=_xlfn.IFS(Z40="Pavimentado",1-(AG40/(4*365)),Z40="No Pavimentado",1-(AG40/365))} -> 0.99863014 | AI40: {=_xlfn.IFS(Z40="Pavimentado",8,Z40="No Pavimentado",R40)} -> 8 | AJ40: 0.15 | AK40: 0.62 | AL40: 0.15 | AM40: 1.5 | AO40: {=_xlfn.IFS($Z40=$AT$3,AJ40*($X40)^(0.91)*(8*1.1023)^1.02,$Z40=$AT$4,AL40*281.9*(8.5/12)^0.9*(4/2.72)^0.45)} -> 0.31939355 | AP40: {=_xlfn.IFS($Z40=$AT$3,AK40*($X40)^(0.91)*(8*1.1023)^1.02,$Z40=$AT$4,AM40*281.9*(8.5/12)^0.9*(4/2.72)^0.45)} -> 1.32016 | AQ40: {=_xlfn.IFS(Z40=$AT$3,(AF40*AO40*AH40)/1000000,Z40=$AT$4,(AF40*AH40*AO40*(1-AN40))/1000000)} -> 0.027268328 | AR40: {=_xlfn.IFS(Z40=$AT$3,(AF40*AP40*AH40)/1000000,Z40=$AT$4,(AF40*AH40*AP40*(1-AN40))/1000000)} -> 0.11270909
A41: 6 | B41: ESCENARIO B | C41: MANTO VERDE LICITACION | D41: II | E41: Paipote Zona de Contingencia | F41: 6.Pavimentado.Enami Paipote a Mantoverde | G41: ENAMI PAIPOTE | H41: MANTOVERDE | I41: H2SO4 | J41: 50000 (contingencia) | K41: Ton/año | L41: 46227 | M41: - | N41: CRISTIAN SCHWARTZ REVISADA | O41: 50000 | P41: 8.335 | Q41: 19.03 | R41: 27.364 | S41: 2627.4304 | T41: 184.831 | U41: 1.248 | V41: 186.079 | W41: 6P-EPMV-C241 | X41: 0.2 | Y41: Transporte H2SO4 | Z41: Pavimentado | AA41: Camión Combustible | AB41: 5155.9732 | AC41: 5.155973 | AD41: 6 | AE41: Si | AF41: =IF(AE41="Si",AC41*S41*2,AC41*S41) -> 27093.92 | AG41: {=_xlfn.IFS(D41="I",MIN('Datos pp I Región'!$K$7:$K$9),D41="II",MIN('Datos pp II Región'!$K$7:$K$9),D41="III",MIN('Datos pp III Región'!$K$7:$K$9),D41="IV",MIN('Datos pp IV Región'!$K$7:$K$9),D41="V",MIN('Datos pp V Región'!$K$7:$K$9),D41="RM",MIN('Datos pp RM'!$K$7:$K$9),D41="VI",MIN('Datos pp VI Región'!$K$7:$K$9))} -> 2 | AH41: {=_xlfn.IFS(Z41="Pavimentado",1-(AG41/(4*365)),Z41="No Pavimentado",1-(AG41/365))} -> 0.99863014 | AI41: {=_xlfn.IFS(Z41="Pavimentado",8,Z41="No Pavimentado",R41)} -> 8 | AJ41: 0.15 | AK41: 0.62 | AL41: 0.15 | AM41: 1.5 | AO41: {=_xlfn.IFS($Z41=$AT$3,AJ41*($X41)^(0.91)*(8*1.1023)^1.02,$Z41=$AT$4,AL41*281.9*(8.5/12)^0.9*(4/2.72)^0.45)} -> 0.31939355 | AP41: {=_xlfn.IFS($Z41=$AT$3,AK41*($X41)^(0.91)*(8*1.1023)^1.02,$Z41=$AT$4,AM41*281.9*(8.5/12)^0.9*(4/2.72)^0.45)} -> 1.32016 | AQ41: {=_xlfn.IFS(Z41=$AT$3,(AF41*AO41*AH41)/1000000,Z41=$AT$4,(AF41*AH41*AO41*(1-AN41))/1000000)} -> 0.0086417691 | AR41: {=_xlfn.IFS(Z41=$AT$3,(AF41*AP41*AH41)/1000000,Z41=$AT$4,(AF41*AH41*AP41*(1-AN41))/1000000)} -> 0.035719312
A42: 6 | B42: ESCENARIO B | C42: MANTO VERDE LICITACION | D42: II | E42: Paipote Zona de Contingencia | F42: 6.Pavimentado.Enami Paipote a Mantoverde | G42: ENAMI PAIPOTE | H42: MANTOVERDE | I42: H2SO4 | J42: 50000 (contingencia) | K42: Ton/año | L42: 46227 | M42: - | N42: CRISTIAN SCHWARTZ REVISADA | O42: 50000 | P42: 8.335 | Q42: 19.03 | R42: 27.364 | S42: 2627.4304 | T42: 184.831 | U42: 1.248 | V42: 186.079 | W42: 6P-EPMV-C237 | X42: 0.2 | Y42: Transporte H2SO4 | Z42: Pavimentado | AA42: Camión Combustible | AB42: 12987.257 | AC42: 12.987257 | AD42: 6 | AE42: Si | AF42: =IF(AE42="Si",AC42*S42*2,AC42*S42) -> 68246.227 | AG42: {=_xlfn.IFS(D42="I",MIN('Datos pp I Región'!$K$7:$K$9),D42="II",MIN('Datos pp II Región'!$K$7:$K$9),D42="III",MIN('Datos pp III Región'!$K$7:$K$9),D42="IV",MIN('Datos pp IV Región'!$K$7:$K$9),D42="V",MIN('Datos pp V Región'!$K$7:$K$9),D42="RM",MIN('Datos pp RM'!$K$7:$K$9),D42="VI",MIN('Datos pp VI Región'!$K$7:$K$9))} -> 2 | AH42: {=_xlfn.IFS(Z42="Pavimentado",1-(AG42/(4*365)),Z42="No Pavimentado",1-(AG42/365))} -> 0.99863014 | AI42: {=_xlfn.IFS(Z42="Pavimentado",8,Z42="No Pavimentado",R42)} -> 8 | AJ42: 0.15 | AK42: 0.62 | AL42: 0.15 | AM42: 1.5 | AO42: {=_xlfn.IFS($Z42=$AT$3,AJ42*($X42)^(0.91)*(8*1.1023)^1.02,$Z42=$AT$4,AL42*281.9*(8.5/12)^0.9*(4/2.72)^0.45)} -> 0.31939355 | AP42: {=_xlfn.IFS($Z42=$AT$3,AK42*($X42)^(0.91)*(8*1.1023)^1.02,$Z42=$AT$4,AM42*281.9*(8.5/12)^0.9*(4/2.72)^0.45)} -> 1.32016 | AQ42: {=_xlfn.IFS(Z42=$AT$3,(AF42*AO42*AH42)/1000000,Z42=$AT$4,(AF42*AH42*AO42*(1-AN42))/1000000)} -> 0.021767545 | AR42: {=_xlfn.IFS(Z42=$AT$3,(AF42*AP42*AH42)/1000000,Z42=$AT$4,(AF42*AH42*AP42*(1-AN42))/1000000)} -> 0.089972521
A43: 6 | B43: ESCENARIO B | C43: MANTO VERDE LICITACION | D43: II | E43: Paipote Zona de Contingencia | F43: 6.Pavimentado.Enami Paipote a Mantoverde | G43: ENAMI PAIPOTE | H43: MANTOVERDE | I43: H2SO4 | J43: 50000 (contingencia) | K43: Ton/año | L43: 46227 | M43: - | N43: CRISTIAN SCHWARTZ REVISADA | O43: 50000 | P43: 8.335 | Q43: 19.03 | R43: 27.364 | S43: 2627.4304 | T43: 184.831 | U43: 1.248 | V43: 186.079 | W43: 6P-EPMV-C13 | X43: 0.2 | Y43: Transporte H2SO4 | Z43: Pavimentado | AA43: Camión Combustible | AB43: 19659.801 | AC43: 19.659801 | AD43: 6 | AE43: Si | AF43: =IF(AE43="Si",AC43*S43*2,AC43*S43) -> 103309.52 | AG43: {=_xlfn.IFS(D43="I",MIN('Datos pp I Región'!$K$7:$K$9),D43="II",MIN('Datos pp II Región'!$K$7:$K$9),D43="III",MIN('Datos pp III Región'!$K$7:$K$9),D43="IV",MIN('Datos pp IV Región'!$K$7:$K$9),D43="V",MIN('Datos pp V Región'!$K$7:$K$9),D43="RM",MIN('Datos pp RM'!$K$7:$K$9),D43="VI",MIN('Datos pp VI Región'!$K$7:$K$9))} -> 2 | AH43: {=_xlfn.IFS(Z43="Pavimentado",1-(AG43/(4*365)),Z43="No Pavimentado",1-(AG43/365))} -> 0.99863014 | AI43: {=_xlfn.IFS(Z43="Pavimentado",8,Z43="No Pavimentado",R43)} -> 8 | AJ43: 0.15 | AK43: 0.62 | AL43: 0.15 | AM43: 1.5 | AO43: {=_xlfn.IFS($Z43=$AT$3,AJ43*($X43)^(0.91)*(8*1.1023)^1.02,$Z43=$AT$4,AL43*281.9*(8.5/12)^0.9*(4/2.72)^0.45)} -> 0.31939355 | AP43: {=_xlfn.IFS($Z43=$AT$3,AK43*($X43)^(0.91)*(8*1.1023)^1.02,$Z43=$AT$4,AM43*281.9*(8.5/12)^0.9*(4/2.72)^0.45)} -> 1.32016 | AQ43: {=_xlfn.IFS(Z43=$AT$3,(AF43*AO43*AH43)/1000000,Z43=$AT$4,(AF43*AH43*AO43*(1-AN43))/1000000)} -> 0.032951193 | AR43: {=_xlfn.IFS(Z43=$AT$3,(AF43*AP43*AH43)/1000000,Z43=$AT$4,(AF43*AH43*AP43*(1-AN43))/1000000)} -> 0.13619826
A44: 6 | B44: ESCENARIO B | C44: MANTO VERDE LICITACION | D44: II | E44: Paipote Zona de Contingencia | F44: 6.Pavimentado.Enami Paipote a Mantoverde | G44: ENAMI PAIPOTE | H44: MANTOVERDE | I44: H2SO4 | J44: 50000 (contingencia) | K44: Ton/año | L44: 46227 | M44: - | N44: CRISTIAN SCHWARTZ REVISADA | O44: 50000 | P44: 8.335 | Q44: 19.03 | R44: 27.364 | S44: 2627.4304 | T44: 184.831 | U44: 1.248 | V44: 186.079 | W44: 6P-EPMV-C209 | X44: 0.2 | Y44: Transporte H2SO4 | Z44: Pavimentado | AA44: Camión Combustible | AB44: 16489.147 | AC44: 16.489147 | AD44: 6 | AE44: Si | AF44: =IF(AE44="Si",AC44*S44*2,AC44*S44) -> 86648.171 | AG44: {=_xlfn.IFS(D44="I",MIN('Datos pp I Región'!$K$7:$K$9),D44="II",MIN('Datos pp II Región'!$K$7:$K$9),D44="III",MIN('Datos pp III Región'!$K$7:$K$9),D44="IV",MIN('Datos pp IV Región'!$K$7:$K$9),D44="V",MIN('Datos pp V Región'!$K$7:$K$9),D44="RM",MIN('Datos pp RM'!$K$7:$K$9),D44="VI",MIN('Datos pp VI Región'!$K$7:$K$9))} -> 2 | AH44: {=_xlfn.IFS(Z44="Pavimentado",1-(AG44/(4*365)),Z44="No Pavimentado",1-(AG44/365))} -> 0.99863014 | AI44: {=_xlfn.IFS(Z44="Pavimentado",8,Z44="No Pavimentado",R44)} -> 8 | AJ44: 0.15 | AK44: 0.62 | AL44: 0.15 | AM44: 1.5 | AO44: {=_xlfn.IFS($Z44=$AT$3,AJ44*($X44)^(0.91)*(8*1.1023)^1.02,$Z44=$AT$4,AL44*281.9*(8.5/12)^0.9*(4/2.72)^0.45)} -> 0.31939355 | AP44: {=_xlfn.IFS($Z44=$AT$3,AK44*($X44)^(0.91)*(8*1.1023)^1.02,$Z44=$AT$4,AM44*281.9*(8.5/12)^0.9*(4/2.72)^0.45)} -> 1.32016 | AQ44: {=_xlfn.IFS(Z44=$AT$3,(AF44*AO44*AH44)/1000000,Z44=$AT$4,(AF44*AH44*AO44*(1-AN44))/1000000)} -> 0.027636957 | AR44: {=_xlfn.IFS(Z44=$AT$3,(AF44*AP44*AH44)/1000000,Z44=$AT$4,(AF44*AH44*AP44*(1-AN44))/1000000)} -> 0.11423275
A45: 6 | B45: ESCENARIO B | C45: MANTO VERDE LICITACION | D45: II | E45: Paipote Zona de Contingencia | F45: 6.Pavimentado.Enami Paipote a Mantoverde | G45: ENAMI PAIPOTE | H45: MANTOVERDE | I45: H2SO4 | J45: 50000 (contingencia) | K45: Ton/año | L45: 46227 | M45: - | N45: CRISTIAN SCHWARTZ REVISADA | O45: 50000 | P45: 8.335 | Q45: 19.03 | R45: 27.364 | S45: 2627.4304 | T45: 184.831 | U45: 1.248 | V45: 186.079 | W45: 6P-EPMV-C225 | X45: 0.2 | Y45: Transporte H2SO4 | Z45: Pavimentado | AA45: Camión Combustible | AB45: 2339.2841 | AC45: 2.339284 | AD45: 6 | AE45: Si | AF45: =IF(AE45="Si",AC45*S45*2,AC45*S45) -> 12292.612 | AG45: {=_xlfn.IFS(D45="I",MIN('Datos pp I Región'!$K$7:$K$9),D45="II",MIN('Datos pp II Región'!$K$7:$K$9),D45="III",MIN('Datos pp III Región'!$K$7:$K$9),D45="IV",MIN('Datos pp IV Región'!$K$7:$K$9),D45="V",MIN('Datos pp V Región'!$K$7:$K$9),D45="RM",MIN('Datos pp RM'!$K$7:$K$9),D45="VI",MIN('Datos pp VI Región'!$K$7:$K$9))} -> 2 | AH45: {=_xlfn.IFS(Z45="Pavimentado",1-(AG45/(4*365)),Z45="No Pavimentado",1-(AG45/365))} -> 0.99863014 | AI45: {=_xlfn.IFS(Z45="Pavimentado",8,Z45="No Pavimentado",R45)} -> 8 | AJ45: 0.15 | AK45: 0.62 | AL45: 0.15 | AM45: 1.5 | AO45: {=_xlfn.IFS($Z45=$AT$3,AJ45*($X45)^(0.91)*(8*1.1023)^1.02,$Z45=$AT$4,AL45*281.9*(8.5/12)^0.9*(4/2.72)^0.45)} -> 0.31939355 | AP45: {=_xlfn.IFS($Z45=$AT$3,AK45*($X45)^(0.91)*(8*1.1023)^1.02,$Z45=$AT$4,AM45*281.9*(8.5/12)^0.9*(4/2.72)^0.45)} -> 1.32016 | AQ45: {=_xlfn.IFS(Z45=$AT$3,(AF45*AO45*AH45)/1000000,Z45=$AT$4,(AF45*AH45*AO45*(1-AN45))/1000000)} -> 0.0039208026 | AR45: {=_xlfn.IFS(Z45=$AT$3,(AF45*AP45*AH45)/1000000,Z45=$AT$4,(AF45*AH45*AP45*(1-AN45))/1000000)} -> 0.016205984
A46: 6 | B46: ESCENARIO B | C46: MANTO VERDE LICITACION | D46: II | E46: Paipote Zona de Contingencia | F46: 6.Pavimentado.Enami Paipote a Mantoverde | G46: ENAMI PAIPOTE | H46: MANTOVERDE | I46: H2SO4 | J46: 50000 (contingencia) | K46: Ton/año | L46: 46227 | M46: - | N46: CRISTIAN SCHWARTZ REVISADA | O46: 50000 | P46: 8.335 | Q46: 19.03 | R46: 27.364 | S46: 2627.4304 | T46: 184.831 | U46: 1.248 | V46: 186.079 | W46: 6P-EPMV-C227 | X46: 0.2 | Y46: Transporte H2SO4 | Z46: Pavimentado | AA46: Camión Combustible | AB46: 1700.384 | AC46: 1.700384 | AD46: 6 | AE46: Si | AF46: =IF(AE46="Si",AC46*S46*2,AC46*S46) -> 8935.2811 | AG46: {=_xlfn.IFS(D46="I",MIN('Datos pp I Región'!$K$7:$K$9),D46="II",MIN('Datos pp II Región'!$K$7:$K$9),D46="III",MIN('Datos pp III Región'!$K$7:$K$9),D46="IV",MIN('Datos pp IV Región'!$K$7:$K$9),D46="V",MIN('Datos pp V Región'!$K$7:$K$9),D46="RM",MIN('Datos pp RM'!$K$7:$K$9),D46="VI",MIN('Datos pp VI Región'!$K$7:$K$9))} -> 2 | AH46: {=_xlfn.IFS(Z46="Pavimentado",1-(AG46/(4*365)),Z46="No Pavimentado",1-(AG46/365))} -> 0.99863014 | AI46: {=_xlfn.IFS(Z46="Pavimentado",8,Z46="No Pavimentado",R46)} -> 8 | AJ46: 0.15 | AK46: 0.62 | AL46: 0.15 | AM46: 1.5 | AO46: {=_xlfn.IFS($Z46=$AT$3,AJ46*($X46)^(0.91)*(8*1.1023)^1.02,$Z46=$AT$4,AL46*281.9*(8.5/12)^0.9*(4/2.72)^0.45)} -> 0.31939355 | AP46: {=_xlfn.IFS($Z46=$AT$3,AK46*($X46)^(0.91)*(8*1.1023)^1.02,$Z46=$AT$4,AM46*281.9*(8.5/12)^0.9*(4/2.72)^0.45)} -> 1.32016 | AQ46: {=_xlfn.IFS(Z46=$AT$3,(AF46*AO46*AH46)/1000000,Z46=$AT$4,(AF46*AH46*AO46*(1-AN46))/1000000)} -> 0.0028499618 | AR46: {=_xlfn.IFS(Z46=$AT$3,(AF46*AP46*AH46)/1000000,Z46=$AT$4,(AF46*AH46*AP46*(1-AN46))/1000000)} -> 0.011779842
A47: 7 | B47: ESCENARIO B | C47: MANTO VERDE LICITACION | D47: II | E47: Mejillones Zona de Carga Habitual | F47: 7.Pavimentado-Puerto Mejillones a Mantoverde | G47: PUERTO MEJILLONES | H47: MANTOVERDE | I47: H2SO4 | J47: 230851 (50% del total) | K47: Ton/año | L47: 46227 | M47: - | N47: CRISTIAN SCHWARTZ REVISADA | O47: 230851 | P47: 8.335 | Q47: 19.03 | R47: 27.364 | S47: 12130.899 | T47: 532.467 | U47: 1.248 | V47: 533.715 | W47: 7P-PMMV-C227 | X47: 0.2 | Y47: Transporte H2SO4 | Z47: Pavimentado | AA47: Camión Combustible | AB47: 1700.3694 | AC47: 1.700369 | AD47: 7 | AE47: Si | AF47: =IF(AE47="Si",AC47*S47*2,AC47*S47) -> 41254.008 | AG47: {=_xlfn.IFS(D47="I",MIN('Datos pp I Región'!$K$7:$K$9),D47="II",MIN('Datos pp II Región'!$K$7:$K$9),D47="III",MIN('Datos pp III Región'!$K$7:$K$9),D47="IV",MIN('Datos pp IV Región'!$K$7:$K$9),D47="V",MIN('Datos pp V Región'!$K$7:$K$9),D47="RM",MIN('Datos pp RM'!$K$7:$K$9),D47="VI",MIN('Datos pp VI Región'!$K$7:$K$9))} -> 2 | AH47: {=_xlfn.IFS(Z47="Pavimentado",1-(AG47/(4*365)),Z47="No Pavimentado",1-(AG47/365))} -> 0.99863014 | AI47: {=_xlfn.IFS(Z47="Pavimentado",8,Z47="No Pavimentado",R47)} -> 8 | AJ47: 0.15 | AK47: 0.62 | AL47: 0.15 | AM47: 1.5 | AO47: {=_xlfn.IFS($Z47=$AT$3,AJ47*($X47)^(0.91)*(8*1.1023)^1.02,$Z47=$AT$4,AL47*281.9*(8.5/12)^0.9*(4/2.72)^0.45)} -> 0.31939355 | AP47: {=_xlfn.IFS($Z47=$AT$3,AK47*($X47)^(0.91)*(8*1.1023)^1.02,$Z47=$AT$4,AM47*281.9*(8.5/12)^0.9*(4/2.72)^0.45)} -> 1.32016 | AQ47: {=_xlfn.IFS(Z47=$AT$3,(AF47*AO47*AH47)/1000000,Z47=$AT$4,(AF47*AH47*AO47*(1-AN47))/1000000)} -> 0.013158214 | AR47: {=_xlfn.IFS(Z47=$AT$3,(AF47*AP47*AH47)/1000000,Z47=$AT$4,(AF47*AH47*AP47*(1-AN47))/1000000)} -> 0.054387286
A48: 7 | B48: ESCENARIO B | C48: MANTO VERDE LICITACION | D48: II | E48: Mejillones Zona de Carga Habitual | F48: 7.Pavimentado-Puerto Mejillones a Mantoverde | G48: PUERTO MEJILLONES | H48: MANTOVERDE | I48: H2SO4 | J48: 230851 (50% del total) | K48: Ton/año | L48: 46227 | M48: - | N48: CRISTIAN SCHWARTZ REVISADA | O48: 230851 | P48: 8.335 | Q48: 19.03 | R48: 27.364 | S48: 12130.899 | T48: 532.467 | U48: 1.248 | V48: 533.715 | W48: 7P-PMMV-C225 | X48: 0.2 | Y48: Transporte H2SO4 | Z48: Pavimentado | AA48: Camión Combustible | AB48: 2339.2764 | AC48: 2.339276 | AD48: 7 | AE48: Si | AF48: =IF(AE48="Si",AC48*S48*2,AC48*S48) -> 56755.04 | AG48: {=_xlfn.IFS(D48="I",MIN('Datos pp I Región'!$K$7:$K$9),D48="II",MIN('Datos pp II Región'!$K$7:$K$9),D48="III",MIN('Datos pp III Región'!$K$7:$K$9),D48="IV",MIN('Datos pp IV Región'!$K$7:$K$9),D48="V",MIN('Datos pp V Región'!$K$7:$K$9),D48="RM",MIN('Datos pp RM'!$K$7:$K$9),D48="VI",MIN('Datos pp VI Región'!$K$7:$K$9))} -> 2 | AH48: {=_xlfn.IFS(Z48="Pavimentado",1-(AG48/(4*365)),Z48="No Pavimentado",1-(AG48/365))} -> 0.99863014 | AI48: {=_xlfn.IFS(Z48="Pavimentado",8,Z48="No Pavimentado",R48)} -> 8 | AJ48: 0.15 | AK48: 0.62 | AL48: 0.15 | AM48: 1.5 | AO48: {=_xlfn.IFS($Z48=$AT$3,AJ48*($X48)^(0.91)*(8*1.1023)^1.02,$Z48=$AT$4,AL48*281.9*(8.5/12)^0.9*(4/2.72)^0.45)} -> 0.31939355 | AP48: {=_xlfn.IFS($Z48=$AT$3,AK48*($X48)^(0.91)*(8*1.1023)^1.02,$Z48=$AT$4,AM48*281.9*(8.5/12)^0.9*(4/2.72)^0.45)} -> 1.32016 | AQ48: {=_xlfn.IFS(Z48=$AT$3,(AF48*AO48*AH48)/1000000,Z48=$AT$4,(AF48*AH48*AO48*(1-AN48))/1000000)} -> 0.018102362 | AR48: {=_xlfn.IFS(Z48=$AT$3,(AF48*AP48*AH48)/1000000,Z48=$AT$4,(AF48*AH48*AP48*(1-AN48))/1000000)} -> 0.074823096
... A95: 11 | B95: ESCENARIO B | C95: MANTO VERDE LICITACION | D95: II | E95: Iquique Zona de Contingencia | F95: 11.Pavimentado-Puerto Patache a Manto verde | G95: TERMINAL MARITIMO PUERTO PATACHE | H95: MANTOVERDE | I95: H2SO4 | J95: 50000 (contingencia) | K95: Ton/año | L95: 46227 | M95: - | N95: CRISTIAN SCHWARTZ REVISADA | O95: 50000 | P95: 8.335 | Q95: 19.03 | R95: 27.364 | S95: 2627.4304 | T95: 812.755 | U95: 1.248 | V95: 814.003 | W95: 11P-PPMV-R05 | X95: 0.2 | Y95: Transporte H2SO4 | Z95: Pavimentado | AA95: Camión Combustible | AB95: 412296.64 | AC95: 412.29664 | AD95: 11 | AE95: Si | AF95: =IF(AE95="Si",AC95*S95*2,AC95*S95) -> 2166561.4 | AG95: {=_xlfn.IFS(D95="I",MIN('Datos pp I Región'!$K$7:$K$9),D95="II",MIN('Datos pp II Región'!$K$7:$K$9),D95="III",MIN('Datos pp III Región'!$K$7:$K$9),D95="IV",MIN('Datos pp IV Región'!$K$7:$K$9),D95="V",MIN('Datos pp V Región'!$K$7:$K$9),D95="RM",MIN('Datos pp RM'!$K$7:$K$9),D95="VI",MIN('Datos pp VI Región'!$K$7:$K$9))} -> 2 | AH95: {=_xlfn.IFS(Z95="Pavimentado",1-(AG95/(4*365)),Z95="No Pavimentado",1-(AG95/365))} -> 0.99863014 | AI95: {=_xlfn.IFS(Z95="Pavimentado",8,Z95="No Pavimentado",R95)} -> 8 | AJ95: 0.15 | AK95: 0.62 | AL95: 0.15 | AM95: 1.5 | AO95: {=_xlfn.IFS($Z95=$AT$3,AJ95*($X95)^(0.91)*(8*1.1023)^1.02,$Z95=$AT$4,AL95*281.9*(8.5/12)^0.9*(4/2.72)^0.45)} -> 0.31939355 | AP95: {=_xlfn.IFS($Z95=$AT$3,AK95*($X95)^(0.91)*(8*1.1023)^1.02,$Z95=$AT$4,AM95*281.9*(8.5/12)^0.9*(4/2.72)^0.45)} -> 1.32016 | AQ95: {=_xlfn.IFS(Z95=$AT$3,(AF95*AO95*AH95)/1000000,Z95=$AT$4,(AF95*AH95*AO95*(1-AN95))/1000000)} -> 0.69103782 | AR95: {=_xlfn.IFS(Z95=$AT$3,(AF95*AP95*AH95)/1000000,Z95=$AT$4,(AF95*AH95*AP95*(1-AN95))/1000000)} -> 2.8562897
A96: 12 | B96: ESCENARIO B | C96: CASERONES LICITACION | D96: II | E96: Antofagasta | F96: 12.Pavimentado-Mina Caserones a Puerto Barquito (Vuelta) | G96: TERMINAL PUERTO BARQUITO | H96: LUNDIN MINING CASERONES | I96: H2SO4 | J96: 34000 | K96: Ton/año | L96: 46227 | M96: - | N96: CRISTIAN SCHWARTZ REVISADA | O96: 34000 | P96: 8.335 | Q96: 19.03 | R96: 27.364 | S96: 1786.6527 | T96: 613.085 | U96: 9.998 | V96: 623.083 | W96: 12P-PBMC-R05-VUE | X96: 0.2 | Y96: Transporte H2SO4 | Z96: Pavimentado | AA96: Camión Combustible | AB96: 183821.17 | AC96: 183.82117 | AD96: 12 | AE96: Si | AF96: =IF(AE96="Si",AC96*S96*2,AC96*S96) -> 656849.15 | AG96: {=_xlfn.IFS(D96="I",MIN('Datos pp I Región'!$K$7:$K$9),D96="II",MIN('Datos pp II Región'!$K$7:$K$9),D96="III",MIN('Datos pp III Región'!$K$7:$K$9),D96="IV",MIN('Datos pp IV Región'!$K$7:$K$9),D96="V",MIN('Datos pp V Región'!$K$7:$K$9),D96="RM",MIN('Datos pp RM'!$K$7:$K$9),D96="VI",MIN('Datos pp VI Región'!$K$7:$K$9))} -> 2 | AH96: {=_xlfn.IFS(Z96="Pavimentado",1-(AG96/(4*365)),Z96="No Pavimentado",1-(AG96/365))} -> 0.99863014 | AI96: {=_xlfn.IFS(Z96="Pavimentado",8,Z96="No Pavimentado",R96)} -> 8 | AJ96: 0.15 | AK96: 0.62 | AL96: 0.15 | AM96: 1.5 | AO96: {=_xlfn.IFS($Z96=$AT$3,AJ96*($X96)^(0.91)*(8*1.1023)^1.02,$Z96=$AT$4,AL96*281.9*(8.5/12)^0.9*(4/2.72)^0.45)} -> 0.31939355 | AP96: {=_xlfn.IFS($Z96=$AT$3,AK96*($X96)^(0.91)*(8*1.1023)^1.02,$Z96=$AT$4,AM96*281.9*(8.5/12)^0.9*(4/2.72)^0.45)} -> 1.32016 | AQ96: {=_xlfn.IFS(Z96=$AT$3,(AF96*AO96*AH96)/1000000,Z96=$AT$4,(AF96*AH96*AO96*(1-AN96))/1000000)} -> 0.20950599 | AR96: {=_xlfn.IFS(Z96=$AT$3,(AF96*AP96*AH96)/1000000,Z96=$AT$4,(AF96*AH96*AP96*(1-AN96))/1000000)} -> 0.86595811
A97: 12 | B97: ESCENARIO B | C97: CASERONES LICITACION | D97: II | E97: Antofagasta | F97: 12.Pavimentado-Puerto Barquito a Mina Caserones (Ida) | G97: TERMINAL PUERTO BARQUITO | H97: LUNDIN MINING CASERONES | I97: H2SO4 | J97: 34000 | K97: Ton/año | L97: 46227 | M97: - | N97: CRISTIAN SCHWARTZ REVISADA | O97: 34000 | P97: 8.335 | Q97: 19.03 | R97: 27.364 | S97: 1786.6527 | T97: 613.085 | U97: 9.998 | V97: 623.083 | W97: 12P-PBMC-R05-IDA | X97: 0.2 | Y97: Transporte H2SO4 | Z97: Pavimentado | AA97: Camión Combustible | AB97: 183599.3 | AC97: 183.5993 | AD97: 12 | AE97: Si | AF97: =IF(AE97="Si",AC97*S97*2,AC97*S97) -> 656056.36 | AG97: {=_xlfn.IFS(D97="I",MIN('Datos pp I Región'!$K$7:$K$9),D97="II",MIN('Datos pp II Región'!$K$7:$K$9),D97="III",MIN('Datos pp III Región'!$K$7:$K$9),D97="IV",MIN('Datos pp IV Región'!$K$7:$K$9),D97="V",MIN('Datos pp V Región'!$K$7:$K$9),D97="RM",MIN('Datos pp RM'!$K$7:$K$9),D97="VI",MIN('Datos pp VI Región'!$K$7:$K$9))} -> 2 | AH97: {=_xlfn.IFS(Z97="Pavimentado",1-(AG97/(4*365)),Z97="No Pavimentado",1-(AG97/365))} -> 0.99863014 | AI97: {=_xlfn.IFS(Z97="Pavimentado",8,Z97="No Pavimentado",R97)} -> 8 | AJ97: 0.15 | AK97: 0.62 | AL97: 0.15 | AM97: 1.5 | AO97: {=_xlfn.IFS($Z97=$AT$3,AJ97*($X97)^(0.91)*(8*1.1023)^1.02,$Z97=$AT$4,AL97*281.9*(8.5/12)^0.9*(4/2.72)^0.45)} -> 0.31939355 | AP97: {=_xlfn.IFS($Z97=$AT$3,AK97*($X97)^(0.91)*(8*1.1023)^1.02,$Z97=$AT$4,AM97*281.9*(8.5/12)^0.9*(4/2.72)^0.45)} -> 1.32016 | AQ97: {=_xlfn.IFS(Z97=$AT$3,(AF97*AO97*AH97)/1000000,Z97=$AT$4,(AF97*AH97*AO97*(1-AN97))/1000000)} -> 0.20925313 | AR97: {=_xlfn.IFS(Z97=$AT$3,(AF97*AP97*AH97)/1000000,Z97=$AT$4,(AF97*AH97*AP97*(1-AN97))/1000000)} -> 0.86491293
A98: 12 | B98: ESCENARIO B | C98: CASERONES LICITACION | D98: II | E98: Antofagasta | F98: 12.No Pavimentado-Puerto Barquito a Mina Caserones (Ida) | G98: TERMINAL PUERTO BARQUITO | H98: LUNDIN MINING CASERONES | I98: H2SO4 | J98: 34000 | K98: Ton/año | L98: 46227 | M98: - | N98: CRISTIAN SCHWARTZ REVISADA | O98: 34000 | P98: 8.335 | Q98: 19.03 | R98: 27.364 | S98: 1786.6527 | T98: 613.085 | U98: 9.998 | V98: 623.083 | W98: 12NP-PBMC-C473-IDA | X98: 0.2 | Y98: Transporte H2SO4 | Z98: No Pavimentado | AA98: Camión Combustible | AB98: 5509.6605 | AC98: 5.50966 | AD98: 12 | AE98: No | AF98: =IF(AE98="Si",AC98*S98*2,AC98*S98) -> 9843.8487 | AG98: {=_xlfn.IFS(D98="I",MIN('Datos pp I Región'!$K$7:$K$9),D98="II",MIN('Datos pp II Región'!$K$7:$K$9),D98="III",MIN('Datos pp III Región'!$K$7:$K$9),D98="IV",MIN('Datos pp IV Región'!$K$7:$K$9),D98="V",MIN('Datos pp V Región'!$K$7:$K$9),D98="RM",MIN('Datos pp RM'!$K$7:$K$9),D98="VI",MIN('Datos pp VI Región'!$K$7:$K$9))} -> 2 | AH98: {=_xlfn.IFS(Z98="Pavimentado",1-(AG98/(4*365)),Z98="No Pavimentado",1-(AG98/365))} -> 0.99452055 | AI98: {=_xlfn.IFS(Z98="Pavimentado",8,Z98="No Pavimentado",R98)} -> 27.364 | AJ98: 0.15 | AK98: 0.62 | AL98: 0.15 | AM98: 1.5 | AO98: {=_xlfn.IFS($Z98=$AT$3,AJ98*($X98)^(0.91)*(8*1.1023)^1.02,$Z98=$AT$4,AL98*281.9*(8.5/12)^0.9*(4/2.72)^0.45)} -> 36.878329 | AP98: {=_xlfn.IFS($Z98=$AT$3,AK98*($X98)^(0.91)*(8*1.1023)^1.02,$Z98=$AT$4,AM98*281.9*(8.5/12)^0.9*(4/2.72)^0.45)} -> 368.78329 | AQ98: {=_xlfn.IFS(Z98=$AT$3,(AF98*AO98*AH98)/1000000,Z98=$AT$4,(AF98*AH98*AO98*(1-AN98))/1000000)} -> 0.36103551 | AR98: {=_xlfn.IFS(Z98=$AT$3,(AF98*AP98*AH98)/1000000,Z98=$AT$4,(AF98*AH98*AP98*(1-AN98))/1000000)} -> 3.6103551
A99: 12 | B99: ESCENARIO B | C99: CASERONES LICITACION | D99: II | E99: Antofagasta | F99: 12.No Pavimentado-Mina Caserones a Puerto Barquito (Vuelta) | G99: TERMINAL PUERTO BARQUITO | H99: LUNDIN MINING CASERONES | I99: H2SO4 | J99: 34000 | K99: Ton/año | L99: 46227 | M99: - | N99: CRISTIAN SCHWARTZ REVISADA | O99: 34000 | P99: 8.335 | Q99: 19.03 | R99: 27.364 | S99: 1786.6527 | T99: 613.085 | U99: 9.998 | V99: 623.083 | W99: 12NP-PBMC-C535-VUE | X99: 0.2 | Y99: Transporte H2SO4 | Z99: No Pavimentado | AA99: Camión Combustible | AB99: 4478.9272 | AC99: 4.478927 | AD99: 12 | AE99: Si | AF99: =IF(AE99="Si",AC99*S99*2,AC99*S99) -> 16004.574 | AG99: {=_xlfn.IFS(D99="I",MIN('Datos pp I Región'!$K$7:$K$9),D99="II",MIN('Datos pp II Región'!$K$7:$K$9),D99="III",MIN('Datos pp III Región'!$K$7:$K$9),D99="IV",MIN('Datos pp IV Región'!$K$7:$K$9),D99="V",MIN('Datos pp V Región'!$K$7:$K$9),D99="RM",MIN('Datos pp RM'!$K$7:$K$9),D99="VI",MIN('Datos pp VI Región'!$K$7:$K$9))} -> 2 | AH99: {=_xlfn.IFS(Z99="Pavimentado",1-(AG99/(4*365)),Z99="No Pavimentado",1-(AG99/365))} -> 0.99452055 | AI99: {=_xlfn.IFS(Z99="Pavimentado",8,Z99="No Pavimentado",R99)} -> 27.364 | AJ99: 0.15 | AK99: 0.62 | AL99: 0.15 | AM99: 1.5 | AO99: {=_xlfn.IFS($Z99=$AT$3,AJ99*($X99)^(0.91)*(8*1.1023)^1.02,$Z99=$AT$4,AL99*281.9*(8.5/12)^0.9*(4/2.72)^0.45)} -> 36.878329 | AP99: {=_xlfn.IFS($Z99=$AT$3,AK99*($X99)^(0.91)*(8*1.1023)^1.02,$Z99=$AT$4,AM99*281.9*(8.5/12)^0.9*(4/2.72)^0.45)} -> 368.78329 | AQ99: {=_xlfn.IFS(Z99=$AT$3,(AF99*AO99*AH99)/1000000,Z99=$AT$4,(AF99*AH99*AO99*(1-AN99))/1000000)} -> 0.58698784 | AR99: {=_xlfn.IFS(Z99=$AT$3,(AF99*AP99*AH99)/1000000,Z99=$AT$4,(AF99*AH99*AP99*(1-AN99))/1000000)} -> 5.8698784
A100: 12 | B100: ESCENARIO B | C100: CASERONES LICITACION | D100: II | E100: Antofagasta | F100: 12.Pavimentado-Puerto Barquito a Mina Caserones (Ida) | G100: TERMINAL PUERTO BARQUITO | H100: LUNDIN MINING CASERONES | I100: H2SO4 | J100: 34000 | K100: Ton/año | L100: 46227 | M100: - | N100: CRISTIAN SCHWARTZ REVISADA | O100: 34000 | P100: 8.335 | Q100: 19.03 | R100: 27.364 | S100: 1786.6527 | T100: 613.085 | U100: 9.998 | V100: 623.083 | W100: 12P-PBMC-C453-IDA | X100: 0.2 | Y100: Transporte H2SO4 | Z100: Pavimentado | AA100: Camión Combustible | AB100: 24815.446 | AC100: 24.815446 | AD100: 12 | AE100: Si | AF100: =IF(AE100="Si",AC100*S100*2,AC100*S100) -> 88673.165 | AG100: {=_xlfn.IFS(D100="I",MIN('Datos pp I Región'!$K$7:$K$9),D100="II",MIN('Datos pp II Región'!$K$7:$K$9),D100="III",MIN('Datos pp III Región'!$K$7:$K$9),D100="IV",MIN('Datos pp IV Región'!$K$7:$K$9),D100="V",MIN('Datos pp V Región'!$K$7:$K$9),D100="RM",MIN('Datos pp RM'!$K$7:$K$9),D100="VI",MIN('Datos pp VI Región'!$K$7:$K$9))} -> 2 | AH100: {=_xlfn.IFS(Z100="Pavimentado",1-(AG100/(4*365)),Z100="No Pavimentado",1-(AG100/365))} -> 0.99863014 | AI100: {=_xlfn.IFS(Z100="Pavimentado",8,Z100="No Pavimentado",R100)} -> 8 | AJ100: 0.15 | AK100: 0.62 | AL100: 0.15 | AM100: 1.5 | AO100: {=_xlfn.IFS($Z100=$AT$3,AJ100*($X100)^(0.91)*(8*1.1023)^1.02,$Z100=$AT$4,AL100*281.9*(8.5/12)^0.9*(4/2.72)^0.45)} -> 0.31939355 | AP100: {=_xlfn.IFS($Z100=$AT$3,AK100*($X100)^(0.91)*(8*1.1023)^1.02,$Z100=$AT$4,AM100*281.9*(8.5/12)^0.9*(4/2.72)^0.45)} -> 1.32016 | AQ100: {=_xlfn.IFS(Z100=$AT$3,(AF100*AO100*AH100)/1000000,Z100=$AT$4,(AF100*AH100*AO100*(1-AN100))/1000000)} -> 0.02828284 | AR100: {=_xlfn.IFS(Z100=$AT$3,(AF100*AP100*AH100)/1000000,Z100=$AT$4,(AF100*AH100*AP100*(1-AN100))/1000000)} -> 0.11690241
A101: 12 | B101: ESCENARIO B | C101: CASERONES LICITACION | D101: II | E101: Antofagasta | F101: 12.Pavimentado-Puerto Barquito a Mina Caserones (Ida) | G101: TERMINAL PUERTO BARQUITO | H101: LUNDIN MINING CASERONES | I101: H2SO4 | J101: 34000 | K101: Ton/año | L101: 46227 | M101: - | N101: CRISTIAN SCHWARTZ REVISADA | O101: 34000 | P101: 8.335 | Q101: 19.03 | R101: 27.364 | S101: 1786.6527 | T101: 613.085 | U101: 9.998 | V101: 623.083 | W101: 12P-PBMC-C411-IDA | X101: 0.2 | Y101: Transporte H2SO4 | Z101: Pavimentado | AA101: Camión Combustible | AB101: 24960.154 | AC101: 24.960154 | AD101: 12 | AE101: Si | AF101: =IF(AE101="Si",AC101*S101*2,AC101*S101) -> 89190.251 | AG101: {=_xlfn.IFS(D101="I",MIN('Datos pp I Región'!$K$7:$K$9),D101="II",MIN('Datos pp II Región'!$K$7:$K$9),D101="III",MIN('Datos pp III Región'!$K$7:$K$9),D101="IV",MIN('Datos pp IV Región'!$K$7:$K$9),D101="V",MIN('Datos pp V Región'!$K$7:$K$9),D101="RM",MIN('Datos pp RM'!$K$7:$K$9),D101="VI",MIN('Datos pp VI Región'!$K$7:$K$9))} -> 2 | AH101: {=_xlfn.IFS(Z101="Pavimentado",1-(AG101/(4*365)),Z101="No Pavimentado",1-(AG101/365))} -> 0.99863014 | AI101: {=_xlfn.IFS(Z101="Pavimentado",8,Z101="No Pavimentado",R101)} -> 8 | AJ101: 0.15 | AK101: 0.62 | AL101: 0.15 | AM101: 1.5 | AO101: {=_xlfn.IFS($Z101=$AT$3,AJ101*($X101)^(0.91)*(8*1.1023)^1.02,$Z101=$AT$4,AL101*281.9*(8.5/12)^0.9*(4/2.72)^0.45)} -> 0.31939355 | AP101: {=_xlfn.IFS($Z101=$AT$3,AK101*($X101)^(0.91)*(8*1.1023)^1.02,$Z101=$AT$4,AM101*281.9*(8.5/12)^0.9*(4/2.72)^0.45)} -> 1.32016 | AQ101: {=_xlfn.IFS(Z101=$AT$3,(AF101*AO101*AH101)/1000000,Z101=$AT$4,(AF101*AH101*AO101*(1-AN101))/1000000)} -> 0.028447768 | AR101: {=_xlfn.IFS(Z101=$AT$3,(AF101*AP101*AH101)/1000000,Z101=$AT$4,(AF101*AH101*AP101*(1-AN101))/1000000)} -> 0.11758411
A102: 12 | B102: ESCENARIO B | C102: CASERONES LICITACION | D102: II | E102: Antofagasta | F102: 12.Pavimentado-Puerto Barquito a Mina Caserones (Ida) | G102: TERMINAL PUERTO BARQUITO | H102: LUNDIN MINING CASERONES | I102: H2SO4 | J102: 34000 | K102: Ton/año | L102: 46227 | M102: - | N102: CRISTIAN SCHWARTZ REVISADA | O102: 34000 | P102: 8.335 | Q102: 19.03 | R102: 27.364 | S102: 1786.6527 | T102: 613.085 | U102: 9.998 | V102: 623.083 | W102: 12P-PBMC-C35-IDA | X102: 0.2 | Y102: Transporte H2SO4 | Z102: Pavimentado | AA102: Camión Combustible | AB102: 72131.374 | AC102: 72.131374 | AD102: 12 | AE102: Si | AF102: =IF(AE102="Si",AC102*S102*2,AC102*S102) -> 257747.42 | AG102: {=_xlfn.IFS(D102="I",MIN('Datos pp I Región'!$K$7:$K$9),D102="II",MIN('Datos pp II Región'!$K$7:$K$9),D102="III",MIN('Datos pp III Región'!$K$7:$K$9),D102="IV",MIN('Datos pp IV Región'!$K$7:$K$9),D102="V",MIN('Datos pp V Región'!$K$7:$K$9),D102="RM",MIN('Datos pp RM'!$K$7:$K$9),D102="VI",MIN('Datos pp VI Región'!$K$7:$K$9))} -> 2 | AH102: {=_xlfn.IFS(Z102="Pavimentado",1-(AG102/(4*365)),Z102="No Pavimentado",1-(AG102/365))} -> 0.99863014 | AI102: {=_xlfn.IFS(Z102="Pavimentado",8,Z102="No Pavimentado",R102)} -> 8 | AJ102: 0.15 | AK102: 0.62 | AL102: 0.15 | AM102: 1.5 | AO102: {=_xlfn.IFS($Z102=$AT$3,AJ102*($X102)^(0.91)*(8*1.1023)^1.02,$Z102=$AT$4,AL102*281.9*(8.5/12)^0.9*(4/2.72)^0.45)} -> 0.31939355 | AP102: {=_xlfn.IFS($Z102=$AT$3,AK102*($X102)^(0.91)*(8*1.1023)^1.02,$Z102=$AT$4,AM102*281.9*(8.5/12)^0.9*(4/2.72)^0.45)} -> 1.32016 | AQ102: {=_xlfn.IFS(Z102=$AT$3,(AF102*AO102*AH102)/1000000,Z102=$AT$4,(AF102*AH102*AO102*(1-AN102))/1000000)} -> 0.082210094 | AR102: {=_xlfn.IFS(Z102=$AT$3,(AF102*AP102*AH102)/1000000,Z102=$AT$4,(AF102*AH102*AP102*(1-AN102))/1000000)} -> 0.33980172
A103: 12 | B103: ESCENARIO B | C103: CASERONES LICITACION | D103: II | E103: Antofagasta | F103: 12.Pavimentado-Puerto Barquito a Mina Caserones (Ida) | G103: TERMINAL PUERTO BARQUITO | H103: LUNDIN MINING CASERONES | I103: H2SO4 | J103: 34000 | K103: Ton/año | L103: 46227 | M103: - | N103: CRISTIAN SCHWARTZ REVISADA | O103: 34000 | P103: 8.335 | Q103: 19.03 | R103: 27.364 | S103: 1786.6527 | T103: 613.085 | U103: 9.998 | V103: 623.083 | W103: 12P-PBMC-RI-IDA | X103: 0.2 | Y103: Transporte H2SO4 | Z103: Pavimentado | AA103: Camión Combustible | AB103: 391.85327 | AC103: 0.391853 | AD103: 12 | AE103: Si | AF103: =IF(AE103="Si",AC103*S103*2,AC103*S103) -> 1400.2104 | AG103: {=_xlfn.IFS(D103="I",MIN('Datos pp I Región'!$K$7:$K$9),D103="II",MIN('Datos pp II Región'!$K$7:$K$9),D103="III",MIN('Datos pp III Región'!$K$7:$K$9),D103="IV",MIN('Datos pp IV Región'!$K$7:$K$9),D103="V",MIN('Datos pp V Región'!$K$7:$K$9),D103="RM",MIN('Datos pp RM'!$K$7:$K$9),D103="VI",MIN('Datos pp VI Región'!$K$7:$K$9))} -> 2 | AH103: {=_xlfn.IFS(Z103="Pavimentado",1-(AG103/(4*365)),Z103="No Pavimentado",1-(AG103/365))} -> 0.99863014 | AI103: {=_xlfn.IFS(Z103="Pavimentado",8,Z103="No Pavimentado",R103)} -> 8 | AJ103: 0.15 | AK103: 0.62 | AL103: 0.15 | AM103: 1.5 | AO103: {=_xlfn.IFS($Z103=$AT$3,AJ103*($X103)^(0.91)*(8*1.1023)^1.02,$Z103=$AT$4,AL103*281.9*(8.5/12)^0.9*(4/2.72)^0.45)} -> 0.31939355 | AP103: {=_xlfn.IFS($Z103=$AT$3,AK103*($X103)^(0.91)*(8*1.1023)^1.02,$Z103=$AT$4,AM103*281.9*(8.5/12)^0.9*(4/2.72)^0.45)} -> 1.32016 | AQ103: {=_xlfn.IFS(Z103=$AT$3,(AF103*AO103*AH103)/1000000,Z103=$AT$4,(AF103*AH103*AO103*(1-AN103))/1000000)} -> 0.00044660555 | AR103: {=_xlfn.IFS(Z103=$AT$3,(AF103*AP103*AH103)/1000000,Z103=$AT$4,(AF103*AH103*AP103*(1-AN103))/1000000)} -> 0.0018459696
A104: 12 | B104: ESCENARIO B | C104: DET LICITACION | D104: II | E104: RANCAGUA | F104: 12.Pavimentado-Mina Caserones a Puerto Barquito (Vuelta) | G104: TERMINAL PUERTO BARQUITO | H104: LUNDIN MINING CASERONES | I104: H2SO4 | J104: 34000 | K104: Ton/año | L104: 46227 | M104: - | N104: CRISTIAN SCHWARTZ REVISADA | O104: 34000 | P104: 8.335 | Q104: 19.03 | R104: 27.364 | S104: 1786.6527 | T104: 613.085 | U104: 9.998 | V104: 623.083 | W104: 12P-PBMC-R35-VUE | X104: 0.2 | Y104: Transporte H2SO4 | Z104: Pavimentado | AA104: Camión Combustible | AB104: 72089.173 | AC104: 72.089173 | AD104: 12 | AE104: Si | AF104: =IF(AE104="Si",AC104*S104*2,AC104*S104) -> 257596.62 | AG104: {=_xlfn.IFS(D104="I",MIN('Datos pp I Región'!$K$7:$K$9),D104="II",MIN('Datos pp II Región'!$K$7:$K$9),D104="III",MIN('Datos pp III Región'!$K$7:$K$9),D104="IV",MIN('Datos pp IV Región'!$K$7:$K$9),D104="V",MIN('Datos pp V Región'!$K$7:$K$9),D104="RM",MIN('Datos pp RM'!$K$7:$K$9),D104="VI",MIN('Datos pp VI Región'!$K$7:$K$9))} -> 2 | AH104: {=_xlfn.IFS(Z104="Pavimentado",1-(AG104/(4*365)),Z104="No Pavimentado",1-(AG104/365))} -> 0.99863014 | AI104: {=_xlfn.IFS(Z104="Pavimentado",8,Z104="No Pavimentado",R104)} -> 8 | AJ104: 0.15 | AK104: 0.62 | AL104: 0.15 | AM104: 1.5 | AO104: {=_xlfn.IFS($Z104=$AT$3,AJ104*($X104)^(0.91)*(8*1.1023)^1.02,$Z104=$AT$4,AL104*281.9*(8.5/12)^0.9*(4/2.72)^0.45)} -> 0.31939355 | AP104: {=_xlfn.IFS($Z104=$AT$3,AK104*($X104)^(0.91)*(8*1.1023)^1.02,$Z104=$AT$4,AM104*281.9*(8.5/12)^0.9*(4/2.72)^0.45)} -> 1.32016 | AQ104: {=_xlfn.IFS(Z104=$AT$3,(AF104*AO104*AH104)/1000000,Z104=$AT$4,(AF104*AH104*AO104*(1-AN104))/1000000)} -> 0.082161996 | AR104: {=_xlfn.IFS(Z104=$AT$3,(AF104*AP104*AH104)/1000000,Z104=$AT$4,(AF104*AH104*AP104*(1-AN104))/1000000)} -> 0.33960292
A105: 12 | B105: ESCENARIO B | C105: DET LICITACION | D105: II | E105: RANCAGUA | F105: 12.Pavimentado-Mina Caserones a Puerto Barquito (Vuelta) | G105: TERMINAL PUERTO BARQUITO | H105: LUNDIN MINING CASERONES | I105: H2SO4 | J105: 34000 | K105: Ton/año | L105: 46227 | M105: - | N105: CRISTIAN SCHWARTZ REVISADA | O105: 34000 | P105: 8.335 | Q105: 19.03 | R105: 27.364 | S105: 1786.6527 | T105: 613.085 | U105: 9.998 | V105: 623.083 | W105: 12P-PBMC-C411-VUE | X105: 0.2 | Y105: Transporte H2SO4 | Z105: Pavimentado | AA105: Camión Combustible | AB105: 24786.435 | AC105: 24.786435 | AD105: 12 | AE105: Si | AF105: =IF(AE105="Si",AC105*S105*2,AC105*S105) -> 88569.5 | AG105: {=_xlfn.IFS(D105="I",MIN('Datos pp I Región'!$K$7:$K$9),D105="II",MIN('Datos pp II Región'!$K$7:$K$9),D105="III",MIN('Datos pp III Región'!$K$7:$K$9),D105="IV",MIN('Datos pp IV Región'!$K$7:$K$9),D105="V",MIN('Datos pp V Región'!$K$7:$K$9),D105="RM",MIN('Datos pp RM'!$K$7:$K$9),D105="VI",MIN('Datos pp VI Región'!$K$7:$K$9))} -> 2 | AH105: {=_xlfn.IFS(Z105="Pavimentado",1-(AG105/(4*365)),Z105="No Pavimentado",1-(AG105/365))} -> 0.99863014 | AI105: {=_xlfn.IFS(Z105="Pavimentado",8,Z105="No Pavimentado",R105)} -> 8 | AJ105: 0.15 | AK105: 0.62 | AL105: 0.15 | AM105: 1.5 | AO105: {=_xlfn.IFS($Z105=$AT$3,AJ105*($X105)^(0.91)*(8*1.1023)^1.02,$Z105=$AT$4,AL105*281.9*(8.5/12)^0.9*(4/2.72)^0.45)} -> 0.31939355 | AP105: {=_xlfn.IFS($Z105=$AT$3,AK105*($X105)^(0.91)*(8*1.1023)^1.02,$Z105=$AT$4,AM105*281.9*(8.5/12)^0.9*(4/2.72)^0.45)} -> 1.32016 | AQ105: {=_xlfn.IFS(Z105=$AT$3,(AF105*AO105*AH105)/1000000,Z105=$AT$4,(AF105*AH105*AO105*(1-AN105))/1000000)} -> 0.028249776 | AR105: {=_xlfn.IFS(Z105=$AT$3,(AF105*AP105*AH105)/1000000,Z105=$AT$4,(AF105*AH105*AP105*(1-AN105))/1000000)} -> 0.11676574
A106: 12 | B106: ESCENARIO B | C106: DET LICITACION | D106: II | E106: RANCAGUA | F106: 12.Pavimentado-Mina Caserones a Puerto Barquito (Vuelta) | G106: TERMINAL PUERTO BARQUITO | H106: LUNDIN MINING CASERONES | I106: H2SO4 | J106: 34000 | K106: Ton/año | L106: 46227 | M106: - | N106: CRISTIAN SCHWARTZ REVISADA | O106: 34000 | P106: 8.335 | Q106: 19.03 | R106: 27.364 | S106: 1786.6527 | T106: 613.085 | U106: 9.998 | V106: 623.083 | W106: 12P-PBMC-C453-VUE | X106: 0.2 | Y106: Transporte H2SO4 | Z106: Pavimentado | AA106: Camión Combustible | AB106: 24581.092 | AC106: 24.581092 | AD106: 12 | AE106: Si | AF106: =IF(AE106="Si",AC106*S106*2,AC106*S106) -> 87835.747 | AG106: {=_xlfn.IFS(D106="I",MIN('Datos pp I Región'!$K$7:$K$9),D106="II",MIN('Datos pp II Región'!$K$7:$K$9),D106="III",MIN('Datos pp III Región'!$K$7:$K$9),D106="IV",MIN('Datos pp IV Región'!$K$7:$K$9),D106="V",MIN('Datos pp V Región'!$K$7:$K$9),D106="RM",MIN('Datos pp RM'!$K$7:$K$9),D106="VI",MIN('Datos pp VI Región'!$K$7:$K$9))} -> 2 | AH106: {=_xlfn.IFS(Z106="Pavimentado",1-(AG106/(4*365)),Z106="No Pavimentado",1-(AG106/365))} -> 0.99863014 | AI106: {=_xlfn.IFS(Z106="Pavimentado",8,Z106="No Pavimentado",R106)} -> 8 | AJ106: 0.15 | AK106: 0.62 | AL106: 0.15 | AM106: 1.5 | AO106: {=_xlfn.IFS($Z106=$AT$3,AJ106*($X106)^(0.91)*(8*1.1023)^1.02,$Z106=$AT$4,AL106*281.9*(8.5/12)^0.9*(4/2.72)^0.45)} -> 0.31939355 | AP106: {=_xlfn.IFS($Z106=$AT$3,AK106*($X106)^(0.91)*(8*1.1023)^1.02,$Z106=$AT$4,AM106*281.9*(8.5/12)^0.9*(4/2.72)^0.45)} -> 1.32016 | AQ106: {=_xlfn.IFS(Z106=$AT$3,(AF106*AO106*AH106)/1000000,Z106=$AT$4,(AF106*AH106*AO106*(1-AN106))/1000000)} -> 0.028015741 | AR106: {=_xlfn.IFS(Z106=$AT$3,(AF106*AP106*AH106)/1000000,Z106=$AT$4,(AF106*AH106*AP106*(1-AN106))/1000000)} -> 0.1157984
A107: 12 | B107: ESCENARIO B | C107: DET LICITACION | D107: II | E107: RANCAGUA | F107: 12.Pavimentado-Mina Caserones a Puerto Barquito (Vuelta) | G107: TERMINAL PUERTO BARQUITO | H107: LUNDIN MINING CASERONES | I107: H2SO4 | J107: 34000 | K107: Ton/año | L107: 46227 | M107: - | N107: CRISTIAN SCHWARTZ REVISADA | O107: 34000 | P107: 8.335 | Q107: 19.03 | R107: 27.364 | S107: 1786.6527 | T107: 613.085 | U107: 9.998 | V107: 623.083 | W107: 12P-PBMC-RI-VUE | X107: 0.2 | Y107: Transporte H2SO4 | Z107: Pavimentado | AA107: Camión Combustible | AB107: 704.76983 | AC107: 0.70477 | AD107: 12 | AE107: Si | AF107: =IF(AE107="Si",AC107*S107*2,AC107*S107) -> 2518.3584 | AG107: {=_xlfn.IFS(D107="I",MIN('Datos pp I Región'!$K$7:$K$9),D107="II",MIN('Datos pp II Región'!$K$7:$K$9),D107="III",MIN('Datos pp III Región'!$K$7:$K$9),D107="IV",MIN('Datos pp IV Región'!$K$7:$K$9),D107="V",MIN('Datos pp V Región'!$K$7:$K$9),D107="RM",MIN('Datos pp RM'!$K$7:$K$9),D107="VI",MIN('Datos pp VI Región'!$K$7:$K$9))} -> 2 | AH107: {=_xlfn.IFS(Z107="Pavimentado",1-(AG107/(4*365)),Z107="No Pavimentado",1-(AG107/365))} -> 0.99863014 | AI107: {=_xlfn.IFS(Z107="Pavimentado",8,Z107="No Pavimentado",R107)} -> 8 | AJ107: 0.15 | AK107: 0.62 | AL107: 0.15 | AM107: 1.5 | AO107: {=_xlfn.IFS($Z107=$AT$3,AJ107*($X107)^(0.91)*(8*1.1023)^1.02,$Z107=$AT$4,AL107*281.9*(8.5/12)^0.9*(4/2.72)^0.45)} -> 0.31939355 | AP107: {=_xlfn.IFS($Z107=$AT$3,AK107*($X107)^(0.91)*(8*1.1023)^1.02,$Z107=$AT$4,AM107*281.9*(8.5/12)^0.9*(4/2.72)^0.45)} -> 1.32016 | AQ107: {=_xlfn.IFS(Z107=$AT$3,(AF107*AO107*AH107)/1000000,Z107=$AT$4,(AF107*AH107*AO107*(1-AN107))/1000000)} -> 0.00080324559 | AR107: {=_xlfn.IFS(Z107=$AT$3,(AF107*AP107*AH107)/1000000,Z107=$AT$4,(AF107*AH107*AP107*(1-AN107))/1000000)} -> 0.0033200818
A108: 13 | B108: ESCENARIO B | C108: DET LICITACION | D108: VI | E108: RANCAGUA (Ruta de Contingencia) | F108: 13.Pavimentado-Codelco El Teniente a PLG Caletones | G108: CODELCO EL TENIENTE - STS | H108: CODELCO EL TENIENTE - PLG Caletones (Planta de Limpieza de Gases) | I108: H2SO4 | J108: 134137 (Total dividido por 9 rutas) | K108: Ton/año | L108: 46227 | M108: - | N108: PATRICIO TORRES REVISADA | O108: 134137 | P108: 8.335 | Q108: 19.03 | R108: 27.364 | S108: 7048.7126 | T108: 57.772 | U108: 4.54 | V108: 62.312 | W108: 13P-CTPLGC-H35 | X108: 0.2 | Y108: Transporte H2SO4 | Z108: Pavimentado | AA108: Camión Combustible | AB108: 30531.581 | AC108: 30.531581 | AD108: 13 | AE108: Si | AF108: =IF(AE108="Si",AC108*S108*2,AC108*S108) -> 430416.68 | AG108: {=_xlfn.IFS(D108="I",MIN('Datos pp I Región'!$K$7:$K$9),D108="II",MIN('Datos pp II Región'!$K$7:$K$9),D108="III",MIN('Datos pp III Región'!$K$7:$K$9),D108="IV",MIN('Datos pp IV Región'!$K$7:$K$9),D108="V",MIN('Datos pp V Región'!$K$7:$K$9),D108="RM",MIN('Datos pp RM'!$K$7:$K$9),D108="VI",MIN('Datos pp VI Región'!$K$7:$K$9))} -> 29 | AH108: {=_xlfn.IFS(Z108="Pavimentado",1-(AG108/(4*365)),Z108="No Pavimentado",1-(AG108/365))} -> 0.98013699 | AI108: {=_xlfn.IFS(Z108="Pavimentado",8,Z108="No Pavimentado",R108)} -> 8 | AJ108: 0.15 | AK108: 0.62 | AL108: 0.15 | AM108: 1.5 | AO108: {=_xlfn.IFS($Z108=$AT$3,AJ108*($X108)^(0.91)*(8*1.1023)^1.02,$Z108=$AT$4,AL108*281.9*(8.5/12)^0.9*(4/2.72)^0.45)} -> 0.31939355 | AP108: {=_xlfn.IFS($Z108=$AT$3,AK108*($X108)^(0.91)*(8*1.1023)^1.02,$Z108=$AT$4,AM108*281.9*(8.5/12)^0.9*(4/2.72)^0.45)} -> 1.32016 | AQ108: {=_xlfn.IFS(Z108=$AT$3,(AF108*AO108*AH108)/1000000,Z108=$AT$4,(AF108*AH108*AO108*(1-AN108))/1000000)} -> 0.1347417 | AR108: {=_xlfn.IFS(Z108=$AT$3,(AF108*AP108*AH108)/1000000,Z108=$AT$4,(AF108*AH108*AP108*(1-AN108))/1000000)} -> 0.55693235
A109: 13 | B109: ESCENARIO B | C109: DET LICITACION | D109: VI | E109: RANCAGUA (Ruta de Contingencia) | F109: 13.No Pavimentado-Codelco El Teniente a PLG Caletones | G109: CODELCO EL TENIENTE - STS | H109: CODELCO EL TENIENTE - PLG Caletones (Planta de Limpieza de Gases) | I109: H2SO4 | J109: 134137 (Total dividido por 9 rutas) | K109: Ton/año | L109: 46227 | M109: - | N109: PATRICIO TORRES REVISADA | O109: 134137 | P109: 8.335 | Q109: 19.03 | R109: 27.364 | S109: 7048.7126 | T109: 57.772 | U109: 4.54 | V109: 62.312 | W109: 13NP-CTPLGC-RI | X109: 0.2 | Y109: Transporte H2SO4 | Z109: No Pavimentado | AA109: Camión Combustible | AB109: 2976.7411 | AC109: 2.976741 | AD109: 13 | AE109: Si | AF109: =IF(AE109="Si",AC109*S109*2,AC109*S109) -> 41964.383 | AG109: {=_xlfn.IFS(D109="I",MIN('Datos pp I Región'!$K$7:$K$9),D109="II",MIN('Datos pp II Región'!$K$7:$K$9),D109="III",MIN('Datos pp III Región'!$K$7:$K$9),D109="IV",MIN('Datos pp IV Región'!$K$7:$K$9),D109="V",MIN('Datos pp V Región'!$K$7:$K$9),D109="RM",MIN('Datos pp RM'!$K$7:$K$9),D109="VI",MIN('Datos pp VI Región'!$K$7:$K$9))} -> 29 | AH109: {=_xlfn.IFS(Z109="Pavimentado",1-(AG109/(4*365)),Z109="No Pavimentado",1-(AG109/365))} -> 0.92054795 | AI109: {=_xlfn.IFS(Z109="Pavimentado",8,Z109="No Pavimentado",R109)} -> 27.364 | AJ109: 0.15 | AK109: 0.62 | AL109: 0.15 | AM109: 1.5 | AO109: {=_xlfn.IFS($Z109=$AT$3,AJ109*($X109)^(0.91)*(8*1.1023)^1.02,$Z109=$AT$4,AL109*281.9*(8.5/12)^0.9*(4/2.72)^0.45)} -> 36.878329 | AP109: {=_xlfn.IFS($Z109=$AT$3,AK109*($X109)^(0.91)*(8*1.1023)^1.02,$Z109=$AT$4,AM109*281.9*(8.5/12)^0.9*(4/2.72)^0.45)} -> 368.78329 | AQ109: {=_xlfn.IFS(Z109=$AT$3,(AF109*AO109*AH109)/1000000,Z109=$AT$4,(AF109*AH109*AO109*(1-AN109))/1000000)} -> 1.4246182 | AR109: {=_xlfn.IFS(Z109=$AT$3,(AF109*AP109*AH109)/1000000,Z109=$AT$4,(AF109*AH109*AP109*(1-AN109))/1000000)} -> 14.246182
A110: 13 | B110: ESCENARIO B | C110: DET LICITACION | D110: VI | E110: RANCAGUA | F110: 13.Pavimentado-Codelco El Teniente a PLG Caletones | G110: CODELCO EL TENIENTE - STS | H110: CODELCO EL TENIENTE - PLG Caletones (Planta de Limpieza de Gases) | I110: H2SO4 | J110: 134137 (Total dividido por 9 rutas) | K110: Ton/año | L110: 46227 | M110: - | N110: PATRICIO TORRES REVISADA | O110: 134137 | P110: 8.335 | Q110: 19.03 | R110: 27.364 | S110: 7048.7126 | T110: 57.772 | U110: 4.54 | V110: 62.312 | W110: 13P-CTPLGC-H265 | X110: 0.2 | Y110: Transporte H2SO4 | Z110: Pavimentado | AA110: Camión Combustible | AB110: 3657.9662 | AC110: 3.657966 | AD110: 13 | AE110: Si | AF110: =IF(AE110="Si",AC110*S110*2,AC110*S110) -> 51567.902 | AG110: {=_xlfn.IFS(D110="I",MIN('Datos pp I Región'!$K$7:$K$9),D110="II",MIN('Datos pp II Región'!$K$7:$K$9),D110="III",MIN('Datos pp III Región'!$K$7:$K$9),D110="IV",MIN('Datos pp IV Región'!$K$7:$K$9),D110="V",MIN('Datos pp V Región'!$K$7:$K$9),D110="RM",MIN('Datos pp RM'!$K$7:$K$9),D110="VI",MIN('Datos pp VI Región'!$K$7:$K$9))} -> 29 | AH110: {=_xlfn.IFS(Z110="Pavimentado",1-(AG110/(4*365)),Z110="No Pavimentado",1-(AG110/365))} -> 0.98013699 | AI110: {=_xlfn.IFS(Z110="Pavimentado",8,Z110="No Pavimentado",R110)} -> 8 | AJ110: 0.15 | AK110: 0.62 | AL110: 0.15 | AM110: 1.5 | AO110: {=_xlfn.IFS($Z110=$AT$3,AJ110*($X110)^(0.91)*(8*1.1023)^1.02,$Z110=$AT$4,AL110*281.9*(8.5/12)^0.9*(4/2.72)^0.45)} -> 0.31939355 | AP110: {=_xlfn.IFS($Z110=$AT$3,AK110*($X110)^(0.91)*(8*1.1023)^1.02,$Z110=$AT$4,AM110*281.9*(8.5/12)^0.9*(4/2.72)^0.45)} -> 1.32016 | AQ110: {=_xlfn.IFS(Z110=$AT$3,(AF110*AO110*AH110)/1000000,Z110=$AT$4,(AF110*AH110*AO110*(1-AN110))/1000000)} -> 0.016143302 | AR110: {=_xlfn.IFS(Z110=$AT$3,(AF110*AP110*AH110)/1000000,Z110=$AT$4,(AF110*AH110*AP110*(1-AN110))/1000000)} -> 0.06672565
A111: 13 | B111: ESCENARIO B | C111: DET LICITACION | D111: VI | E111: RANCAGUA | F111: 13.Pavimentado-Codelco El Teniente a PLG Caletones | G111: CODELCO EL TENIENTE - STS | H111: CODELCO EL TENIENTE - PLG Caletones (Planta de Limpieza de Gases) | I111: H2SO4 | J111: 134137 (Total dividido por 9 rutas) | K111: Ton/año | L111: 46227 | M111: - | N111: PATRICIO TORRES REVISADA | O111: 134137 | P111: 8.335 | Q111: 19.03 | R111: 27.364 | S111: 7048.7126 | T111: 57.772 | U111: 4.54 | V111: 62.312 | W111: 13P-CTPLGC-H25 | X111: 0.2 | Y111: Transporte H2SO4 | Z111: Pavimentado | AA111: Camión Combustible | AB111: 23604.752 | AC111: 23.604752 | AD111: 13 | AE111: Si | AF111: =IF(AE111="Si",AC111*S111*2,AC111*S111) -> 332766.22 | AG111: {=_xlfn.IFS(D111="I",MIN('Datos pp I Región'!$K$7:$K$9),D111="II",MIN('Datos pp II Región'!$K$7:$K$9),D111="III",MIN('Datos pp III Región'!$K$7:$K$9),D111="IV",MIN('Datos pp IV Región'!$K$7:$K$9),D111="V",MIN('Datos pp V Región'!$K$7:$K$9),D111="RM",MIN('Datos pp RM'!$K$7:$K$9),D111="VI",MIN('Datos pp VI Región'!$K$7:$K$9))} -> 29 | AH111: {=_xlfn.IFS(Z111="Pavimentado",1-(AG111/(4*365)),Z111="No Pavimentado",1-(AG111/365))} -> 0.98013699 | AI111: {=_xlfn.IFS(Z111="Pavimentado",8,Z111="No Pavimentado",R111)} -> 8 | AJ111: 0.15 | AK111: 0.62 | AL111: 0.15 | AM111: 1.5 | AO111: {=_xlfn.IFS($Z111=$AT$3,AJ111*($X111)^(0.91)*(8*1.1023)^1.02,$Z111=$AT$4,AL111*281.9*(8.5/12)^0.9*(4/2.72)^0.45)} -> 0.31939355 | AP111: {=_xlfn.IFS($Z111=$AT$3,AK111*($X111)^(0.91)*(8*1.1023)^1.02,$Z111=$AT$4,AM111*281.9*(8.5/12)^0.9*(4/2.72)^0.45)} -> 1.32016 | AQ111: {=_xlfn.IFS(Z111=$AT$3,(AF111*AO111*AH111)/1000000,Z111=$AT$4,(AF111*AH111*AO111*(1-AN111))/1000000)} -> 0.10417228 | AR111: {=_xlfn.IFS(Z111=$AT$3,(AF111*AP111*AH111)/1000000,Z111=$AT$4,(AF111*AH111*AP111*(1-AN111))/1000000)} -> 0.43057875
A112: 13 | B112: ESCENARIO B | C112: DET LICITACION | D112: VI | E112: RANCAGUA | F112: 13.Pavimentado-Codelco El Teniente a PLG Caletones | G112: CODELCO EL TENIENTE - STS | H112: CODELCO EL TENIENTE - PLG Caletones (Planta de Limpieza de Gases) | I112: H2SO4 | J112: 134137 (Total dividido por 9 rutas) | K112: Ton/año | L112: 46227 | M112: - | N112: PATRICIO TORRES REVISADA | O112: 134137 | P112: 8.335 | Q112: 19.03 | R112: 27.364 | S112: 7048.7126 | T112: 57.772 | U112: 4.54 | V112: 62.312 | W112: 13P-CTPLGC-RI | X112: 0.2 | Y112: Transporte H2SO4 | Z112: Pavimentado | AA112: Camión Combustible | AB112: 1080.5643 | AC112: 1.080564 | AD112: 13 | AE112: Si | AF112: =IF(AE112="Si",AC112*S112*2,AC112*S112) -> 15233.17 | AG112: {=_xlfn.IFS(D112="I",MIN('Datos pp I Región'!$K$7:$K$9),D112="II",MIN('Datos pp II Región'!$K$7:$K$9),D112="III",MIN('Datos pp III Región'!$K$7:$K$9),D112="IV",MIN('Datos pp IV Región'!$K$7:$K$9),D112="V",MIN('Datos pp V Región'!$K$7:$K$9),D112="RM",MIN('Datos pp RM'!$K$7:$K$9),D112="VI",MIN('Datos pp VI Región'!$K$7:$K$9))} -> 29 | AH112: {=_xlfn.IFS(Z112="Pavimentado",1-(AG112/(4*365)),Z112="No Pavimentado",1-(AG112/365))} -> 0.98013699 | AI112: {=_xlfn.IFS(Z112="Pavimentado",8,Z112="No Pavimentado",R112)} -> 8 | AJ112: 0.15 | AK112: 0.62 | AL112: 0.15 | AM112: 1.5 | AO112: {=_xlfn.IFS($Z112=$AT$3,AJ112*($X112)^(0.91)*(8*1.1023)^1.02,$Z112=$AT$4,AL112*281.9*(8.5/12)^0.9*(4/2.72)^0.45)} -> 0.31939355 | AP112: {=_xlfn.IFS($Z112=$AT$3,AK112*($X112)^(0.91)*(8*1.1023)^1.02,$Z112=$AT$4,AM112*281.9*(8.5/12)^0.9*(4/2.72)^0.45)} -> 1.32016 | AQ112: {=_xlfn.IFS(Z112=$AT$3,(AF112*AO112*AH112)/1000000,Z112=$AT$4,(AF112*AH112*AO112*(1-AN112))/1000000)} -> 0.0047687353 | AR112: {=_xlfn.IFS(Z112=$AT$3,(AF112*AP112*AH112)/1000000,Z112=$AT$4,(AF112*AH112*AP112*(1-AN112))/1000000)} -> 0.019710772
A113: 13 | B113: ESCENARIO B | C113: DET LICITACION | D113: VI | E113: RANCAGUA | F113: 13.Pavimentado-Codelco El Teniente a PLG Caletones | G113: CODELCO EL TENIENTE - STS | H113: CODELCO EL TENIENTE - PLG Caletones (Planta de Limpieza de Gases) | I113: H2SO4 | J113: 134137 (Total dividido por 9 rutas) | K113: Ton/año | L113: 46227 | M113: - | N113: PATRICIO TORRES REVISADA | O113: 134137 | P113: 8.335 | Q113: 19.03 | R113: 27.364 | S113: 7048.7126 | T113: 57.772 | U113: 4.54 | V113: 62.312 | W113: 13P-CTPLGC-RI | X113: 0.2 | Y113: Transporte H2SO4 | Z113: Pavimentado | AA113: Camión Combustible | AB113: 418.78264 | AC113: 0.418783 | AD113: 13 | AE113: Si | AF113: =IF(AE113="Si",AC113*S113*2,AC113*S113) -> 5903.762 | AG113: {=_xlfn.IFS(D113="I",MIN('Datos pp I Región'!$K$7:$K$9),D113="II",MIN('Datos pp II Región'!$K$7:$K$9),D113="III",MIN('Datos pp III Región'!$K$7:$K$9),D113="IV",MIN('Datos pp IV Región'!$K$7:$K$9),D113="V",MIN('Datos pp V Región'!$K$7:$K$9),D113="RM",MIN('Datos pp RM'!$K$7:$K$9),D113="VI",MIN('Datos pp VI Región'!$K$7:$K$9))} -> 29 | AH113: {=_xlfn.IFS(Z113="Pavimentado",1-(AG113/(4*365)),Z113="No Pavimentado",1-(AG113/365))} -> 0.98013699 | AI113: {=_xlfn.IFS(Z113="Pavimentado",8,Z113="No Pavimentado",R113)} -> 8 | AJ113: 0.15 | AK113: 0.62 | AL113: 0.15 | AM113: 1.5 | AO113: {=_xlfn.IFS($Z113=$AT$3,AJ113*($X113)^(0.91)*(8*1.1023)^1.02,$Z113=$AT$4,AL113*281.9*(8.5/12)^0.9*(4/2.72)^0.45)} -> 0.31939355 | AP113: {=_xlfn.IFS($Z113=$AT$3,AK113*($X113)^(0.91)*(8*1.1023)^1.02,$Z113=$AT$4,AM113*281.9*(8.5/12)^0.9*(4/2.72)^0.45)} -> 1.32016 | AQ113: {=_xlfn.IFS(Z113=$AT$3,(AF113*AO113*AH113)/1000000,Z113=$AT$4,(AF113*AH113*AO113*(1-AN113))/1000000)} -> 0.0018481693 | AR113: {=_xlfn.IFS(Z113=$AT$3,(AF113*AP113*AH113)/1000000,Z113=$AT$4,(AF113*AH113*AP113*(1-AN113))/1000000)} -> 0.0076391
A114: 14 | B114: ESCENARIO B | C114: DET LICITACION | D114: VI | E114: RANCAGUA | F114: 14.Pavimentado-Codelco PLG Caletones a ETA Olivar | G114: CODELCO EL TENIENTE - PLG Caletones (Planta de Limpieza de Gases) | H114: CODELCO EL TENIENTE - ETA OLIVAR (Estacion de Transferencia de H2SO4) | I114: 1 | J114: 134137 | K114: Ton/año | L114: 46227 | M114: - | N114: PATRICIO TORRES REVISADA | O114: 134137 | P114: 8.335 | Q114: 19.03 | R114: 27.364 | S114: 7048.7126 | T114: 58.468 | U114: 4.504 | V114: 62.972 | W114: 14P-CPLGCETAO-H35 | X114: 0.2 | Y114: Transporte H2SO4 | Z114: Pavimentado | AA114: Camión Combustible | AB114: 31265.687 | AC114: 31.265687 | AD114: 14 | AE114: Si | AF114: =IF(AE114="Si",AC114*S114*2,AC114*S114) -> 440765.68 | AG114: {=_xlfn.IFS(D114="I",MIN('Datos pp I Región'!$K$7:$K$9),D114="II",MIN('Datos pp II Región'!$K$7:$K$9),D114="III",MIN('Datos pp III Región'!$K$7:$K$9),D114="IV",MIN('Datos pp IV Región'!$K$7:$K$9),D114="V",MIN('Datos pp V Región'!$K$7:$K$9),D114="RM",MIN('Datos pp RM'!$K$7:$K$9),D114="VI",MIN('Datos pp VI Región'!$K$7:$K$9))} -> 29 | AH114: {=_xlfn.IFS(Z114="Pavimentado",1-(AG114/(4*365)),Z114="No Pavimentado",1-(AG114/365))} -> 0.98013699 | AI114: {=_xlfn.IFS(Z114="Pavimentado",8,Z114="No Pavimentado",R114)} -> 8 | AJ114: 0.15 | AK114: 0.62 | AL114: 0.15 | AM114: 1.5 | AO114: {=_xlfn.IFS($Z114=$AT$3,AJ114*($X114)^(0.91)*(8*1.1023)^1.02,$Z114=$AT$4,AL114*281.9*(8.5/12)^0.9*(4/2.72)^0.45)} -> 0.31939355 | AP114: {=_xlfn.IFS($Z114=$AT$3,AK114*($X114)^(0.91)*(8*1.1023)^1.02,$Z114=$AT$4,AM114*281.9*(8.5/12)^0.9*(4/2.72)^0.45)} -> 1.32016 | AQ114: {=_xlfn.IFS(Z114=$AT$3,(AF114*AO114*AH114)/1000000,Z114=$AT$4,(AF114*AH114*AO114*(1-AN114))/1000000)} -> 0.13798145 | AR114: {=_xlfn.IFS(Z114=$AT$3,(AF114*AP114*AH114)/1000000,Z114=$AT$4,(AF114*AH114*AP114*(1-AN114))/1000000)} -> 0.57032332
A115: 14 | B115: ESCENARIO B | C115: DET LICITACION | D115: VI | E115: RANCAGUA | F115: 14.No Pavimentado-Codelco PLG Caletones a ETA Olivar | G115: CODELCO EL TENIENTE - PLG Caletones (Planta de Limpieza de Gases) | H115: CODELCO EL TENIENTE - ETA OLIVAR (Estacion de Transferencia de H2SO4) | I115: 1 | J115: 134137 | K115: Ton/año | L115: 46227 | M115: - | N115: PATRICIO TORRES REVISADA | O115: 134137 | P115: 8.335 | Q115: 19.03 | R115: 27.364 | S115: 7048.7126 | T115: 58.468 | U115: 4.504 | V115: 62.972 | W115: 14NP-CPLGCETAO-RI | X115: 0.2 | Y115: Transporte H2SO4 | Z115: No Pavimentado | AA115: Camión Combustible | AB115: 2977.6647 | AC115: 2.977665 | AD115: 14 | AE115: Si | AF115: =IF(AE115="Si",AC115*S115*2,AC115*S115) -> 41977.409 | AG115: {=_xlfn.IFS(D115="I",MIN('Datos pp I Región'!$K$7:$K$9),D115="II",MIN('Datos pp II Región'!$K$7:$K$9),D115="III",MIN('Datos pp III Región'!$K$7:$K$9),D115="IV",MIN('Datos pp IV Región'!$K$7:$K$9),D115="V",MIN('Datos pp V Región'!$K$7:$K$9),D115="RM",MIN('Datos pp RM'!$K$7:$K$9),D115="VI",MIN('Datos pp VI Región'!$K$7:$K$9))} -> 29 | AH115: {=_xlfn.IFS(Z115="Pavimentado",1-(AG115/(4*365)),Z115="No Pavimentado",1-(AG115/365))} -> 0.92054795 | AI115: {=_xlfn.IFS(Z115="Pavimentado",8,Z115="No Pavimentado",R115)} -> 27.364 | AJ115: 0.15 | AK115: 0.62 | AL115: 0.15 | AM115: 1.5 | AO115: {=_xlfn.IFS($Z115=$AT$3,AJ115*($X115)^(0.91)*(8*1.1023)^1.02,$Z115=$AT$4,AL115*281.9*(8.5/12)^0.9*(4/2.72)^0.45)} -> 36.878329 | AP115: {=_xlfn.IFS($Z115=$AT$3,AK115*($X115)^(0.91)*(8*1.1023)^1.02,$Z115=$AT$4,AM115*281.9*(8.5/12)^0.9*(4/2.72)^0.45)} -> 368.78329 | AQ115: {=_xlfn.IFS(Z115=$AT$3,(AF115*AO115*AH115)/1000000,Z115=$AT$4,(AF115*AH115*AO115*(1-AN115))/1000000)} -> 1.4250604 | AR115: {=_xlfn.IFS(Z115=$AT$3,(AF115*AP115*AH115)/1000000,Z115=$AT$4,(AF115*AH115*AP115*(1-AN115))/1000000)} -> 14.250604
A116: 14 | B116: ESCENARIO B | C116: DET LICITACION | D116: VI | E116: RANCAGUA | F116: 14.Pavimentado-Codelco PLG Caletones a ETA Olivar | G116: CODELCO EL TENIENTE - PLG Caletones (Planta de Limpieza de Gases) | H116: CODELCO EL TENIENTE - ETA OLIVAR (Estacion de Transferencia de H2SO4) | I116: 1 | J116: 134137 | K116: Ton/año | L116: 46227 | M116: - | N116: PATRICIO TORRES REVISADA | O116: 134137 | P116: 8.335 | Q116: 19.03 | R116: 27.364 | S116: 7048.7126 | T116: 58.468 | U116: 4.504 | V116: 62.972 | W116: 14P-CPLGCETAO-H265 | X116: 0.2 | Y116: Transporte H2SO4 | Z116: Pavimentado | AA116: Camión Combustible | AB116: 3623.5816 | AC116: 3.623582 | AD116: 14 | AE116: Si | AF116: =IF(AE116="Si",AC116*S116*2,AC116*S116) -> 51083.176 | AG116: {=_xlfn.IFS(D116="I",MIN('Datos pp I Región'!$K$7:$K$9),D116="II",MIN('Datos pp II Región'!$K$7:$K$9),D116="III",MIN('Datos pp III Región'!$K$7:$K$9),D116="IV",MIN('Datos pp IV Región'!$K$7:$K$9),D116="V",MIN('Datos pp V Región'!$K$7:$K$9),D116="RM",MIN('Datos pp RM'!$K$7:$K$9),D116="VI",MIN('Datos pp VI Región'!$K$7:$K$9))} -> 29 | AH116: {=_xlfn.IFS(Z116="Pavimentado",1-(AG116/(4*365)),Z116="No Pavimentado",1-(AG116/365))} -> 0.98013699 | AI116: {=_xlfn.IFS(Z116="Pavimentado",8,Z116="No Pavimentado",R116)} -> 8 | AJ116: 0.15 | AK116: 0.62 | AL116: 0.15 | AM116: 1.5 | AO116: {=_xlfn.IFS($Z116=$AT$3,AJ116*($X116)^(0.91)*(8*1.1023)^1.02,$Z116=$AT$4,AL116*281.9*(8.5/12)^0.9*(4/2.72)^0.45)} -> 0.31939355 | AP116: {=_xlfn.IFS($Z116=$AT$3,AK116*($X116)^(0.91)*(8*1.1023)^1.02,$Z116=$AT$4,AM116*281.9*(8.5/12)^0.9*(4/2.72)^0.45)} -> 1.32016 | AQ116: {=_xlfn.IFS(Z116=$AT$3,(AF116*AO116*AH116)/1000000,Z116=$AT$4,(AF116*AH116*AO116*(1-AN116))/1000000)} -> 0.015991559 | AR116: {=_xlfn.IFS(Z116=$AT$3,(AF116*AP116*AH116)/1000000,Z116=$AT$4,(AF116*AH116*AP116*(1-AN116))/1000000)} -> 0.066098445
A117: 14 | B117: ESCENARIO B | C117: DET LICITACION | D117: VI | E117: RANCAGUA | F117: 14.Pavimentado-Codelco PLG Caletones a ETA Olivar | G117: CODELCO EL TENIENTE - PLG Caletones (Planta de Limpieza de Gases) | H117: CODELCO EL TENIENTE - ETA OLIVAR (Estacion de Transferencia de H2SO4) | I117: 1 | J117: 134137 | K117: Ton/año | L117: 46227 | M117: - | N117: PATRICIO TORRES REVISADA | O117: 134137 | P117: 8.335 | Q117: 19.03 | R117: 27.364 | S117: 7048.7126 | T117: 58.468 | U117: 4.504 | V117: 62.972 | W117: 14P-CPLGCETAO-H25 | X117: 0.2 | Y117: Transporte H2SO4 | Z117: Pavimentado | AA117: Camión Combustible | AB117: 23609.667 | AC117: 23.609667 | AD117: 14 | AE117: Si | AF117: =IF(AE117="Si",AC117*S117*2,AC117*S117) -> 332835.51 | AG117: {=_xlfn.IFS(D117="I",MIN('Datos pp I Región'!$K$7:$K$9),D117="II",MIN('Datos pp II Región'!$K$7:$K$9),D117="III",MIN('Datos pp III Región'!$K$7:$K$9),D117="IV",MIN('Datos pp IV Región'!$K$7:$K$9),D117="V",MIN('Datos pp V Región'!$K$7:$K$9),D117="RM",MIN('Datos pp RM'!$K$7:$K$9),D117="VI",MIN('Datos pp VI Región'!$K$7:$K$9))} -> 29 | AH117: {=_xlfn.IFS(Z117="Pavimentado",1-(AG117/(4*365)),Z117="No Pavimentado",1-(AG117/365))} -> 0.98013699 | AI117: {=_xlfn.IFS(Z117="Pavimentado",8,Z117="No Pavimentado",R117)} -> 8 | AJ117: 0.15 | AK117: 0.62 | AL117: 0.15 | AM117: 1.5 | AO117: {=_xlfn.IFS($Z117=$AT$3,AJ117*($X117)^(0.91)*(8*1.1023)^1.02,$Z117=$AT$4,AL117*281.9*(8.5/12)^0.9*(4/2.72)^0.45)} -> 0.31939355 | AP117: {=_xlfn.IFS($Z117=$AT$3,AK117*($X117)^(0.91)*(8*1.1023)^1.02,$Z117=$AT$4,AM117*281.9*(8.5/12)^0.9*(4/2.72)^0.45)} -> 1.32016 | AQ117: {=_xlfn.IFS(Z117=$AT$3,(AF117*AO117*AH117)/1000000,Z117=$AT$4,(AF117*AH117*AO117*(1-AN117))/1000000)} -> 0.10419397 | AR117: {=_xlfn.IFS(Z117=$AT$3,(AF117*AP117*AH117)/1000000,Z117=$AT$4,(AF117*AH117*AP117*(1-AN117))/1000000)} -> 0.4306684
A118: 14 | B118: ESCENARIO B | C118: DET LICITACION | D118: VI | E118: RANCAGUA | F118: 14.Pavimentado-Codelco PLG Caletones a ETA Olivar | G118: CODELCO EL TENIENTE - PLG Caletones (Planta de Limpieza de Gases) | H118: CODELCO EL TENIENTE - ETA OLIVAR (Estacion de Transferencia de H2SO4) | I118: 1 | J118: 134137 | K118: Ton/año | L118: 46227 | M118: - | N118: PATRICIO TORRES REVISADA | O118: 134137 | P118: 8.335 | Q118: 19.03 | R118: 27.364 | S118: 7048.7126 | T118: 58.468 | U118: 4.504 | V118: 62.972 | W118: 14P-CPLGCETAO-RI | X118: 0.2 | Y118: Transporte H2SO4 | Z118: Pavimentado | AA118: Camión Combustible | AB118: 1080.6086 | AC118: 1.080609 | AD118: 14 | AE118: Si | AF118: =IF(AE118="Si",AC118*S118*2,AC118*S118) -> 15233.804 | AG118: {=_xlfn.IFS(D118="I",MIN('Datos pp I Región'!$K$7:$K$9),D118="II",MIN('Datos pp II Región'!$K$7:$K$9),D118="III",MIN('Datos pp III Región'!$K$7:$K$9),D118="IV",MIN('Datos pp IV Región'!$K$7:$K$9),D118="V",MIN('Datos pp V Región'!$K$7:$K$9),D118="RM",MIN('Datos pp RM'!$K$7:$K$9),D118="VI",MIN('Datos pp VI Región'!$K$7:$K$9))} -> 29 | AH118: {=_xlfn.IFS(Z118="Pavimentado",1-(AG118/(4*365)),Z118="No Pavimentado",1-(AG118/365))} -> 0.98013699 | AI118: {=_xlfn.IFS(Z118="Pavimentado",8,Z118="No Pavimentado",R118)} -> 8 | AJ118: 0.15 | AK118: 0.62 | AL118: 0.15 | AM118: 1.5 | AO118: {=_xlfn.IFS($Z118=$AT$3,AJ118*($X118)^(0.91)*(8*1.1023)^1.02,$Z118=$AT$4,AL118*281.9*(8.5/12)^0.9*(4/2.72)^0.45)} -> 0.31939355 | AP118: {=_xlfn.IFS($Z118=$AT$3,AK118*($X118)^(0.91)*(8*1.1023)^1.02,$Z118=$AT$4,AM118*281.9*(8.5/12)^0.9*(4/2.72)^0.45)} -> 1.32016 | AQ118: {=_xlfn.IFS(Z118=$AT$3,(AF118*AO118*AH118)/1000000,Z118=$AT$4,(AF118*AH118*AO118*(1-AN118))/1000000)} -> 0.0047689339 | AR118: {=_xlfn.IFS(Z118=$AT$3,(AF118*AP118*AH118)/1000000,Z118=$AT$4,(AF118*AH118*AP118*(1-AN118))/1000000)} -> 0.019711593
A119: 14 | B119: ESCENARIO B | C119: DET LICITACION | D119: VI | E119: RANCAGUA | F119: 14.Pavimentado-Codelco PLG Caletones a ETA Olivar | G119: CODELCO EL TENIENTE - PLG Caletones (Planta de Limpieza de Gases) | H119: CODELCO EL TENIENTE - ETA OLIVAR (Estacion de Transferencia de H2SO4) | I119: 1 | J119: 134137 | K119: Ton/año | L119: 46227 | M119: - | N119: PATRICIO TORRES REVISADA | O119: 134137 | P119: 8.335 | Q119: 19.03 | R119: 27.364 | S119: 7048.7126 | T119: 58.468 | U119: 4.504 | V119: 62.972 | W119: 14P-CPLGCETAO-RI | X119: 0.2 | Y119: Transporte H2SO4 | Z119: Pavimentado | AA119: Camión Combustible | AB119: 418.77555 | AC119: 0.418776 | AD119: 14 | AE119: Si | AF119: =IF(AE119="Si",AC119*S119*2,AC119*S119) -> 5903.6633 | AG119: {=_xlfn.IFS(D119="I",MIN('Datos pp I Región'!$K$7:$K$9),D119="II",MIN('Datos pp II Región'!$K$7:$K$9),D119="III",MIN('Datos pp III Región'!$K$7:$K$9),D119="IV",MIN('Datos pp IV Región'!$K$7:$K$9),D119="V",MIN('Datos pp V Región'!$K$7:$K$9),D119="RM",MIN('Datos pp RM'!$K$7:$K$9),D119="VI",MIN('Datos pp VI Región'!$K$7:$K$9))} -> 29 | AH119: {=_xlfn.IFS(Z119="Pavimentado",1-(AG119/(4*365)),Z119="No Pavimentado",1-(AG119/365))} -> 0.98013699 | AI119: {=_xlfn.IFS(Z119="Pavimentado",8,Z119="No Pavimentado",R119)} -> 8 | AJ119: 0.15 | AK119: 0.62 | AL119: 0.15 | AM119: 1.5 | AO119: {=_xlfn.IFS($Z119=$AT$3,AJ119*($X119)^(0.91)*(8*1.1023)^1.02,$Z119=$AT$4,AL119*281.9*(8.5/12)^0.9*(4/2.72)^0.45)} -> 0.31939355 | AP119: {=_xlfn.IFS($Z119=$AT$3,AK119*($X119)^(0.91)*(8*1.1023)^1.02,$Z119=$AT$4,AM119*281.9*(8.5/12)^0.9*(4/2.72)^0.45)} -> 1.32016 | AQ119: {=_xlfn.IFS(Z119=$AT$3,(AF119*AO119*AH119)/1000000,Z119=$AT$4,(AF119*AH119*AO119*(1-AN119))/1000000)} -> 0.0018481385 | AR119: {=_xlfn.IFS(Z119=$AT$3,(AF119*AP119*AH119)/1000000,Z119=$AT$4,(AF119*AH119*AP119*(1-AN119))/1000000)} -> 0.0076389723
A120: 15 | B120: ESCENARIO B | C120: DET LICITACION | D120: VI | E120: RANCAGUA | F120: 15.Pavimentado-Codelco PLG Caletones a ETA Olivar variante | G120: CODELCO EL TENIENTE - PLG Caletones (Planta de Limpieza de Gases) | H120: CODELCO EL TENIENTE - ETA OLIVAR (Estacion de Transferencia de H2SO4) | I120: H2SO4 | J120: 50000 (Contingencia) | K120: Ton/año | L120: 46227 | M120: - | N120: PATRICIO TORRES REVISADA | O120: 50000 | P120: 8.335 | Q120: 19.03 | R120: 27.364 | S120: 2627.4304 | T120: 49.21 | U120: 4.504 | V120: 53.714 | W120: 15P-CPLGCETAO-H25-VA | X120: 0.2 | Y120: Transporte H2SO4 | Z120: Pavimentado | AA120: Camión Combustible | AB120: 35021.493 | AC120: 35.021493 | AD120: 15 | AE120: Si | AF120: =IF(AE120="Si",AC120*S120*2,AC120*S120) -> 184033.07 | AG120: {=_xlfn.IFS(D120="I",MIN('Datos pp I Región'!$K$7:$K$9),D120="II",MIN('Datos pp II Región'!$K$7:$K$9),D120="III",MIN('Datos pp III Región'!$K$7:$K$9),D120="IV",MIN('Datos pp IV Región'!$K$7:$K$9),D120="V",MIN('Datos pp V Región'!$K$7:$K$9),D120="RM",MIN('Datos pp RM'!$K$7:$K$9),D120="VI",MIN('Datos pp VI Región'!$K$7:$K$9))} -> 29 | AH120: {=_xlfn.IFS(Z120="Pavimentado",1-(AG120/(4*365)),Z120="No Pavimentado",1-(AG120/365))} -> 0.98013699 | AI120: {=_xlfn.IFS(Z120="Pavimentado",8,Z120="No Pavimentado",R120)} -> 8 | AJ120: 0.15 | AK120: 0.62 | AL120: 0.15 | AM120: 1.5 | AO120: {=_xlfn.IFS($Z120=$AT$3,AJ120*($X120)^(0.91)*(8*1.1023)^1.02,$Z120=$AT$4,AL120*281.9*(8.5/12)^0.9*(4/2.72)^0.45)} -> 0.31939355 | AP120: {=_xlfn.IFS($Z120=$AT$3,AK120*($X120)^(0.91)*(8*1.1023)^1.02,$Z120=$AT$4,AM120*281.9*(8.5/12)^0.9*(4/2.72)^0.45)} -> 1.32016 | AQ120: {=_xlfn.IFS(Z120=$AT$3,(AF120*AO120*AH120)/1000000,Z120=$AT$4,(AF120*AH120*AO120*(1-AN120))/1000000)} -> 0.057611448 | AR120: {=_xlfn.IFS(Z120=$AT$3,(AF120*AP120*AH120)/1000000,Z120=$AT$4,(AF120*AH120*AP120*(1-AN120))/1000000)} -> 0.23812732
A121: 15 | B121: ESCENARIO B | C121: DET LICITACION | D121: VI | E121: RANCAGUA | F121: 15.No Pavimentado-Codelco PLG Caletones a ETA Olivar variante | G121: CODELCO EL TENIENTE - PLG Caletones (Planta de Limpieza de Gases) | H121: CODELCO EL TENIENTE - ETA OLIVAR (Estacion de Transferencia de H2SO4) | I121: H2SO4 | J121: 50000 (Contingencia) | K121: Ton/año | L121: 46227 | M121: - | N121: PATRICIO TORRES REVISADA | O121: 50000 | P121: 8.335 | Q121: 19.03 | R121: 27.364 | S121: 2627.4304 | T121: 49.21 | U121: 4.504 | V121: 53.714 | W121: 15NP-CPLGCETAO-RI-VA | X121: 0.2 | Y121: Transporte H2SO4 | Z121: No Pavimentado | AA121: Camión Combustible | AB121: 2976.742 | AC121: 2.976742 | AD121: 15 | AE121: Si | AF121: =IF(AE121="Si",AC121*S121*2,AC121*S121) -> 15642.365 | AG121: {=_xlfn.IFS(D121="I",MIN('Datos pp I Región'!$K$7:$K$9),D121="II",MIN('Datos pp II Región'!$K$7:$K$9),D121="III",MIN('Datos pp III Región'!$K$7:$K$9),D121="IV",MIN('Datos pp IV Región'!$K$7:$K$9),D121="V",MIN('Datos pp V Región'!$K$7:$K$9),D121="RM",MIN('Datos pp RM'!$K$7:$K$9),D121="VI",MIN('Datos pp VI Región'!$K$7:$K$9))} -> 29 | AH121: {=_xlfn.IFS(Z121="Pavimentado",1-(AG121/(4*365)),Z121="No Pavimentado",1-(AG121/365))} -> 0.92054795 | AI121: {=_xlfn.IFS(Z121="Pavimentado",8,Z121="No Pavimentado",R121)} -> 27.364 | AJ121: 0.15 | AK121: 0.62 | AL121: 0.15 | AM121: 1.5 | AO121: {=_xlfn.IFS($Z121=$AT$3,AJ121*($X121)^(0.91)*(8*1.1023)^1.02,$Z121=$AT$4,AL121*281.9*(8.5/12)^0.9*(4/2.72)^0.45)} -> 36.878329 | AP121: {=_xlfn.IFS($Z121=$AT$3,AK121*($X121)^(0.91)*(8*1.1023)^1.02,$Z121=$AT$4,AM121*281.9*(8.5/12)^0.9*(4/2.72)^0.45)} -> 368.78329 | AQ121: {=_xlfn.IFS(Z121=$AT$3,(AF121*AO121*AH121)/1000000,Z121=$AT$4,(AF121*AH121*AO121*(1-AN121))/1000000)} -> 0.53103122 | AR121: {=_xlfn.IFS(Z121=$AT$3,(AF121*AP121*AH121)/1000000,Z121=$AT$4,(AF121*AH121*AP121*(1-AN121))/1000000)} -> 5.3103122
A122: 15 | B122: ESCENARIO B | C122: DET LICITACION | D122: VI | E122: RANCAGUA | F122: 15.Pavimentado-Codelco PLG Caletones a ETA Olivar variante | G122: CODELCO EL TENIENTE - PLG Caletones (Planta de Limpieza de Gases) | H122: CODELCO EL TENIENTE - ETA OLIVAR (Estacion de Transferencia de H2SO4) | I122: H2SO4 | J122: 50000 (Contingencia) | K122: Ton/año | L122: 46227 | M122: - | N122: PATRICIO TORRES REVISADA | O122: 50000 | P122: 8.335 | Q122: 19.03 | R122: 27.364 | S122: 2627.4304 | T122: 49.21 | U122: 4.504 | V122: 53.714 | W122: 15P-CPLGCETAO-H40-VA | X122: 0.2 | Y122: Transporte H2SO4 | Z122: Pavimentado | AA122: Camión Combustible | AB122: 1055.9712 | AC122: 1.055971 | AD122: 15 | AE122: Si | AF122: =IF(AE122="Si",AC122*S122*2,AC122*S122) -> 5548.9806 | AG122: {=_xlfn.IFS(D122="I",MIN('Datos pp I Región'!$K$7:$K$9),D122="II",MIN('Datos pp II Región'!$K$7:$K$9),D122="III",MIN('Datos pp III Región'!$K$7:$K$9),D122="IV",MIN('Datos pp IV Región'!$K$7:$K$9),D122="V",MIN('Datos pp V Región'!$K$7:$K$9),D122="RM",MIN('Datos pp RM'!$K$7:$K$9),D122="VI",MIN('Datos pp VI Región'!$K$7:$K$9))} -> 29 | AH122: {=_xlfn.IFS(Z122="Pavimentado",1-(AG122/(4*365)),Z122="No Pavimentado",1-(AG122/365))} -> 0.98013699 | AI122: {=_xlfn.IFS(Z122="Pavimentado",8,Z122="No Pavimentado",R122)} -> 8 | AJ122: 0.15 | AK122: 0.62 | AL122: 0.15 | AM122: 1.5 | AO122: {=_xlfn.IFS($Z122=$AT$3,AJ122*($X122)^(0.91)*(8*1.1023)^1.02,$Z122=$AT$4,AL122*281.9*(8.5/12)^0.9*(4/2.72)^0.45)} -> 0.31939355 | AP122: {=_xlfn.IFS($Z122=$AT$3,AK122*($X122)^(0.91)*(8*1.1023)^1.02,$Z122=$AT$4,AM122*281.9*(8.5/12)^0.9*(4/2.72)^0.45)} -> 1.32016 | AQ122: {=_xlfn.IFS(Z122=$AT$3,(AF122*AO122*AH122)/1000000,Z122=$AT$4,(AF122*AH122*AO122*(1-AN122))/1000000)} -> 0.0017371052 | AR122: {=_xlfn.IFS(Z122=$AT$3,(AF122*AP122*AH122)/1000000,Z122=$AT$4,(AF122*AH122*AP122*(1-AN122))/1000000)} -> 0.0071800349
A123: 15 | B123: ESCENARIO B | C123: DET LICITACION | D123: VI | E123: RANCAGUA | F123: 15.Pavimentado-Codelco PLG Caletones a ETA Olivar variante | G123: CODELCO EL TENIENTE - PLG Caletones (Planta de Limpieza de Gases) | H123: CODELCO EL TENIENTE - ETA OLIVAR (Estacion de Transferencia de H2SO4) | I123: H2SO4 | J123: 50000 (Contingencia) | K123: Ton/año | L123: 46227 | M123: - | N123: PATRICIO TORRES REVISADA | O123: 50000 | P123: 8.335 | Q123: 19.03 | R123: 27.364 | S123: 2627.4304 | T123: 49.21 | U123: 4.504 | V123: 53.714 | W123: 15P-CPLGCETAO-ER05-VA | X123: 0.03 | Y123: Transporte H2SO4 | Z123: Pavimentado | AA123: Camión Combustible | AB123: 3887.3021 | AC123: 3.887302 | AD123: 15 | AE123: Si | AF123: =IF(AE123="Si",AC123*S123*2,AC123*S123) -> 20427.231 | AG123: {=_xlfn.IFS(D123="I",MIN('Datos pp I Región'!$K$7:$K$9),D123="II",MIN('Datos pp II Región'!$K$7:$K$9),D123="III",MIN('Datos pp III Región'!$K$7:$K$9),D123="IV",MIN('Datos pp IV Región'!$K$7:$K$9),D123="V",MIN('Datos pp V Región'!$K$7:$K$9),D123="RM",MIN('Datos pp RM'!$K$7:$K$9),D123="VI",MIN('Datos pp VI Región'!$K$7:$K$9))} -> 29 | AH123: {=_xlfn.IFS(Z123="Pavimentado",1-(AG123/(4*365)),Z123="No Pavimentado",1-(AG123/365))} -> 0.98013699 | AI123: {=_xlfn.IFS(Z123="Pavimentado",8,Z123="No Pavimentado",R123)} -> 8 | AJ123: 0.15 | AK123: 0.62 | AL123: 0.15 | AM123: 1.5 | AO123: {=_xlfn.IFS($Z123=$AT$3,AJ123*($X123)^(0.91)*(8*1.1023)^1.02,$Z123=$AT$4,AL123*281.9*(8.5/12)^0.9*(4/2.72)^0.45)} -> 0.056828892 | AP123: {=_xlfn.IFS($Z123=$AT$3,AK123*($X123)^(0.91)*(8*1.1023)^1.02,$Z123=$AT$4,AM123*281.9*(8.5/12)^0.9*(4/2.72)^0.45)} -> 0.23489275 | AQ123: {=_xlfn.IFS(Z123=$AT$3,(AF123*AO123*AH123)/1000000,Z123=$AT$4,(AF123*AH123*AO123*(1-AN123))/1000000)} -> 0.0011377988 | AR123: {=_xlfn.IFS(Z123=$AT$3,(AF123*AP123*AH123)/1000000,Z123=$AT$4,(AF123*AH123*AP123*(1-AN123))/1000000)} -> 0.0047029016
A124: 15 | B124: ESCENARIO B | C124: NUEVA RUTA - MINERA FLORIDA | D124: VI | E124: RANCAGUA | F124: 15.Pavimentado-Codelco PLG Caletones a ETA Olivar variante | G124: CODELCO EL TENIENTE - PLG Caletones (Planta de Limpieza de Gases) | H124: CODELCO EL TENIENTE - ETA OLIVAR (Estacion de Transferencia de H2SO4) | I124: H2SO4 | J124: 50000 (Contingencia) | K124: Ton/año | L124: 46227 | M124: - | N124: PATRICIO TORRES REVISADA | O124: 50000 | P124: 8.335 | Q124: 19.03 | R124: 27.364 | S124: 2627.4304 | T124: 49.21 | U124: 4.504 | V124: 53.714 | W124: 15P-CPLGCETAO-RCOV-VA | X124: 0.2 | Y124: Transporte H2SO4 | Z124: Pavimentado | AA124: Camión Combustible | AB124: 1414.9783 | AC124: 1.414978 | AD124: 15 | AE124: Si | AF124: =IF(AE124="Si",AC124*S124*2,AC124*S124) -> 7435.5123 | AG124: {=_xlfn.IFS(D124="I",MIN('Datos pp I Región'!$K$7:$K$9),D124="II",MIN('Datos pp II Región'!$K$7:$K$9),D124="III",MIN('Datos pp III Región'!$K$7:$K$9),D124="IV",MIN('Datos pp IV Región'!$K$7:$K$9),D124="V",MIN('Datos pp V Región'!$K$7:$K$9),D124="RM",MIN('Datos pp RM'!$K$7:$K$9),D124="VI",MIN('Datos pp VI Región'!$K$7:$K$9))} -> 29 | AH124: {=_xlfn.IFS(Z124="Pavimentado",1-(AG124/(4*365)),Z124="No Pavimentado",1-(AG124/365))} -> 0.98013699 | AI124: {=_xlfn.IFS(Z124="Pavimentado",8,Z124="No Pavimentado",R124)} -> 8 | AJ124: 0.15 | AK124: 0.62 | AL124: 0.15 | AM124: 1.5 | AO124: {=_xlfn.IFS($Z124=$AT$3,AJ124*($X124)^(0.91)*(8*1.1023)^1.02,$Z124=$AT$4,AL124*281.9*(8.5/12)^0.9*(4/2.72)^0.45)} -> 0.31939355 | AP124: {=_xlfn.IFS($Z124=$AT$3,AK124*($X124)^(0.91)*(8*1.1023)^1.02,$Z124=$AT$4,AM124*281.9*(8.5/12)^0.9*(4/2.72)^0.45)} -> 1.32016 | AQ124: {=_xlfn.IFS(Z124=$AT$3,(AF124*AO124*AH124)/1000000,Z124=$AT$4,(AF124*AH124*AO124*(1-AN124))/1000000)} -> 0.0023276829 | AR124: {=_xlfn.IFS(Z124=$AT$3,(AF124*AP124*AH124)/1000000,Z124=$AT$4,(AF124*AH124*AP124*(1-AN124))/1000000)} -> 0.0096210895
A125: 15 | B125: ESCENARIO B | C125: NUEVA RUTA - MINERA FLORIDA | D125: VI | E125: RANCAGUA | F125: 15.Pavimentado-Codelco PLG Caletones a ETA Olivar variante | G125: CODELCO EL TENIENTE - PLG Caletones (Planta de Limpieza de Gases) | H125: CODELCO EL TENIENTE - ETA OLIVAR (Estacion de Transferencia de H2SO4) | I125: H2SO4 | J125: 50000 (Contingencia) | K125: Ton/año | L125: 46227 | M125: - | N125: PATRICIO TORRES REVISADA | O125: 50000 | P125: 8.335 | Q125: 19.03 | R125: 27.364 | S125: 2627.4304 | T125: 49.21 | U125: 4.504 | V125: 53.714 | W125: 15P-CPLGCETAO-H29-VA | X125: 0.2 | Y125: Transporte H2SO4 | Z125: Pavimentado | AA125: Camión Combustible | AB125: 7845.5415 | AC125: 7.845542 | AD125: 15 | AE125: Si | AF125: =IF(AE125="Si",AC125*S125*2,AC125*S125) -> 41227.231 | AG125: {=_xlfn.IFS(D125="I",MIN('Datos pp I Región'!$K$7:$K$9),D125="II",MIN('Datos pp II Región'!$K$7:$K$9),D125="III",MIN('Datos pp III Región'!$K$7:$K$9),D125="IV",MIN('Datos pp IV Región'!$K$7:$K$9),D125="V",MIN('Datos pp V Región'!$K$7:$K$9),D125="RM",MIN('Datos pp RM'!$K$7:$K$9),D125="VI",MIN('Datos pp VI Región'!$K$7:$K$9))} -> 29 | AH125: {=_xlfn.IFS(Z125="Pavimentado",1-(AG125/(4*365)),Z125="No Pavimentado",1-(AG125/365))} -> 0.98013699 | AI125: {=_xlfn.IFS(Z125="Pavimentado",8,Z125="No Pavimentado",R125)} -> 8 | AJ125: 0.15 | AK125: 0.62 | AL125: 0.15 | AM125: 1.5 | AO125: {=_xlfn.IFS($Z125=$AT$3,AJ125*($X125)^(0.91)*(8*1.1023)^1.02,$Z125=$AT$4,AL125*281.9*(8.5/12)^0.9*(4/2.72)^0.45)} -> 0.31939355 | AP125: {=_xlfn.IFS($Z125=$AT$3,AK125*($X125)^(0.91)*(8*1.1023)^1.02,$Z125=$AT$4,AM125*281.9*(8.5/12)^0.9*(4/2.72)^0.45)} -> 1.32016 | AQ125: {=_xlfn.IFS(Z125=$AT$3,(AF125*AO125*AH125)/1000000,Z125=$AT$4,(AF125*AH125*AO125*(1-AN125))/1000000)} -> 0.012906161 | AR125: {=_xlfn.IFS(Z125=$AT$3,(AF125*AP125*AH125)/1000000,Z125=$AT$4,(AF125*AH125*AP125*(1-AN125))/1000000)} -> 0.053345466
A126: 15 | B126: ESCENARIO B | C126: NUEVA RUTA - MINERA FLORIDA | D126: VI | E126: RANCAGUA | F126: 15.Pavimentado-Codelco PLG Caletones a ETA Olivar variante | G126: CODELCO EL TENIENTE - PLG Caletones (Planta de Limpieza de Gases) | H126: CODELCO EL TENIENTE - ETA OLIVAR (Estacion de Transferencia de H2SO4) | I126: H2SO4 | J126: 50000 (Contingencia) | K126: Ton/año | L126: 46227 | M126: - | N126: PATRICIO TORRES REVISADA | O126: 50000 | P126: 8.335 | Q126: 19.03 | R126: 27.364 | S126: 2627.4304 | T126: 49.21 | U126: 4.504 | V126: 53.714 | W126: 15P-CPLGCETAO-RI-VA | X126: 0.2 | Y126: Transporte H2SO4 | Z126: Pavimentado | AA126: Camión Combustible | AB126: 1089.1076 | AC126: 1.089108 | AD126: 15 | AE126: Si | AF126: =IF(AE126="Si",AC126*S126*2,AC126*S126) -> 5723.1109 | AG126: {=_xlfn.IFS(D126="I",MIN('Datos pp I Región'!$K$7:$K$9),D126="II",MIN('Datos pp II Región'!$K$7:$K$9),D126="III",MIN('Datos pp III Región'!$K$7:$K$9),D126="IV",MIN('Datos pp IV Región'!$K$7:$K$9),D126="V",MIN('Datos pp V Región'!$K$7:$K$9),D126="RM",MIN('Datos pp RM'!$K$7:$K$9),D126="VI",MIN('Datos pp VI Región'!$K$7:$K$9))} -> 29 | AH126: {=_xlfn.IFS(Z126="Pavimentado",1-(AG126/(4*365)),Z126="No Pavimentado",1-(AG126/365))} -> 0.98013699 | AI126: {=_xlfn.IFS(Z126="Pavimentado",8,Z126="No Pavimentado",R126)} -> 8 | AJ126: 0.15 | AK126: 0.62 | AL126: 0.15 | AM126: 1.5 | AO126: {=_xlfn.IFS($Z126=$AT$3,AJ126*($X126)^(0.91)*(8*1.1023)^1.02,$Z126=$AT$4,AL126*281.9*(8.5/12)^0.9*(4/2.72)^0.45)} -> 0.31939355 | AP126: {=_xlfn.IFS($Z126=$AT$3,AK126*($X126)^(0.91)*(8*1.1023)^1.02,$Z126=$AT$4,AM126*281.9*(8.5/12)^0.9*(4/2.72)^0.45)} -> 1.32016 | AQ126: {=_xlfn.IFS(Z126=$AT$3,(AF126*AO126*AH126)/1000000,Z126=$AT$4,(AF126*AH126*AO126*(1-AN126))/1000000)} -> 0.0017916166 | AR126: {=_xlfn.IFS(Z126=$AT$3,(AF126*AP126*AH126)/1000000,Z126=$AT$4,(AF126*AH126*AP126*(1-AN126))/1000000)} -> 0.0074053487
