Workbook

Sheet Hoja1
A1: ID | B1: DENOMINACION INTERNA | C1: RCA N° ORIGEN RUTA | D1: REGIÓN | E1: COMUNA | F1: Name | G1: INSTALACIÓN DE ORIGEN O LUGAR DE CARGA | H1: INSTALACIÓN DE DESTINO O LUGAR DE DESCARGA | I1: SUSTANCIA | J1: CANTIDAD_ | K1: CANTIDAD | L1: FRECUENCIA | M1: UNIDAD | N1: QUIEN_VALI | O1: Cantidad_t | P1: Tara__ton_ | Q1: Carga_úti | R1: PBV__ton_ | S1: Cantidad de viajes (ida/año) | T1: Distancia pavimentada | U1: Distancia no pavimentada | V1: Distancia total | W1: Codigo | X1: sL | Y1: Actividad | Z1: Tipo de camino | AA1: Tipo_Cam | AB1: Dis_mts | AC1: Dis_km | AD1: Numero | AE1: ¿Es un viaje de ida y vuelta? | AF1: NA ida y vuelta | AG1: P | AH1: Factor Lluvia | AI1: W | AJ1: k (P) MP2,5 | AK1: k (P) MP10 | AL1: k (NP) MP2,5 | AM1: k (NP) MP10 | AN1: Eficiencia de Abatimiento (Ea) | AO1: Factor de Emisión PM2,5 | AP1: Factor de Emisión PM10 | AQ1: Emisiones totales PM2,5 (ton/año) | AR1: Emisiones totales PM10 (ton/año)
A2: 1 | B2: ESCENARIO B | C2: ANGLO AMERICAN LICITACION | D2: V | E2: Catemu | F2: 1.Pavimentado-Chagres a Puerto Ventanas | G2: MINERA SUR ANDES - FUNDICION CHAGRES - CHAGRES | H2: PUERTO VENTANAS | I2: H2SO4 | J2: 11000 | K2: Ton/año | L2: 46227 | M2: - | N2: PATRICIO TORRES REVISADA | O2: 11000 | P2: 8.335 | Q2: 19.03 | R2: 27.364 | S2: 578.03468 | T2: 66.32 | U2: 0 | V2: 66.32 | W2: 1P-CPV-R05 | X2: 0.03 | Y2: Transporte H2SO4 | Z2: Pavimentado | AA2: Camión Combustible | AB2: 28094.326 | AC2: 28.094326 | AD2: 1 | AE2: Si | AF2: 32478.99 | AG2: 22 | AH2: 0.98493151 | AI2: 8 | AJ2: 0.15 | AK2: 0.62 | AL2: 0.15 | AM2: 1.5 | AO2: 0.056828892 | AP2: 0.23489275 | AQ2: 0.0018179324 | AR2: 0.0075141206 | AT2: Tipo de camino | AU2: Emisiones totales PM2,5 (ton/año) | AV2: Emisiones totales PM10 (ton/año)
A3: 1 | B3: ESCENARIO B | C3: ANGLO AMERICAN LICITACION | D3: V | E3: Catemu | F3: 1.Pavimentado-Chagres a Puerto Ventanas | G3: MINERA SUR ANDES - FUNDICION CHAGRES - CHAGRES | H3: PUERTO VENTANAS | I3: H2SO4 | J3: 11000 | K3: Ton/año | L3: 46227 | M3: - | N3: PATRICIO TORRES REVISADA | O3: 11000 | P3: 8.335 | Q3: 19.03 | R3: 27.364 | S3: 578.03468 | T3: 66.32 | U3: 0 | V3: 66.32 | W3: 1P-CPV-RI | X3: 0.03 | Y3: Transporte H2SO4 | Z3: Pavimentado | AA3: Camión Combustible | AB3: 1058.6761 | AC3: 1.058676 | AD3: 1 | AE3: Si | AF3: 1223.9029 | AG3: 22 | AH3: 0.98493151 | AI3: 8 | AJ3: 0.15 | AK3: 0.62 | AL3: 0.15 | AM3: 1.5 | AO3: 0.056828892 | AP3: 0.23489275 | AQ3: 6.8504986e-05 | AR3: 0.00028315394 | AT3: Pavimentado | AU3: 0.18658269 | AV3: 0.77120847
A4: 1 | B4: ESCENARIO B | C4: ANGLO AMERICAN LICITACION | D4: V | E4: Catemu | F4: 1.Pavimentado-Chagres a Puerto Ventanas | G4: MINERA SUR ANDES - FUNDICION CHAGRES - CHAGRES | H4: PUERTO VENTANAS | I4: H2SO4 | J4: 11000 | K4: Ton/año | L4: 46227 | M4: - | N4: PATRICIO TORRES REVISADA | O4: 11000 | P4: 8.335 | Q4: 19.03 | R4: 27.364 | S4: 578.03468 | T4: 66.32 | U4: 0 | V4: 66.32 | W4: 1P-CPV-F30E | X4: 0.03 | Y4: Transporte H2SO4 | Z4: Pavimentado | AA4: Camión Combustible | AB4: 4752.121 | AC4: 4.752121 | AD4: 1 | AE4: Si | AF4: 5493.7815 | AG4: 22 | AH4: 0.98493151 | AI4: 8 | AJ4: 0.15 | AK4: 0.62 | AL4: 0.15 | AM4: 1.5 | AO4: 0.056828892 | AP4: 0.23489275 | AQ4: 0.00030750105 | AR4: 0.0012710043 | AT4: No Pavimentado | AU4: 1.1722677 | AV4: 11.722677
A5: 1 | B5: ESCENARIO B | C5: ANGLO AMERICAN LICITACION | D5: V | E5: Catemu | F5: 1.Pavimentado-Chagres a Puerto Ventanas | G5: MINERA SUR ANDES - FUNDICION CHAGRES - CHAGRES | H5: PUERTO VENTANAS | I5: H2SO4 | J5: 11000 | K5: Ton/año | L5: 46227 | M5: - | N5: PATRICIO TORRES REVISADA | O5: 11000 | P5: 8.335 | Q5: 19.03 | R5: 27.364 | S5: 578.03468 | T5: 66.32 | U5: 0 | V5: 66.32 | W5: 1P-CPV-F20 | X5: 0.03 | Y5: Transporte H2SO4 | Z5: Pavimentado | AA5: Camión Combustible | AB5: 26475.273 | AC5: 26.475273 | AD5: 1 | AE5: Si | AF5: 30607.252 | AG5: 22 | AH5: 0.98493151 | AI5: 8 | AJ5: 0.15 | AK5: 0.62 | AL5: 0.15 | AM5: 1.5 | AO5: 0.056828892 | AP5: 0.23489275 | AQ5: 0.0017131665 | AR5: 0.007081088 | AT5: 0 | AU5: 1.3588504 | AV5: 12.493885
A6: 1 | B6: ESCENARIO B | C6: ANGLO AMERICAN LICITACION | D6: V | E6: Catemu | F6: 1.Pavimentado-Chagres a Puerto Ventanas | G6: MINERA SUR ANDES - FUNDICION CHAGRES - CHAGRES | H6: PUERTO VENTANAS | I6: H2SO4 | J6: 11000 | K6: Ton/año | L6: 46227 | M6: - | N6: PATRICIO TORRES REVISADA | O6: 11000 | P6: 8.335 | Q6: 19.03 | R6: 27.364 | S6: 578.03468 | T6: 66.32 | U6: 0 | V6: 66.32 | W6: 1P-CPV-E60 | X6: 0.03 | Y6: Transporte H2SO4 | Z6: Pavimentado | AA6: Camión Combustible | AB6: 5470.8773 | AC6: 5.470877 | AD6: 1 | AE6: Si | AF6: 6324.7133 | AG6: 22 | AH6: 0.98493151 | AI6: 8 | AJ6: 0.15 | AK6: 0.62 | AL6: 0.15 | AM6: 1.5 | AO6: 0.056828892 | AP6: 0.23489275 | AQ6: 0.00035401044 | AR6: 0.0014632431
A7: 1 | B7: ESCENARIO B | C7: ANGLO AMERICAN LICITACION | D7: V | E7: Catemu | F7: 1.Pavimentado-Chagres a Puerto Ventanas | G7: MINERA SUR ANDES - FUNDICION CHAGRES - CHAGRES | H7: PUERTO VENTANAS | I7: H2SO4 | J7: 11000 | K7: Ton/año | L7: 46227 | M7: - | N7: PATRICIO TORRES REVISADA | O7: 11000 | P7: 8.335 | Q7: 19.03 | R7: 27.364 | S7: 578.03468 | T7: 66.32 | U7: 0 | V7: 66.32 | W7: 1P-CPV-E65 | X7: 0.03 | Y7: Transporte H2SO4 | Z7: Pavimentado | AA7: Camión Combustible | AB7: 505.8 | AC7: 0.5058 | AD7: 1 | AE7: Si | AF7: 584.73988 | AG7: 22 | AH7: 0.98493151 | AI7: 8 | AJ7: 0.15 | AK7: 0.62 | AL7: 0.15 | AM7: 1.5 | AO7: 0.056828892 | AP7: 0.23489275 | AQ7: 3.2729392e-05 | AR7: 0.00013528149
A8: 2 | B8: ESCENARIO B | C8: LOS PELAMBRES LICITACION | D8: V | E8: Catemu | F8: 2.Pavimentado-Chagres a Mina Los Pelambres | G8: MINERA SUR ANDES - FUNDICION CHAGRES - CHAGRES | H8: MLP - LOS PELAMBRES | I8: H2SO4 | J8: 80 | K8: Ton/semana | L8: El ritmo o frecuencia de viajes estará determinado por el programa de consumo que entregue la Minera. | M8: - | N8: PATRICIO TORRES REVISADA | O8: 4160 | P8: 8.335 | Q8: 19.03 | R8: 27.364 | S8: 218.60221 | T8: 288.495 | U8: 0 | V8: 288.495 | W8: 2P-CMLP-R05 | X8: 0.03 | Y8: Transporte H2SO4 | Z8: Pavimentado | AA8: Camión Combustible | AB8: 137273.59 | AC8: 137.27359 | AD8: 2 | AE8: Si | AF8: 60016.62 | AG8: 22 | AH8: 0.98493151 | AI8: 8 | AJ8: 0.15 | AK8: 0.62 | AL8: 0.15 | AM8: 1.5 | AO8: 0.056828892 | AP8: 0.23489275 | AQ8: 0.0033592843 | AR8: 0.013885042
A9: 2 | B9: ESCENARIO B | C9: LOS PELAMBRES LICITACION | D9: V | E9: Catemu | F9: 2.Pavimentado-Chagres a Mina Los Pelambres | G9: MINERA SUR ANDES - FUNDICION CHAGRES - CHAGRES | H9: MLP - LOS PELAMBRES | I9: H2SO4 | J9: 80 | K9: Ton/semana | L9: El ritmo o frecuencia de viajes estará determinado por el programa de consumo que entregue la Minera. | M9: - | N9: PATRICIO TORRES REVISADA | O9: 4160 | P9: 8.335 | Q9: 19.03 | R9: 27.364 | S9: 218.60221 | T9: 288.495 | U9: 0 | V9: 288.495 | W9: 2P-CMLP-E65 | X9: 0.03 | Y9: Transporte H2SO4 | Z9: Pavimentado | AA9: Camión Combustible | AB9: 505.8 | AC9: 0.5058 | AD9: 2 | AE9: Si | AF9: 221.13799 | AG9: 22 | AH9: 0.98493151 | AI9: 8 | AJ9: 0.15 | AK9: 0.62 | AL9: 0.15 | AM9: 1.5 | AO9: 0.056828892 | AP9: 0.23489275 | AQ9: 1.2377661e-05 | AR9: 5.1160999e-05
A10: 2 | B10: ESCENARIO B | C10: LOS PELAMBRES LICITACION | D10: V | E10: Catemu | F10: 2.Pavimentado-Chagres a Mina Los Pelambres | G10: MINERA SUR ANDES - FUNDICION CHAGRES - CHAGRES | H10: MLP - LOS PELAMBRES | I10: H2SO4 | J10: 80 | K10: Ton/semana | L10: El ritmo o frecuencia de viajes estará determinado por el programa de consumo que entregue la Minera. | M10: - | N10: PATRICIO TORRES REVISADA | O10: 4160 | P10: 8.335 | Q10: 19.03 | R10: 27.364 | S10: 218.60221 | T10: 288.495 | U10: 0 | V10: 288.495 | W10: 2P-CMLP-E60 | X10: 0.03 | Y10: Transporte H2SO4 | Z10: Pavimentado | AA10: Camión Combustible | AB10: 5470.8632 | AC10: 5.470863 | AD10: 2 | AE10: Si | AF10: 2391.8855 | AG10: 22 | AH10: 0.98493151 | AI10: 8 | AJ10: 0.15 | AK10: 0.62 | AL10: 0.15 | AM10: 1.5 | AO10: 0.056828892 | AP10: 0.23489275 | AQ10: 0.00013387997 | AR10: 0.00055337053
A11: 2 | B11: ESCENARIO B | C11: LOS PELAMBRES LICITACION | D11: V | E11: Catemu | F11: 2.Pavimentado-Chagres a Mina Los Pelambres | G11: MINERA SUR ANDES - FUNDICION CHAGRES - CHAGRES | H11: MLP - LOS PELAMBRES | I11: H2SO4 | J11: 80 | K11: Ton/semana | L11: El ritmo o frecuencia de viajes estará determinado por el programa de consumo que entregue la Minera. | M11: - | N11: PATRICIO TORRES REVISADA | O11: 4160 | P11: 8.335 | Q11: 19.03 | R11: 27.364 | S11: 218.60221 | T11: 288.495 | U11: 0 | V11: 288.495 | W11: 2P-CMLP-R47 | X11: 0.2 | Y11: Transporte H2SO4 | Z11: Pavimentado | AA11: Camión Combustible | AB11: 36296.073 | AC11: 36.296073 | AD11: 2 | AE11: Si | AF11: 15868.803 | AG11: 22 | AH11: 0.98493151 | AI11: 8 | AJ11: 0.15 | AK11: 0.62 | AL11: 0.15 | AM11: 1.5 | AO11: 0.31939355 | AP11: 1.32016 | AQ11: 0.0049920204 | AR11: 0.020633684
A12: 2 | B12: ESCENARIO B | C12: LOS PELAMBRES LICITACION | D12: V | E12: Catemu | F12: 2.Pavimentado-Chagres a Mina Los Pelambres | G12: MINERA SUR ANDES - FUNDICION CHAGRES - CHAGRES | H12: MLP - LOS PELAMBRES | I12: H2SO4 | J12: 80 | K12: Ton/semana | L12: El ritmo o frecuencia de viajes estará determinado por el programa de consumo que entregue la Minera. | M12: - | N12: PATRICIO TORRES REVISADA | O12: 4160 | P12: 8.335 | Q12: 19.03 | R12: 27.364 | S12: 218.60221 | T12: 288.495 | U12: 0 | V12: 288.495 | W12: 2P-CMLP-D81 | X12: 0.2 | Y12: Transporte H2SO4 | Z12: Pavimentado | AA12: Camión Combustible | AB12: 20065.425 | AC12: 20.065425 | AD12: 2 | AE12: Si | AF12: 8772.6924 | AG12: 22 | AH12: 0.98493151 | AI12: 8 | AJ12: 0.15 | AK12: 0.62 | AL12: 0.15 | AM12: 1.5 | AO12: 0.31939355 | AP12: 1.32016 | AQ12: 0.0027597204 | AR12: 0.011406844
A13: 2 | B13: ESCENARIO B | C13: LOS PELAMBRES LICITACION | D13: V | E13: Catemu | F13: 2.Pavimentado-Chagres a Mina Los Pelambres | G13: MINERA SUR ANDES - FUNDICION CHAGRES - CHAGRES | H13: MLP - LOS PELAMBRES | I13: H2SO4 | J13: 80 | K13: Ton/semana | L13: El ritmo o frecuencia de viajes estará determinado por el programa de consumo que entregue la Minera. | M13: - | N13: PATRICIO TORRES REVISADA | O13: 4160 | P13: 8.335 | Q13: 19.03 | R13: 27.364 | S13: 218.60221 | T13: 288.495 | U13: 0 | V13: 288.495 | W13: 2P-CMLP-D37E | X13: 0.2 | Y13: Transporte H2SO4 | Z13: Pavimentado | AA13: Camión Combustible | AB13: 12478.546 | AC13: 12.478546 | AD13: 2 | AE13: Si | AF13: 5455.6754 | AG13: 22 | AH13: 0.98493151 | AI13: 8 | AJ13: 0.15 | AK13: 0.62 | AL13: 0.15 | AM13: 1.5 | AO13: 0.31939355 | AP13: 1.32016 | AQ13: 0.0017162506 | AR13: 0.0070938357
A14: 2 | B14: ESCENARIO B | C14: LOS PELAMBRES LICITACION | D14: V | E14: Catemu | F14: 2.Pavimentado-Chagres a Mina Los Pelambres | G14: MINERA SUR ANDES - FUNDICION CHAGRES - CHAGRES | H14: MLP - LOS PELAMBRES | I14: H2SO4 | J14: 80 | K14: Ton/semana | L14: El ritmo o frecuencia de viajes estará determinado por el programa de consumo que entregue la Minera. | M14: - | N14: PATRICIO TORRES REVISADA | O14: 4160 | P14: 8.335 | Q14: 19.03 | R14: 27.364 | S14: 218.60221 | T14: 288.495 | U14: 0 | V14: 288.495 | W14: 2P-CMLP-D867 | X14: 0.2 | Y14: Transporte H2SO4 | Z14: Pavimentado | AA14: Camión Combustible | AB14: 6244.8906 | AC14: 6.244891 | AD14: 2 | AE14: Si | AF14: 2730.2939 | AG14: 22 | AH14: 0.98493151 | AI14: 8 | AJ14: 0.15 | AK14: 0.62 | AL14: 0.15 | AM14: 1.5 | AO14: 0.31939355 | AP14: 1.32016 | AQ14: 0.00085889797 | AR14: 0.0035501116
A15: 2 | B15: ESCENARIO B | C15: LOS PELAMBRES LICITACION | D15: V | E15: Catemu | F15: 2.Pavimentado-Chagres a Mina Los Pelambres | G15: MINERA SUR ANDES - FUNDICION CHAGRES - CHAGRES | H15: MLP - LOS PELAMBRES | I15: H2SO4 | J15: 80 | K15: Ton/semana | L15: El ritmo o frecuencia de viajes estará determinado por el programa de consumo que entregue la Minera. | M15: - | N15: PATRICIO TORRES REVISADA | O15: 4160 | P15: 8.335 | Q15: 19.03 | R15: 27.364 | S15: 218.60221 | T15: 288.495 | U15: 0 | V15: 288.495 | W15: 2P-CMLP-D835 | X15: 0.2 | Y15: Transporte H2SO4 | Z15: Pavimentado | AA15: Camión Combustible | AB15: 60499.613 | AC15: 60.499613 | AD15: 2 | AE15: Si | AF15: 26450.698 | AG15: 22 | AH15: 0.98493151 | AI15: 8 | AJ15: 0.15 | AK15: 0.62 | AL15: 0.15 | AM15: 1.5 | AO15: 0.31939355 | AP15: 1.32016 | AQ15: 0.008320881 | AR15: 0.034392975
A16: 2 | B16: ESCENARIO B | C16: LOS PELAMBRES LICITACION | D16: V | E16: Catemu | F16: 2.Pavimentado-Chagres a Mina Los Pelambres | G16: MINERA SUR ANDES - FUNDICION CHAGRES - CHAGRES | H16: MLP - LOS PELAMBRES | I16: H2SO4 | J16: 80 | K16: Ton/semana | L16: El ritmo o frecuencia de viajes estará determinado por el programa de consumo que entregue la Minera. | M16: - | N16: PATRICIO TORRES REVISADA | O16: 4160 | P16: 8.335 | Q16: 19.03 | R16: 27.364 | S16: 218.60221 | T16: 288.495 | U16: 0 | V16: 288.495 | W16: 2P-CMLP-RI | X16: 0.2 | Y16: Transporte H2SO4 | Z16: Pavimentado | AA16: Camión Combustible | AB16: 7189.2399 | AC16: 7.18924 | AD16: 2 | AE16: Si | AF16: 3143.1675 | AG16: 22 | AH16: 0.98493151 | AI16: 8 | AJ16: 0.15 | AK16: 0.62 | AL16: 0.15 | AM16: 1.5 | AO16: 0.31939355 | AP16: 1.32016 | AQ16: 0.00098878005 | AR16: 0.0040869575
A17: 2 | B17: ESCENARIO B | C17: LOS PELAMBRES LICITACION | D17: V | E17: Catemu | F17: 2.Pavimentado-Chagres a Mina Los Pelambres | G17: MINERA SUR ANDES - FUNDICION CHAGRES - CHAGRES | H17: MLP - LOS PELAMBRES | I17: H2SO4 | J17: 80 | K17: Ton/semana | L17: El ritmo o frecuencia de viajes estará determinado por el programa de consumo que entregue la Minera. | M17: - | N17: PATRICIO TORRES REVISADA | O17: 4160 | P17: 8.335 | Q17: 19.03 | R17: 27.364 | S17: 218.60221 | T17: 288.495 | U17: 0 | V17: 288.495 | W17: 2NP-CMLP-RI | X17: 0.2 | Y17: Transporte H2SO4 | Z17: Pavimentado | AA17: Camión Combustible | AB17: 2333.9214 | AC17: 2.333921 | AD17: 2 | AE17: Si | AF17: 1020.4006 | AG17: 22 | AH17: 0.93972603 | AI17: 27.364 | AJ17: 0.15 | AK17: 0.62 | AL17: 0.15 | AM17: 1.5 | AO17: 36.878329 | AP17: 368.78329 | AQ17: 0.035362518 | AR17: 0.35362518
A18: 3 | B18: ESCENARIO B | C18: ANGLO AMERICAN LICITACION | D18: V | E18: Catemu | F18: 3.Pavimentado-Fundicion Chagres a Los Bronces | G18: MINERA SUR ANDES - FUNDICION CHAGRES - CHAGRES | H18: ANGLO AMERICAN LOS BRONCES | I18: H2SO4 | J18: 11000 | K18: Ton/año | L18: 46227 | M18: - | N18: PATRICIO TORRES REVISADA | O18: 11000 | P18: 8.335 | Q18: 19.03 | R18: 27.364 | S18: 578.03468 | T18: 122.116 | U18: 28.428 | V18: 150.544 | W18: 3P-CLB-R05 | X18: 0.03 | Y18: Transporte H2SO4 | Z18: Pavimentado | AA18: Camión Combustible | AB18: 77787.506 | AC18: 77.787506 | AD18: 3 | AE18: Si | AF18: 89927.753 | AG18: 22 | AH18: 0.98493151 | AI18: 8 | AJ18: 0.15 | AK18: 0.62 | AL18: 0.15 | AM18: 1.5 | AO18: 0.056828892 | AP18: 0.23489275 | AQ18: 0.0050334871 | AR18: 0.02080508
A19: 3 | B19: ESCENARIO B | C19: ANGLO AMERICAN LICITACION | D19: V | E19: Catemu | F19: 3.No pavimentado-Fundicion Chagres a Los Bronces | G19: MINERA SUR ANDES - FUNDICION CHAGRES - CHAGRES | H19: ANGLO AMERICAN LOS BRONCES | I19: H2SO4 | J19: 11000 | K19: Ton/año | L19: 46227 | M19: - | N19: PATRICIO TORRES REVISADA | O19: 11000 | P19: 8.335 | Q19: 19.03 | R19: 27.364 | S19: 578.03468 | T19: 122.116 | U19: 28.428 | V19: 150.544 | W19: 3NP-CLB-G245 | X19: 0 | Y19: Transporte H2SO4 | Z19: No Pavimentado | AA19: Camión Combustible | AB19: 28377.09 | AC19: 28.37709 | AD19: 3 | AE19: Si | AF19: 32805.884 | AG19: 22 | AH19: 0.93972603 | AI19: 27.364 | AJ19: 0.15 | AK19: 0.62 | AL19: 0.15 | AM19: 1.5 | AO19: 36.878329 | AP19: 368.78329 | AQ19: 1.1369052 | AR19: 11.369052
A20: 3 | B20: ESCENARIO B | C20: ANGLO AMERICAN LICITACION | D20: V | E20: Catemu | F20: 3.Pavimentado-Fundicion Chagres a Los Bronces | G20: MINERA SUR ANDES - FUNDICION CHAGRES - CHAGRES | H20: ANGLO AMERICAN LOS BRONCES | I20: H2SO4 | J20: 11000 | K20: Ton/año | L20: 46227 | M20: - | N20: PATRICIO TORRES REVISADA | O20: 11000 | P20: 8.335 | Q20: 19.03 | R20: 27.364 | S20: 578.03468 | T20: 122.116 | U20: 28.428 | V20: 150.544 | W20: 3P-CLB-E60 | X20: 0.03 | Y20: Transporte H2SO4 | Z20: Pavimentado | AA20: Camión Combustible | AB20: 5579.0694 | AC20: 5.579069 | AD20: 3 | AE20: Si | AF20: 6449.7908 | AG20: 22 | AH20: 0.98493151 | AI20: 8 | AJ20: 0.15 | AK20: 0.62 | AL20: 0.15 | AM20: 1.5 | AO20: 0.056828892 | AP20: 0.23489275 | AQ20: 0.00036101134 | AR20: 0.0014921802
A21: 3 | B21: ESCENARIO B | C21: ANGLO AMERICAN LICITACION | D21: V | E21: Catemu | F21: 3.Pavimentado-Fundicion Chagres a Los Bronces | G21: MINERA SUR ANDES - FUNDICION CHAGRES - CHAGRES | H21: ANGLO AMERICAN LOS BRONCES | I21: H2SO4 | J21: 11000 | K21: Ton/año | L21: 46227 | M21: - | N21: PATRICIO TORRES REVISADA | O21: 11000 | P21: 8.335 | Q21: 19.03 | R21: 27.364 | S21: 578.03468 | T21: 122.116 | U21: 28.428 | V21: 150.544 | W21: 3P-CLB-E65 | X21: 0.03 | Y21: Transporte H2SO4 | Z21: Pavimentado | AA21: Camión Combustible | AB21: 505.92508 | AC21: 0.505925 | AD21: 3 | AE21: Si | AF21: 584.88439 | AG21: 22 | AH21: 0.98493151 | AI21: 8 | AJ21: 0.15 | AK21: 0.62 | AL21: 0.15 | AM21: 1.5 | AO21: 0.056828892 | AP21: 0.23489275 | AQ21: 3.2737481e-05 | AR21: 0.00013531492
A22: 3 | B22: ESCENARIO B | C22: ANGLO AMERICAN LICITACION | D22: V | E22: Catemu | F22: 3.Pavimentado-Fundicion Chagres a Los Bronces | G22: MINERA SUR ANDES - FUNDICION CHAGRES - CHAGRES | H22: ANGLO AMERICAN LOS BRONCES | I22: H2SO4 | J22: 11000 | K22: Ton/año | L22: 46227 | M22: - | N22: PATRICIO TORRES REVISADA | O22: 11000 | P22: 8.335 | Q22: 19.03 | R22: 27.364 | S22: 578.03468 | T22: 122.116 | U22: 28.428 | V22: 150.544 | W22: 3P-CLB-R70 | X22: 0.2 | Y22: Transporte H2SO4 | Z22: Pavimentado | AA22: Camión Combustible | AB22: 10346.447 | AC22: 10.346447 | AD22: 3 | AE22: Si | AF22: 11961.21 | AG22: 22 | AH22: 0.98493151 | AI22: 8 | AJ22: 0.15 | AK22: 0.62 | AL22: 0.15 | AM22: 1.5 | AO22: 0.31939355 | AP22: 1.32016 | AQ22: 0.0037627668 | AR22: 0.01555277
A23: 3 | B23: ESCENARIO B | C23: ANGLO AMERICAN LICITACION | D23: V | E23: Catemu | F23: 3.Pavimentado-Fundicion Chagres a Los Bronces | G23: MINERA SUR ANDES - FUNDICION CHAGRES - CHAGRES | H23: ANGLO AMERICAN LOS BRONCES | I23: H2SO4 | J23: 11000 | K23: Ton/año | L23: 46227 | M23: - | N23: PATRICIO TORRES REVISADA | O23: 11000 | P23: 8.335 | Q23: 19.03 | R23: 27.364 | S23: 578.03468 | T23: 122.116 | U23: 28.428 | V23: 150.544 | W23: 3P-CLB-ACN | X23: 0.2 | Y23: Transporte H2SO4 | Z23: Pavimentado | AA23: Camión Combustible | AB23: 9945.2675 | AC23: 9.945267 | AD23: 3 | AE23: Si | AF23: 11497.418 | AG23: 22 | AH23: 0.98493151 | AI23: 8 | AJ23: 0.15 | AK23: 0.62 | AL23: 0.15 | AM23: 1.5 | AO23: 0.31939355 | AP23: 1.32016 | AQ23: 0.0036168668 | AR23: 0.014949716
A24: 3 | B24: ESCENARIO B | C24: ANGLO AMERICAN LICITACION | D24: V | E24: Catemu | F24: 3.Pavimentado-Fundicion Chagres a Los Bronces | G24: MINERA SUR ANDES - FUNDICION CHAGRES - CHAGRES | H24: ANGLO AMERICAN LOS BRONCES | I24: H2SO4 | J24: 11000 | K24: Ton/año | L24: 46227 | M24: - | N24: PATRICIO TORRES REVISADA | O24: 11000 | P24: 8.335 | Q24: 19.03 | R24: 27.364 | S24: 578.03468 | T24: 122.116 | U24: 28.428 | V24: 150.544 | W24: 3P-CLB-ALD | X24: 0.2 | Y24: Transporte H2SO4 | Z24: Pavimentado | AA24: Camión Combustible | AB24: 562.11287 | AC24: 0.562113 | AD24: 3 | AE24: Si | AF24: 649.84162 | AG24: 22 | AH24: 0.98493151 | AI24: 8 | AJ24: 0.15 | AK24: 0.62 | AL24: 0.15 | AM24: 1.5 | AO24: 0.31939355 | AP24: 1.32016 | AQ24: 0.00020442768 | AR24: 0.00084496774
A25: 3 | B25: ESCENARIO B | C25: ANGLO AMERICAN LICITACION | D25: V | E25: Catemu | F25: 3.Pavimentado-Fundicion Chagres a Los Bronces | G25: MINERA SUR ANDES - FUNDICION CHAGRES - CHAGRES | H25: ANGLO AMERICAN LOS BRONCES | I25: H2SO4 | J25: 11000 | K25: Ton/año | L25: 46227 | M25: - | N25: PATRICIO TORRES REVISADA | O25: 11000 | P25: 8.335 | Q25: 19.03 | R25: 27.364 | S25: 578.03468 | T25: 122.116 | U25: 28.428 | V25: 150.544 | W25: 3P-CLB-ALC | X25: 0.2 | Y25: Transporte H2SO4 | Z25: Pavimentado | AA25: Camión Combustible | AB25: 1207.6235 | AC25: 1.207624 | AD25: 3 | AE25: Si | AF25: 1396.0971 | AG25: 22 | AH25: 0.98493151 | AI25: 8 | AJ25: 0.15 | AK25: 0.62 | AL25: 0.15 | AM25: 1.5 | AO25: 0.31939355 | AP25: 1.32016 | AQ25: 0.00043918531 | AR25: 0.0018152993
A26: 3 | B26: ESCENARIO B | C26: ANGLO AMERICAN LICITACION | D26: V | E26: Catemu | F26: 3.Pavimentado-Fundicion Chagres a Los Bronces | G26: MINERA SUR ANDES - FUNDICION CHAGRES - CHAGRES | H26: ANGLO AMERICAN LOS BRONCES | I26: H2SO4 | J26: 11000 | K26: Ton/año | L26: 46227 | M26: - | N26: PATRICIO TORRES REVISADA | O26: 11000 | P26: 8.335 | Q26: 19.03 | R26: 27.364 | S26: 578.03468 | T26: 122.116 | U26: 28.428 | V26: 150.544 | W26: 3P-CLB-CAF | X26: 0.2 | Y26: Transporte H2SO4 | Z26: Pavimentado | AA26: Camión Combustible | AB26: 16126.861 | AC26: 16.126861 | AD26: 3 | AE26: Si | AF26: 18643.77 | AG26: 22 | AH26: 0.98493151 | AI26: 8 | AJ26: 0.15 | AK26: 0.62 | AL26: 0.15 | AM26: 1.5 | AO26: 0.31939355 | AP26: 1.32016 | AQ26: 0.0058649716 | AR26: 0.024241882
A27: 4 | B27: ESCENARIO B | C27: ANGLO AMERICAN LICITACION | D27: V | E27: Catemu | F27: 4.Pavimentado.Chagres a Codelco Andina | G27: MINERA SUR ANDES - FUNDICION CHAGRES - CHAGRES | H27: CODELCO ANDINA | I27: H2SO4 | J27: 11000 | K27: Ton/año | L27: 46227 | M27: - | N27: PATRICIO TORRES REVISADA | O27: 11000 | P27: 8.335 | Q27: 19.03 | R27: 27.364 | S27: 578.03468 | T27: 78.649 | U27: 0 | V27: 78.649 | W27: 4P-CCA-E65 | X27: 0.03 | Y27: Transporte H2SO4 | Z27: Pavimentado | AA27: Camión Combustible | AB27: 793.77038 | AC27: 0.79377 | AD27: 4 | AE27: Si | AF27: 917.65318 | AG27: 22 | AH27: 0.98493151 | AI27: 8 | AJ27: 0.15 | AK27: 0.62 | AL27: 0.15 | AM27: 1.5 | AO27: 0.056828892 | AP27: 0.23489275 | AQ27: 5.1363404e-05 | AR27: 0.00021230207
A28: 4 | B28: ESCENARIO B | C28: ANGLO AMERICAN LICITACION | D28: V | E28: Catemu | F28: 4.Pavimentado.Chagres a Codelco Andina | G28: MINERA SUR ANDES - FUNDICION CHAGRES - CHAGRES | H28: CODELCO ANDINA | I28: H2SO4 | J28: 11000 | K28: Ton/año | L28: 46227 | M28: - | N28: PATRICIO TORRES REVISADA | O28: 11000 | P28: 8.335 | Q28: 19.03 | R28: 27.364 | S28: 578.03468 | T28: 78.649 | U28: 0 | V28: 78.649 | W28: 4P-CCA-E60 | X28: 0.03 | Y28: Transporte H2SO4 | Z28: Pavimentado | AA28: Camión Combustible | AB28: 75588.422 | AC28: 75.588422 | AD28: 4 | AE28: Si | AF28: 87385.459 | AG28: 22 | AH28: 0.98493151 | AI28: 8 | AJ28: 0.15 | AK28: 0.62 | AL28: 0.15 | AM28: 1.5 | AO28: 0.056828892 | AP28: 0.23489275 | AQ28: 0.0048911884 | AR28: 0.020216912
A29: 4 | B29: ESCENARIO B | C29: ANGLO AMERICAN LICITACION | D29: V | E29: Catemu | F29: 4.Pavimentado.Chagres a Codelco Andina | G29: MINERA SUR ANDES - FUNDICION CHAGRES - CHAGRES | H29: CODELCO ANDINA | I29: H2SO4 | J29: 11000 | K29: Ton/año | L29: 46227 | M29: - | N29: PATRICIO TORRES REVISADA | O29: 11000 | P29: 8.335 | Q29: 19.03 | R29: 27.364 | S29: 578.03468 | T29: 78.649 | U29: 0 | V29: 78.649 | W29: 4P-CCA-E767 | X29: 0.2 | Y29: Transporte H2SO4 | Z29: Pavimentado | AA29: Camión Combustible | AB29: 2300.313 | AC29: 2.300313 | AD29: 4 | AE29: Si | AF29: 2659.3214 | AG29: 22 | AH29: 0.98493151 | AI29: 8 | AJ29: 0.15 | AK29: 0.62 | AL29: 0.15 | AM29: 1.5 | AO29: 0.31939355 | AP29: 1.32016 | AQ29: 0.00083657138 | AR29: 0.0034578284
A30: 5 | B30: ESCENARIO B | C30: MANTO VERDE LICITACION | D30: II | E30: Chañaral Zona de Carga Habitual | F30: 5.Pavimentado.Puerto Barquito a Mantoverde | G30: TERMINAL PUERTO BARQUITO | H30: MANTOVERDE | I30: H2SO4 | J30: 180000 | K30: Ton/año | L30: 46227 | M30: - | N30: CRISTIAN SCHWARTZ REVISADA | O30: 180000 | P30: 8.335 | Q30: 19.03 | R30: 27.364 | S30: 9458.7493 | T30: 58.308 | U30: 1.195 | V30: 59.503 | W30: 5P-PBMV-C13 | X30: 0.2 | Y30: Transporte H2SO4 | Z30: Pavimentado | AA30: Camión Combustible | AB30: 22216.69 | AC30: 22.21669 | AD30: 5 | AE30: Si | AF30: 420284.2 | AG30: 2 | AH30: 0.99863014 | AI30: 8 | AJ30: 0.15 | AK30: 0.62 | AL30: 0.15 | AM30: 1.5 | AO30: 0.31939355 | AP30: 1.32016 | AQ30: 0.13405218 | AR30: 0.55408234
A31: 5 | B31: ESCENARIO B | C31: MANTO VERDE LICITACION | D31: II | E31: Chañaral Zona de Carga Habitual | F31: 5.Pavimentado.Puerto Barquito a Mantoverde | G31: TERMINAL PUERTO BARQUITO | H31: MANTOVERDE | I31: H2SO4 | J31: 180000 | K31: Ton/año | L31: 46227 | M31: - | N31: CRISTIAN SCHWARTZ REVISADA | O31: 180000 | P31: 8.335 | Q31: 19.03 | R31: 27.364 | S31: 9458.7493 | T31: 58.308 | U31: 1.195 | V31: 59.503 | W31: 5P-PBMV-AB | X31: 0.2 | Y31: Transporte H2SO4 | Z31: Pavimentado | AA31: Camión Combustible | AB31: 1339.655 | AC31: 1.339655 | AD31: 5 | AE31: Si | AF31: 25342.922 | AG31: 2 | AH31: 0.99863014 | AI31: 8 | AM31: 1.5 | AO31: 0 | AP31: 0 | AQ31: 0 | AR31: 0
A32: 5 | B32: ESCENARIO B | C32: MANTO VERDE LICITACION | D32: II | E32: Chañaral Zona de Carga Habitual | F32: 5.Pavimentado.Puerto Barquito a Mantoverde | G32: TERMINAL PUERTO BARQUITO | H32: MANTOVERDE | I32: H2SO4 | J32: 180000 | K32: Ton/año | L32: 46227 | M32: - | N32: CRISTIAN SCHWARTZ REVISADA | O32: 180000 | P32: 8.335 | Q32: 19.03 | R32: 27.364 | S32: 9458.7493 | T32: 58.308 | U32: 1.195 | V32: 59.503 | W32: 5P-PBMV-R05 | X32: 0.03 | Y32: Transporte H2SO4 | Z32: Pavimentado | AA32: Camión Combustible | AB32: 604.15083 | AC32: 0.604151 | AD32: 5 | AE32: Si | AF32: 11429.026 | AG32: 2 | AH32: 0.99863014 | AI32: 8 | AM32: 1.5 | AO32: 0 | AP32: 0 | AQ32: 0 | AR32: 0
A33: 5 | B33: ESCENARIO B | C33: MANTO VERDE LICITACION | D33: II | E33: Chañaral Zona de Carga Habitual | F33: 5.Pavimentado.Puerto Barquito a Mantoverde | G33: TERMINAL PUERTO BARQUITO | H33: MANTOVERDE | I33: H2SO4 | J33: 180000 | K33: Ton/año | L33: 46227 | M33: - | N33: CRISTIAN SCHWARTZ REVISADA | O33: 180000 | P33: 8.335 | Q33: 19.03 | R33: 27.364 | S33: 9458.7493 | T33: 58.308 | U33: 1.195 | V33: 59.503 | W33: 5P-PBMV-R05 | X33: 0.03 | Y33: Transporte H2SO4 | Z33: Pavimentado | AA33: Camión Combustible | AB33: 15381.191 | AC33: 15.381191 | AD33: 5 | AE33: Si | AF33: 290973.66 | AG33: 2 | AH33: 0.99863014 | AI33: 8 | AM33: 1.5 | AO33: 0 | AP33: 0 | AQ33: 0 | AR33: 0
A34: 5 | B34: ESCENARIO B | C34: MANTO VERDE LICITACION | D34: II | E34: Chañaral Zona de Carga Habitual | F34: 5.Pavimentado.Puerto Barquito a Mantoverde | G34: TERMINAL PUERTO BARQUITO | H34: MANTOVERDE | I34: H2SO4 | J34: 180000 | K34: Ton/año | L34: 46227 | M34: - | N34: CRISTIAN SCHWARTZ REVISADA | O34: 180000 | P34: 8.335 | Q34: 19.03 | R34: 27.364 | S34: 9458.7493 | T34: 58.308 | U34: 1.195 | V34: 59.503 | W34: 5P-PBMV-C209 | X34: 0.2 | Y34: Transporte H2SO4 | Z34: Pavimentado | AA34: Camión Combustible | AB34: 16488.552 | AC34: 16.488552 | AD34: 5 | AE34: Si | AF34: 311922.16 | AG34: 2 | AH34: 0.99863014 | AI34: 8 | AM34: 1.5 | AO34: 0 | AP34: 0 | AQ34: 0 | AR34: 0
A35: 5 | B35: ESCENARIO B | C35: MANTO VERDE LICITACION | D35: II | E35: Chañaral Zona de Carga Habitual | F35: 5.Pavimentado.Puerto Barquito a Mantoverde | G35: TERMINAL PUERTO BARQUITO | H35: MANTOVERDE | I35: H2SO4 | J35: 180000 | K35: Ton/año | L35: 46227 | M35: - | N35: CRISTIAN SCHWARTZ REVISADA | O35: 180000 | P35: 8.335 | Q35: 19.03 | R35: 27.364 | S35: 9458.7493 | T35: 58.308 | U35: 1.195 | V35: 59.503 | W35: 5P-PBMV-C225 | X35: 0.2 | Y35: Transporte H2SO4 | Z35: Pavimentado | AA35: Camión Combustible | AB35: 2339.1237 | AC35: 2.339124 | AD35: 5 | AE35: Si | AF35: 44250.375 | AG35: 2 | AH35: 0.99863014 | AI35: 8 | AM35: 1.5 | AO35: 0 | AP35: 0 | AQ35: 0 | AR35: 0
A36: 5 | B36: ESCENARIO B | C36: MANTO VERDE LICITACION | D36: II | E36: Chañaral Zona de Carga Habitual | F36: 5.Pavimentado.Puerto Barquito a Mantoverde | G36: TERMINAL PUERTO BARQUITO | H36: MANTOVERDE | I36: H2SO4 | J36: 180000 | K36: Ton/año | L36: 46227 | M36: - | N36: CRISTIAN SCHWARTZ REVISADA | O36: 180000 | P36: 8.335 | Q36: 19.03 | R36: 27.364 | S36: 9458.7493 | T36: 58.308 | U36: 1.195 | V36: 59.503 | W36: 5P-PBMV-C227 | X36: 0.2 | Y36: Transporte H2SO4 | Z36: Pavimentado | AA36: Camión Combustible | AB36: 1248.4095 | AC36: 1.248409 | AD36: 5 | AE36: Si | AF36: 23616.776 | AG36: 2 | AH36: 0.99863014 | AI36: 8 | AM36: 1.5 | AO36: 0 | AP36: 0 | AQ36: 0 | AR36: 0
A37: 6 | B37: ESCENARIO B | C37: MANTO VERDE LICITACION | D37: II | E37: Paipote Zona de Contingencia | F37: 6.Pavimentado.Enami Paipote a Mantoverde | G37: ENAMI PAIPOTE | H37: MANTOVERDE | I37: H2SO4 | J37: 50000 (contingencia) | K37: Ton/año | L37: 46227 | M37: - | N37: CRISTIAN SCHWARTZ REVISADA | O37: 50000 | P37: 8.335 | Q37: 19.03 | R37: 27.364 | S37: 2627.4304 | T37: 184.831 | U37: 1.248 | V37: 186.079 | W37: 6P-EPMV-C17 | X37: 0.2 | Y37: Transporte H2SO4 | Z37: Pavimentado | AA37: Camión Combustible | AB37: 109079.42 | AC37: 109.07942 | AD37: 6 | AE37: Si | AF37: 573197.15 | AG37: 2 | AI37: 8 | AM37: 1.5 | AO37: 0 | AP37: 0 | AQ37: 0 | AR37: 0
A38: 6 | B38: ESCENARIO B | C38: MANTO VERDE LICITACION | D38: II | E38: Paipote Zona de Contingencia | F38: 6.Pavimentado.Enami Paipote a Mantoverde | G38: ENAMI PAIPOTE | H38: MANTOVERDE | I38: H2SO4 | J38: 50000 (contingencia) | K38: Ton/año | L38: 46227 | M38: - | N38: CRISTIAN SCHWARTZ REVISADA | O38: 50000 | P38: 8.335 | Q38: 19.03 | R38: 27.364 | S38: 2627.4304 | T38: 184.831 | U38: 1.248 | V38: 186.079 | W38: 6P-EPMV-JG | X38: 0.2 | Y38: Transporte H2SO4 | Z38: Pavimentado | AA38: Camión Combustible | AB38: 1448.5814 | AC38: 1.448581 | AD38: 6 | AE38: Si | AF38: 7612.0914 | AG38: 2 | AI38: 8 | AM38: 1.5 | AO38: 0 | AP38: 0 | AQ38: 0 | AR38: 0
A39: 6 | B39: ESCENARIO B | C39: MANTO VERDE LICITACION | D39: II | E39: Paipote Zona de Contingencia | F39: 6.Pavimentado.Enami Paipote a Mantoverde | G39: ENAMI PAIPOTE | H39: MANTOVERDE | I39: H2SO4 | J39: 50000 (contingencia) | K39: Ton/año | L39: 46227 | M39: - | N39: CRISTIAN SCHWARTZ REVISADA | O39: 50000 | P39: 8.335 | Q39: 19.03 | R39: 27.364 | S39: 2627.4304 | T39: 184.831 | U39: 1.248 | V39: 186.079 | W39: 6P-EPMV-C35 | X39: 0.2 | Y39: Transporte H2SO4 | Z39: Pavimentado | AA39: Camión Combustible | AB39: 627.3102 | AC39: 0.62731 | AD39: 6 | AE39: Si | AF39: 3296.4267 | AG39: 2 | AM39: 1.5 | AO39: 0 | AP39: 0 | AQ39: 0 | AR39: 0
A40: 6 | B40: ESCENARIO B | C40: MANTO VERDE LICITACION | D40: II | E40: Paipote Zona de Contingencia | F40: 6.Pavimentado.Enami Paipote a Mantoverde | G40: ENAMI PAIPOTE | H40: MANTOVERDE | I40: H2SO4 | J40: 50000 (contingencia) | K40: Ton/año | L40: 46227 | M40: - | N40: CRISTIAN SCHWARTZ REVISADA | O40: 50000 | P40: 8.335 | Q40: 19.03 | R40: 27.364 | S40: 2627.4304 | T40: 184.831 | U40: 1.248 | V40: 186.079 | W40: 6P-EPMV-CI | X40: 0.2 | Y40: Transporte H2SO4 | Z40: Pavimentado | AA40: Camión Combustible | AB40: 16269.211 | AC40: 16.269211 | AD40: 6 | AE40: Si | AF40: 85492.438 | AG40: 2 | AM40: 1.5 | AO40: 0 | AP40: 0 | AQ40: 0 | AR40: 0
...

Sheet Hoja2
A1: ID | B1: DENOMINACION INTERNA | C1: RCA N° ORIGEN RUTA | D1: REGIÓN | E1: COMUNA | F1: Name | G1: INSTALACIÓN DE ORIGEN O LUGAR DE CARGA | H1: INSTALACIÓN DE DESTINO O LUGAR DE DESCARGA | I1: SUSTANCIA | J1: CANTIDAD_ | K1: CANTIDAD | L1: FRECUENCIA | M1: UNIDAD | N1: QUIEN_VALI | O1: Cantidad_t | P1: Tara__ton_ | Q1: Carga_úti | R1: PBV__ton_ | S1: Cantidad de viajes (ida/año) | T1: Distancia pavimentada | U1: Distancia no pavimentada | V1: Distancia total | W1: Codigo | X1: sL | Y1: Actividad | Z1: Tipo de camino | AA1: Tipo_Cam | AB1: Dis_mts | AC1: Dis_km | AD1: Numero | AE1: ¿Es un viaje de ida y vuelta? | AF1: NA ida y vuelta | AG1: P | AH1: Factor Lluvia | AI1: W | AJ1: k (P) MP2,5 | AK1: k (P) MP10 | AL1: k (NP) MP2,5 | AM1: k (NP) MP10 | AN1: Eficiencia de Abatimiento (Ea) | AO1: Factor de Emisión PM2,5 (g/km) | AP1: Factor de Emisión PM10 (g/km) | AQ1: Emisiones totales PM2,5 (ton/año) | AR1: Emisiones totales PM10 (ton/año)
A2: 1 | B2: ESCENARIO B | C2: ANGLO AMERICAN LICITACION | D2: V | E2: Catemu | F2: 1.Pavimentado-Chagres a Puerto Ventanas | G2: MINERA SUR ANDES - FUNDICION CHAGRES - CHAGRES | H2: PUERTO VENTANAS | I2: H2SO4 | J2: 11000 | K2: Ton/año | L2: 46227 | M2: - | N2: PATRICIO TORRES REVISADA | O2: 11000 | P2: 8.335 | Q2: 19.03 | R2: 27.364 | S2: 578.03468 | T2: 66.32 | U2: 0 | V2: 66.32 | W2: 1P-CPV-R05 | X2: 0.03 | Y2: Transporte H2SO4 | Z2: Pavimentado | AA2: Camión Combustible | AB2: 28094.326 | AC2: 28.094326 | AD2: 1 | AE2: Si | AF2: =IF(AE2="Si",AC2*S2*2,AC2*S2) -> 32478.99 | AG2: {=_xlfn.IFS(D2="I",MIN('Datos pp I Región'!$K$7:$K$9),D2="II",MIN('Datos pp II Región'!$K$7:$K$9),D2="III",MIN('Datos pp III Región'!$K$7:$K$9),D2="IV",MIN('Datos pp IV Región'!$K$7:$K$9),D2="V",MIN('Datos pp V Región'!$K$7:$K$9),D2="RM",MIN('Datos pp RM'!$K$7:$K$9),D2="VI",MIN('Datos pp VI Región'!$K$7:$K$9))} -> 22 | AH2: {=_xlfn.IFS(Z2="Pavimentado",1-(AG2/(4*365)),Z2="No Pavimentado",1-(AG2/365))} -> 0.98493151 | AI2: {=_xlfn.IFS(Z2="Pavimentado",8,Z2="No Pavimentado",R2)} -> 8 | AJ2: 0.15 | AK2: 0.62 | AL2: 0.15 | AM2: 1.5 | AO2: {=_xlfn.IFS($Z2=$AT$3,AJ2*($X2)^(0.91)*(8*1.1023)^1.02,$Z2=$AT$4,AL2*281.9*(8.5/12)^0.9*(4/2.72)^0.45)} -> 0.056828892 | AP2: {=_xlfn.IFS($Z2=$AT$3,AK2*($X2)^(0.91)*(8*1.1023)^1.02,$Z2=$AT$4,AM2*281.9*(8.5/12)^0.9*(4/2.72)^0.45)} -> 0.23489275 | AQ2: {=_xlfn.IFS(Z2=$AT$3,(AF2*AO2*AH2)/1000000,Z2=$AT$4,(AF2*AH2*AO2*(1-AN2))/1000000)} -> 0.0018179324 | AR2: {=_xlfn.IFS(Z2=$AT$3,(AF2*AP2*AH2)/1000000,Z2=$AT$4,(AF2*AH2*AP2*(1-AN2))/1000000)} -> 0.0075141206 | AT2: {=+_xlfn.UNIQUE(Z:Z)} -> Tipo de camino | AU2: Emisiones totales PM2,5 (ton/año) | AV2: Emisiones totales PM10 (ton/año)
A3: 1 | B3: ESCENARIO B | C3: ANGLO AMERICAN LICITACION | D3: V | E3: Catemu | F3: 1.Pavimentado-Chagres a Puerto Ventanas | G3: MINERA SUR ANDES - FUNDICION CHAGRES - CHAGRES | H3: PUERTO VENTANAS | I3: H2SO4 | J3: 11000 | K3: Ton/año | L3: 46227 | M3: - | N3: PATRICIO TORRES REVISADA | O3: 11000 | P3: 8.335 | Q3: 19.03 | R3: 27.364 | S3: 578.03468 | T3: 66.32 | U3: 0 | V3: 66.32 | W3: 1P-CPV-RI | X3: 0.03 | Y3: Transporte H2SO4 | Z3: Pavimentado | AA3: Camión Combustible | AB3: 1058.6761 | AC3: 1.058676 | AD3: 1 | AE3: Si | AF3: =IF(AE3="Si",AC3*S3*2,AC3*S3) -> 1223.9029 | AG3: {=_xlfn.IFS(D3="I",MIN('Datos pp I Región'!$K$7:$K$9),D3="II",MIN('Datos pp II Región'!$K$7:$K$9),D3="III",MIN('Datos pp III Región'!$K$7:$K$9),D3="IV",MIN('Datos pp IV Región'!$K$7:$K$9),D3="V",MIN('Datos pp V Región'!$K$7:$K$9),D3="RM",MIN('Datos pp RM'!$K$7:$K$9),D3="VI",MIN('Datos pp VI Región'!$K$7:$K$9))} -> 22 | AH3: {=_xlfn.IFS(Z3="Pavimentado",1-(AG3/(4*365)),Z3="No Pavimentado",1-(AG3/365))} -> 0.98493151 | AI3: {=_xlfn.IFS(Z3="Pavimentado",8,Z3="No Pavimentado",R3)} -> 8 | AJ3: 0.15 | AK3: 0.62 | AL3: 0.15 | AM3: 1.5 | AO3: {=_xlfn.IFS($Z3=$AT$3,AJ3*($X3)^(0.91)*(8*1.1023)^1.02,$Z3=$AT$4,AL3*281.9*(8.5/12)^0.9*(4/2.72)^0.45)} -> 0.056828892 | AP3: {=_xlfn.IFS($Z3=$AT$3,AK3*($X3)^(0.91)*(8*1.1023)^1.02,$Z3=$AT$4,AM3*281.9*(8.5/12)^0.9*(4/2.72)^0.45)} -> 0.23489275 | AQ3: {=_xlfn.IFS(Z3=$AT$3,(AF3*AO3*AH3)/1000000,Z3=$AT$4,(AF3*AH3*AO3*(1-AN3))/1000000)} -> 6.8504986e-05 | AR3: {=_xlfn.IFS(Z3=$AT$3,(AF3*AP3*AH3)/1000000,Z3=$AT$4,(AF3*AH3*AP3*(1-AN3))/1000000)} -> 0.00028315394 | AT3: Pavimentado | AU3: =+SUMIFS($AQ$2:$AQ$50,$Z$2:$Z$50,$AT3) -> 0.97742532 | AV3: =+SUMIFS($AR$2:$AR$50,$Z$2:$Z$50,$AT3) -> 4.0400247
A4: 1 | B4: ESCENARIO B | C4: ANGLO AMERICAN LICITACION | D4: V | E4: Catemu | F4: 1.Pavimentado-Chagres a Puerto Ventanas | G4: MINERA SUR ANDES - FUNDICION CHAGRES - CHAGRES | H4: PUERTO VENTANAS | I4: H2SO4 | J4: 11000 | K4: Ton/año | L4: 46227 | M4: - | N4: PATRICIO TORRES REVISADA | O4: 11000 | P4: 8.335 | Q4: 19.03 | R4: 27.364 | S4: 578.03468 | T4: 66.32 | U4: 0 | V4: 66.32 | W4: 1P-CPV-F30E | X4: 0.03 | Y4: Transporte H2SO4 | Z4: Pavimentado | AA4: Camión Combustible | AB4: 4752.121 | AC4: 4.752121 | AD4: 1 | AE4: Si | AF4: =IF(AE4="Si",AC4*S4*2,AC4*S4) -> 5493.7815 | AG4: {=_xlfn.IFS(D4="I",MIN('Datos pp I Región'!$K$7:$K$9),D4="II",MIN('Datos pp II Región'!$K$7:$K$9),D4="III",MIN('Datos pp III Región'!$K$7:$K$9),D4="IV",MIN('Datos pp IV Región'!$K$7:$K$9),D4="V",MIN('Datos pp V Región'!$K$7:$K$9),D4="RM",MIN('Datos pp RM'!$K$7:$K$9),D4="VI",MIN('Datos pp VI Región'!$K$7:$K$9))} -> 22 | AH4: {=_xlfn.IFS(Z4="Pavimentado",1-(AG4/(4*365)),Z4="No Pavimentado",1-(AG4/365))} -> 0.98493151 | AI4: {=_xlfn.IFS(Z4="Pavimentado",8,Z4="No Pavimentado",R4)} -> 8 | AJ4: 0.15 | AK4: 0.62 | AL4: 0.15 | AM4: 1.5 | AO4: {=_xlfn.IFS($Z4=$AT$3,AJ4*($X4)^(0.91)*(8*1.1023)^1.02,$Z4=$AT$4,AL4*281.9*(8.5/12)^0.9*(4/2.72)^0.45)} -> 0.056828892 | AP4: {=_xlfn.IFS($Z4=$AT$3,AK4*($X4)^(0.91)*(8*1.1023)^1.02,$Z4=$AT$4,AM4*281.9*(8.5/12)^0.9*(4/2.72)^0.45)} -> 0.23489275 | AQ4: {=_xlfn.IFS(Z4=$AT$3,(AF4*AO4*AH4)/1000000,Z4=$AT$4,(AF4*AH4*AO4*(1-AN4))/1000000)} -> 0.00030750105 | AR4: {=_xlfn.IFS(Z4=$AT$3,(AF4*AP4*AH4)/1000000,Z4=$AT$4,(AF4*AH4*AP4*(1-AN4))/1000000)} -> 0.0012710043 | AT4: No Pavimentado | AU4: =+SUMIFS($AQ$2:$AQ$50,$Z$2:$Z$50,$AT4) -> 1.1369052 | AV4: =+SUMIFS($AR$2:$AR$50,$Z$2:$Z$50,$AT4) -> 11.369052
A5: 1 | B5: ESCENARIO B | C5: ANGLO AMERICAN LICITACION | D5: V | E5: Catemu | F5: 1.Pavimentado-Chagres a Puerto Ventanas | G5: MINERA SUR ANDES - FUNDICION CHAGRES - CHAGRES | H5: PUERTO VENTANAS | I5: H2SO4 | J5: 11000 | K5: Ton/año | L5: 46227 | M5: - | N5: PATRICIO TORRES REVISADA | O5: 11000 | P5: 8.335 | Q5: 19.03 | R5: 27.364 | S5: 578.03468 | T5: 66.32 | U5: 0 | V5: 66.32 | W5: 1P-CPV-F20 | X5: 0.03 | Y5: Transporte H2SO4 | Z5: Pavimentado | AA5: Camión Combustible | AB5: 26475.273 | AC5: 26.475273 | AD5: 1 | AE5: Si | AF5: =IF(AE5="Si",AC5*S5*2,AC5*S5) -> 30607.252 | AG5: {=_xlfn.IFS(D5="I",MIN('Datos pp I Región'!$K$7:$K$9),D5="II",MIN('Datos pp II Región'!$K$7:$K$9),D5="III",MIN('Datos pp III Región'!$K$7:$K$9),D5="IV",MIN('Datos pp IV Región'!$K$7:$K$9),D5="V",MIN('Datos pp V Región'!$K$7:$K$9),D5="RM",MIN('Datos pp RM'!$K$7:$K$9),D5="VI",MIN('Datos pp VI Región'!$K$7:$K$9))} -> 22 | AH5: {=_xlfn.IFS(Z5="Pavimentado",1-(AG5/(4*365)),Z5="No Pavimentado",1-(AG5/365))} -> 0.98493151 | AI5: {=_xlfn.IFS(Z5="Pavimentado",8,Z5="No Pavimentado",R5)} -> 8 | AJ5: 0.15 | AK5: 0.62 | AL5: 0.15 | AM5: 1.5 | AO5: {=_xlfn.IFS($Z5=$AT$3,AJ5*($X5)^(0.91)*(8*1.1023)^1.02,$Z5=$AT$4,AL5*281.9*(8.5/12)^0.9*(4/2.72)^0.45)} -> 0.056828892 | AP5: {=_xlfn.IFS($Z5=$AT$3,AK5*($X5)^(0.91)*(8*1.1023)^1.02,$Z5=$AT$4,AM5*281.9*(8.5/12)^0.9*(4/2.72)^0.45)} -> 0.23489275 | AQ5: {=_xlfn.IFS(Z5=$AT$3,(AF5*AO5*AH5)/1000000,Z5=$AT$4,(AF5*AH5*AO5*(1-AN5))/1000000)} -> 0.0017131665 | AR5: {=_xlfn.IFS(Z5=$AT$3,(AF5*AP5*AH5)/1000000,Z5=$AT$4,(AF5*AH5*AP5*(1-AN5))/1000000)} -> 0.007081088 | AT5: 0 | AU5: =+SUM(AU3:AU4) -> 2.1143305 | AV5: =+SUM(AV3:AV4) -> 15.409076
A6: 1 | B6: ESCENARIO B | C6: ANGLO AMERICAN LICITACION | D6: V | E6: Catemu | F6: 1.Pavimentado-Chagres a Puerto Ventanas | G6: MINERA SUR ANDES - FUNDICION CHAGRES - CHAGRES | H6: PUERTO VENTANAS | I6: H2SO4 | J6: 11000 | K6: Ton/año | L6: 46227 | M6: - | N6: PATRICIO TORRES REVISADA | O6: 11000 | P6: 8.335 | Q6: 19.03 | R6: 27.364 | S6: 578.03468 | T6: 66.32 | U6: 0 | V6: 66.32 | W6: 1P-CPV-E60 | X6: 0.03 | Y6: Transporte H2SO4 | Z6: Pavimentado | AA6: Camión Combustible | AB6: 5470.8773 | AC6: 5.470877 | AD6: 1 | AE6: Si | AF6: =IF(AE6="Si",AC6*S6*2,AC6*S6) -> 6324.7133 | AG6: {=_xlfn.IFS(D6="I",MIN('Datos pp I Región'!$K$7:$K$9),D6="II",MIN('Datos pp II Región'!$K$7:$K$9),D6="III",MIN('Datos pp III Región'!$K$7:$K$9),D6="IV",MIN('Datos pp IV Región'!$K$7:$K$9),D6="V",MIN('Datos pp V Región'!$K$7:$K$9),D6="RM",MIN('Datos pp RM'!$K$7:$K$9),D6="VI",MIN('Datos pp VI Región'!$K$7:$K$9))} -> 22 | AH6: {=_xlfn.IFS(Z6="Pavimentado",1-(AG6/(4*365)),Z6="No Pavimentado",1-(AG6/365))} -> 0.98493151 | AI6: {=_xlfn.IFS(Z6="Pavimentado",8,Z6="No Pavimentado",R6)} -> 8 | AJ6: 0.15 | AK6: 0.62 | AL6: 0.15 | AM6: 1.5 | AO6: {=_xlfn.IFS($Z6=$AT$3,AJ6*($X6)^(0.91)*(8*1.1023)^1.02,$Z6=$AT$4,AL6*281.9*(8.5/12)^0.9*(4/2.72)^0.45)} -> 0.056828892 | AP6: {=_xlfn.IFS($Z6=$AT$3,AK6*($X6)^(0.91)*(8*1.1023)^1.02,$Z6=$AT$4,AM6*281.9*(8.5/12)^0.9*(4/2.72)^0.45)} -> 0.23489275 | AQ6: {=_xlfn.IFS(Z6=$AT$3,(AF6*AO6*AH6)/1000000,Z6=$AT$4,(AF6*AH6*AO6*(1-AN6))/1000000)} -> 0.00035401044 | AR6: {=_xlfn.IFS(Z6=$AT$3,(AF6*AP6*AH6)/1000000,Z6=$AT$4,(AF6*AH6*AP6*(1-AN6))/1000000)} -> 0.0014632431
A7: 1 | B7: ESCENARIO B | C7: ANGLO AMERICAN LICITACION | D7: V | E7: Catemu | F7: 1.Pavimentado-Chagres a Puerto Ventanas | G7: MINERA SUR ANDES - FUNDICION CHAGRES - CHAGRES | H7: PUERTO VENTANAS | I7: H2SO4 | J7: 11000 | K7: Ton/año | L7: 46227 | M7: - | N7: PATRICIO TORRES REVISADA | O7: 11000 | P7: 8.335 | Q7: 19.03 | R7: 27.364 | S7: 578.03468 | T7: 66.32 | U7: 0 | V7: 66.32 | W7: 1P-CPV-E65 | X7: 0.03 | Y7: Transporte H2SO4 | Z7: Pavimentado | AA7: Camión Combustible | AB7: 505.8 | AC7: 0.5058 | AD7: 1 | AE7: Si | AF7: =IF(AE7="Si",AC7*S7*2,AC7*S7) -> 584.73988 | AG7: {=_xlfn.IFS(D7="I",MIN('Datos pp I Región'!$K$7:$K$9),D7="II",MIN('Datos pp II Región'!$K$7:$K$9),D7="III",MIN('Datos pp III Región'!$K$7:$K$9),D7="IV",MIN('Datos pp IV Región'!$K$7:$K$9),D7="V",MIN('Datos pp V Región'!$K$7:$K$9),D7="RM",MIN('Datos pp RM'!$K$7:$K$9),D7="VI",MIN('Datos pp VI Región'!$K$7:$K$9))} -> 22 | AH7: {=_xlfn.IFS(Z7="Pavimentado",1-(AG7/(4*365)),Z7="No Pavimentado",1-(AG7/365))} -> 0.98493151 | AI7: {=_xlfn.IFS(Z7="Pavimentado",8,Z7="No Pavimentado",R7)} -> 8 | AJ7: 0.15 | AK7: 0.62 | AL7: 0.15 | AM7: 1.5 | AO7: {=_xlfn.IFS($Z7=$AT$3,AJ7*($X7)^(0.91)*(8*1.1023)^1.02,$Z7=$AT$4,AL7*281.9*(8.5/12)^0.9*(4/2.72)^0.45)} -> 0.056828892 | AP7: {=_xlfn.IFS($Z7=$AT$3,AK7*($X7)^(0.91)*(8*1.1023)^1.02,$Z7=$AT$4,AM7*281.9*(8.5/12)^0.9*(4/2.72)^0.45)} -> 0.23489275 | AQ7: {=_xlfn.IFS(Z7=$AT$3,(AF7*AO7*AH7)/1000000,Z7=$AT$4,(AF7*AH7*AO7*(1-AN7))/1000000)} -> 3.2729392e-05 | AR7: {=_xlfn.IFS(Z7=$AT$3,(AF7*AP7*AH7)/1000000,Z7=$AT$4,(AF7*AH7*AP7*(1-AN7))/1000000)} -> 0.00013528149
A8: 2 | B8: ESCENARIO B | C8: LOS PELAMBRES LICITACION | D8: V | E8: Catemu | F8: 2.Pavimentado-Chagres a Mina Los Pelambres | G8: MINERA SUR ANDES - FUNDICION CHAGRES - CHAGRES | H8: MLP - LOS PELAMBRES | I8: H2SO4 | J8: 80 | K8: Ton/semana | L8: El ritmo o frecuencia de viajes estará determinado por el programa de consumo que entregue la Minera. | M8: - | N8: PATRICIO TORRES REVISADA | O8: 4160 | P8: 8.335 | Q8: 19.03 | R8: 27.364 | S8: 218.60221 | T8: 288.495 | U8: 0 | V8: 288.495 | W8: 2P-CMLP-R05 | X8: 0.03 | Y8: Transporte H2SO4 | Z8: Pavimentado | AA8: Camión Combustible | AB8: 137273.59 | AC8: 137.27359 | AD8: 2 | AE8: Si | AF8: =IF(AE8="Si",AC8*S8*2,AC8*S8) -> 60016.62 | AG8: {=_xlfn.IFS(D8="I",MIN('Datos pp I Región'!$K$7:$K$9),D8="II",MIN('Datos pp II Región'!$K$7:$K$9),D8="III",MIN('Datos pp III Región'!$K$7:$K$9),D8="IV",MIN('Datos pp IV Región'!$K$7:$K$9),D8="V",MIN('Datos pp V Región'!$K$7:$K$9),D8="RM",MIN('Datos pp RM'!$K$7:$K$9),D8="VI",MIN('Datos pp VI Región'!$K$7:$K$9))} -> 22 | AH8: {=_xlfn.IFS(Z8="Pavimentado",1-(AG8/(4*365)),Z8="No Pavimentado",1-(AG8/365))} -> 0.98493151 | AI8: {=_xlfn.IFS(Z8="Pavimentado",8,Z8="No Pavimentado",R8)} -> 8 | AJ8: 0.15 | AK8: 0.62 | AL8: 0.15 | AM8: 1.5 | AO8: {=_xlfn.IFS($Z8=$AT$3,AJ8*($X8)^(0.91)*(8*1.1023)^1.02,$Z8=$AT$4,AL8*281.9*(8.5/12)^0.9*(4/2.72)^0.45)} -> 0.056828892 | AP8: {=_xlfn.IFS($Z8=$AT$3,AK8*($X8)^(0.91)*(8*1.1023)^1.02,$Z8=$AT$4,AM8*281.9*(8.5/12)^0.9*(4/2.72)^0.45)} -> 0.23489275 | AQ8: {=_xlfn.IFS(Z8=$AT$3,(AF8*AO8*AH8)/1000000,Z8=$AT$4,(AF8*AH8*AO8*(1-AN8))/1000000)} -> 0.0033592843 | AR8: {=_xlfn.IFS(Z8=$AT$3,(AF8*AP8*AH8)/1000000,Z8=$AT$4,(AF8*AH8*AP8*(1-AN8))/1000000)} -> 0.013885042
A9: 2 | B9: ESCENARIO B | C9: LOS PELAMBRES LICITACION | D9: V | E9: Catemu | F9: 2.Pavimentado-Chagres a Mina Los Pelambres | G9: MINERA SUR ANDES - FUNDICION CHAGRES - CHAGRES | H9: MLP - LOS PELAMBRES | I9: H2SO4 | J9: 80 | K9: Ton/semana | L9: El ritmo o frecuencia de viajes estará determinado por el programa de consumo que entregue la Minera. | M9: - | N9: PATRICIO TORRES REVISADA | O9: 4160 | P9: 8.335 | Q9: 19.03 | R9: 27.364 | S9: 218.60221 | T9: 288.495 | U9: 0 | V9: 288.495 | W9: 2P-CMLP-E65 | X9: 0.03 | Y9: Transporte H2SO4 | Z9: Pavimentado | AA9: Camión Combustible | AB9: 505.8 | AC9: 0.5058 | AD9: 2 | AE9: Si | AF9: =IF(AE9="Si",AC9*S9*2,AC9*S9) -> 221.13799 | AG9: {=_xlfn.IFS(D9="I",MIN('Datos pp I Región'!$K$7:$K$9),D9="II",MIN('Datos pp II Región'!$K$7:$K$9),D9="III",MIN('Datos pp III Región'!$K$7:$K$9),D9="IV",MIN('Datos pp IV Región'!$K$7:$K$9),D9="V",MIN('Datos pp V Región'!$K$7:$K$9),D9="RM",MIN('Datos pp RM'!$K$7:$K$9),D9="VI",MIN('Datos pp VI Región'!$K$7:$K$9))} -> 22 | AH9: {=_xlfn.IFS(Z9="Pavimentado",1-(AG9/(4*365)),Z9="No Pavimentado",1-(AG9/365))} -> 0.98493151 | AI9: {=_xlfn.IFS(Z9="Pavimentado",8,Z9="No Pavimentado",R9)} -> 8 | AJ9: 0.15 | AK9: 0.62 | AL9: 0.15 | AM9: 1.5 | AO9: {=_xlfn.IFS($Z9=$AT$3,AJ9*($X9)^(0.91)*(8*1.1023)^1.02,$Z9=$AT$4,AL9*281.9*(8.5/12)^0.9*(4/2.72)^0.45)} -> 0.056828892 | AP9: {=_xlfn.IFS($Z9=$AT$3,AK9*($X9)^(0.91)*(8*1.1023)^1.02,$Z9=$AT$4,AM9*281.9*(8.5/12)^0.9*(4/2.72)^0.45)} -> 0.23489275 | AQ9: {=_xlfn.IFS(Z9=$AT$3,(AF9*AO9*AH9)/1000000,Z9=$AT$4,(AF9*AH9*AO9*(1-AN9))/1000000)} -> 1.2377661e-05 | AR9: {=_xlfn.IFS(Z9=$AT$3,(AF9*AP9*AH9)/1000000,Z9=$AT$4,(AF9*AH9*AP9*(1-AN9))/1000000)} -> 5.1160999e-05
A10: 2 | B10: ESCENARIO B | C10: LOS PELAMBRES LICITACION | D10: V | E10: Catemu | F10: 2.Pavimentado-Chagres a Mina Los Pelambres | G10: MINERA SUR ANDES - FUNDICION CHAGRES - CHAGRES | H10: MLP - LOS PELAMBRES | I10: H2SO4 | J10: 80 | K10: Ton/semana | L10: El ritmo o frecuencia de viajes estará determinado por el programa de consumo que entregue la Minera. | M10: - | N10: PATRICIO TORRES REVISADA | O10: 4160 | P10: 8.335 | Q10: 19.03 | R10: 27.364 | S10: 218.60221 | T10: 288.495 | U10: 0 | V10: 288.495 | W10: 2P-CMLP-E60 | X10: 0.03 | Y10: Transporte H2SO4 | Z10: Pavimentado | AA10: Camión Combustible | AB10: 5470.8632 | AC10: 5.470863 | AD10: 2 | AE10: Si | AF10: =IF(AE10="Si",AC10*S10*2,AC10*S10) -> 2391.8855 | AG10: {=_xlfn.IFS(D10="I",MIN('Datos pp I Región'!$K$7:$K$9),D10="II",MIN('Datos pp II Región'!$K$7:$K$9),D10="III",MIN('Datos pp III Región'!$K$7:$K$9),D10="IV",MIN('Datos pp IV Región'!$K$7:$K$9),D10="V",MIN('Datos pp V Región'!$K$7:$K$9),D10="RM",MIN('Datos pp RM'!$K$7:$K$9),D10="VI",MIN('Datos pp VI Región'!$K$7:$K$9))} -> 22 | AH10: {=_xlfn.IFS(Z10="Pavimentado",1-(AG10/(4*365)),Z10="No Pavimentado",1-(AG10/365))} -> 0.98493151 | AI10: {=_xlfn.IFS(Z10="Pavimentado",8,Z10="No Pavimentado",R10)} -> 8 | AJ10: 0.15 | AK10: 0.62 | AL10: 0.15 | AM10: 1.5 | AO10: {=_xlfn.IFS($Z10=$AT$3,AJ10*($X10)^(0.91)*(8*1.1023)^1.02,$Z10=$AT$4,AL10*281.9*(8.5/12)^0.9*(4/2.72)^0.45)} -> 0.056828892 | AP10: {=_xlfn.IFS($Z10=$AT$3,AK10*($X10)^(0.91)*(8*1.1023)^1.02,$Z10=$AT$4,AM10*281.9*(8.5/12)^0.9*(4/2.72)^0.45)} -> 0.23489275 | AQ10: {=_xlfn.IFS(Z10=$AT$3,(AF10*AO10*AH10)/1000000,Z10=$AT$4,(AF10*AH10*AO10*(1-AN10))/1000000)} -> 0.00013387997 | AR10: {=_xlfn.IFS(Z10=$AT$3,(AF10*AP10*AH10)/1000000,Z10=$AT$4,(AF10*AH10*AP10*(1-AN10))/1000000)} -> 0.00055337053
A11: 2 | B11: ESCENARIO B | C11: LOS PELAMBRES LICITACION | D11: V | E11: Catemu | F11: 2.Pavimentado-Chagres a Mina Los Pelambres | G11: MINERA SUR ANDES - FUNDICION CHAGRES - CHAGRES | H11: MLP - LOS PELAMBRES | I11: H2SO4 | J11: 80 | K11: Ton/semana | L11: El ritmo o frecuencia de viajes estará determinado por el programa de consumo que entregue la Minera. | M11: - | N11: PATRICIO TORRES REVISADA | O11: 4160 | P11: 8.335 | Q11: 19.03 | R11: 27.364 | S11: 218.60221 | T11: 288.495 | U11: 0 | V11: 288.495 | W11: 2P-CMLP-R47 | X11: 0.2 | Y11: Transporte H2SO4 | Z11: Pavimentado | AA11: Camión Combustible | AB11: 36296.073 | AC11: 36.296073 | AD11: 2 | AE11: Si | AF11: =IF(AE11="Si",AC11*S11*2,AC11*S11) -> 15868.803 | AG11: {=_xlfn.IFS(D11="I",MIN('Datos pp I Región'!$K$7:$K$9),D11="II",MIN('Datos pp II Región'!$K$7:$K$9),D11="III",MIN('Datos pp III Región'!$K$7:$K$9),D11="IV",MIN('Datos pp IV Región'!$K$7:$K$9),D11="V",MIN('Datos pp V Región'!$K$7:$K$9),D11="RM",MIN('Datos pp RM'!$K$7:$K$9),D11="VI",MIN('Datos pp VI Región'!$K$7:$K$9))} -> 22 | AH11: {=_xlfn.IFS(Z11="Pavimentado",1-(AG11/(4*365)),Z11="No Pavimentado",1-(AG11/365))} -> 0.98493151 | AI11: {=_xlfn.IFS(Z11="Pavimentado",8,Z11="No Pavimentado",R11)} -> 8 | AJ11: 0.15 | AK11: 0.62 | AL11: 0.15 | AM11: 1.5 | AO11: {=_xlfn.IFS($Z11=$AT$3,AJ11*($X11)^(0.91)*(8*1.1023)^1.02,$Z11=$AT$4,AL11*281.9*(8.5/12)^0.9*(4/2.72)^0.45)} -> 0.31939355 | AP11: {=_xlfn.IFS($Z11=$AT$3,AK11*($X11)^(0.91)*(8*1.1023)^1.02,$Z11=$AT$4,AM11*281.9*(8.5/12)^0.9*(4/2.72)^0.45)} -> 1.32016 | AQ11: {=_xlfn.IFS(Z11=$AT$3,(AF11*AO11*AH11)/1000000,Z11=$AT$4,(AF11*AH11*AO11*(1-AN11))/1000000)} -> 0.0049920204 | AR11: {=_xlfn.IFS(Z11=$AT$3,(AF11*AP11*AH11)/1000000,Z11=$AT$4,(AF11*AH11*AP11*(1-AN11))/1000000)} -> 0.020633684
A12: 2 | B12: ESCENARIO B | C12: LOS PELAMBRES LICITACION | D12: V | E12: Catemu | F12: 2.Pavimentado-Chagres a Mina Los Pelambres | G12: MINERA SUR ANDES - FUNDICION CHAGRES - CHAGRES | H12: MLP - LOS PELAMBRES | I12: H2SO4 | J12: 80 | K12: Ton/semana | L12: El ritmo o frecuencia de viajes estará determinado por el programa de consumo que entregue la Minera. | M12: - | N12: PATRICIO TORRES REVISADA | O12: 4160 | P12: 8.335 | Q12: 19.03 | R12: 27.364 | S12: 218.60221 | T12: 288.495 | U12: 0 | V12: 288.495 | W12: 2P-CMLP-D81 | X12: 0.2 | Y12: Transporte H2SO4 | Z12: Pavimentado | AA12: Camión Combustible | AB12: 20065.425 | AC12: 20.065425 | AD12: 2 | AE12: Si | AF12: =IF(AE12="Si",AC12*S12*2,AC12*S12) -> 8772.6924 | AG12: {=_xlfn.IFS(D12="I",MIN('Datos pp I Región'!$K$7:$K$9),D12="II",MIN('Datos pp II Región'!$K$7:$K$9),D12="III",MIN('Datos pp III Región'!$K$7:$K$9),D12="IV",MIN('Datos pp IV Región'!$K$7:$K$9),D12="V",MIN('Datos pp V Región'!$K$7:$K$9),D12="RM",MIN('Datos pp RM'!$K$7:$K$9),D12="VI",MIN('Datos pp VI Región'!$K$7:$K$9))} -> 22 | AH12: {=_xlfn.IFS(Z12="Pavimentado",1-(AG12/(4*365)),Z12="No Pavimentado",1-(AG12/365))} -> 0.98493151 | AI12: {=_xlfn.IFS(Z12="Pavimentado",8,Z12="No Pavimentado",R12)} -> 8 | AJ12: 0.15 | AK12: 0.62 | AL12: 0.15 | AM12: 1.5 | AO12: {=_xlfn.IFS($Z12=$AT$3,AJ12*($X12)^(0.91)*(8*1.1023)^1.02,$Z12=$AT$4,AL12*281.9*(8.5/12)^0.9*(4/2.72)^0.45)} -> 0.31939355 | AP12: {=_xlfn.IFS($Z12=$AT$3,AK12*($X12)^(0.91)*(8*1.1023)^1.02,$Z12=$AT$4,AM12*281.9*(8.5/12)^0.9*(4/2.72)^0.45)} -> 1.32016 | AQ12: {=_xlfn.IFS(Z12=$AT$3,(AF12*AO12*AH12)/1000000,Z12=$AT$4,(AF12*AH12*AO12*(1-AN12))/1000000)} -> 0.0027597204 | AR12: {=_xlfn.IFS(Z12=$AT$3,(AF12*AP12*AH12)/1000000,Z12=$AT$4,(AF12*AH12*AP12*(1-AN12))/1000000)} -> 0.011406844
A13: 2 | B13: ESCENARIO B | C13: LOS PELAMBRES LICITACION | D13: V | E13: Catemu | F13: 2.Pavimentado-Chagres a Mina Los Pelambres | G13: MINERA SUR ANDES - FUNDICION CHAGRES - CHAGRES | H13: MLP - LOS PELAMBRES | I13: H2SO4 | J13: 80 | K13: Ton/semana | L13: El ritmo o frecuencia de viajes estará determinado por el programa de consumo que entregue la Minera. | M13: - | N13: PATRICIO TORRES REVISADA | O13: 4160 | P13: 8.335 | Q13: 19.03 | R13: 27.364 | S13: 218.60221 | T13: 288.495 | U13: 0 | V13: 288.495 | W13: 2P-CMLP-D37E | X13: 0.2 | Y13: Transporte H2SO4 | Z13: Pavimentado | AA13: Camión Combustible | AB13: 12478.546 | AC13: 12.478546 | AD13: 2 | AE13: Si | AF13: =IF(AE13="Si",AC13*S13*2,AC13*S13) -> 5455.6754 | AG13: {=_xlfn.IFS(D13="I",MIN('Datos pp I Región'!$K$7:$K$9),D13="II",MIN('Datos pp II Región'!$K$7:$K$9),D13="III",MIN('Datos pp III Región'!$K$7:$K$9),D13="IV",MIN('Datos pp IV Región'!$K$7:$K$9),D13="V",MIN('Datos pp V Región'!$K$7:$K$9),D13="RM",MIN('Datos pp RM'!$K$7:$K$9),D13="VI",MIN('Datos pp VI Región'!$K$7:$K$9))} -> 22 | AH13: {=_xlfn.IFS(Z13="Pavimentado",1-(AG13/(4*365)),Z13="No Pavimentado",1-(AG13/365))} -> 0.98493151 | AI13: {=_xlfn.IFS(Z13="Pavimentado",8,Z13="No Pavimentado",R13)} -> 8 | AJ13: 0.15 | AK13: 0.62 | AL13: 0.15 | AM13: 1.5 | AO13: {=_xlfn.IFS($Z13=$AT$3,AJ13*($X13)^(0.91)*(8*1.1023)^1.02,$Z13=$AT$4,AL13*281.9*(8.5/12)^0.9*(4/2.72)^0.45)} -> 0.31939355 | AP13: {=_xlfn.IFS($Z13=$AT$3,AK13*($X13)^(0.91)*(8*1.1023)^1.02,$Z13=$AT$4,AM13*281.9*(8.5/12)^0.9*(4/2.72)^0.45)} -> 1.32016 | AQ13: {=_xlfn.IFS(Z13=$AT$3,(AF13*AO13*AH13)/1000000,Z13=$AT$4,(AF13*AH13*AO13*(1-AN13))/1000000)} -> 0.0017162506 | AR13: {=_xlfn.IFS(Z13=$AT$3,(AF13*AP13*AH13)/1000000,Z13=$AT$4,(AF13*AH13*AP13*(1-AN13))/1000000)} -> 0.0070938357
A14: 2 | B14: ESCENARIO B | C14: LOS PELAMBRES LICITACION | D14: V | E14: Catemu | F14: 2.Pavimentado-Chagres a Mina Los Pelambres | G14: MINERA SUR ANDES - FUNDICION CHAGRES - CHAGRES | H14: MLP - LOS PELAMBRES | I14: H2SO4 | J14: 80 | K14: Ton/semana | L14: El ritmo o frecuencia de viajes estará determinado por el programa de consumo que entregue la Minera. | M14: - | N14: PATRICIO TORRES REVISADA | O14: 4160 | P14: 8.335 | Q14: 19.03 | R14: 27.364 | S14: 218.60221 | T14: 288.495 | U14: 0 | V14: 288.495 | W14: 2P-CMLP-D867 | X14: 0.2 | Y14: Transporte H2SO4 | Z14: Pavimentado | AA14: Camión Combustible | AB14: 6244.8906 | AC14: 6.244891 | AD14: 2 | AE14: Si | AF14: =IF(AE14="Si",AC14*S14*2,AC14*S14) -> 2730.2939 | AG14: {=_xlfn.IFS(D14="I",MIN('Datos pp I Región'!$K$7:$K$9),D14="II",MIN('Datos pp II Región'!$K$7:$K$9),D14="III",MIN('Datos pp III Región'!$K$7:$K$9),D14="IV",MIN('Datos pp IV Región'!$K$7:$K$9),D14="V",MIN('Datos pp V Región'!$K$7:$K$9),D14="RM",MIN('Datos pp RM'!$K$7:$K$9),D14="VI",MIN('Datos pp VI Región'!$K$7:$K$9))} -> 22 | AH14: {=_xlfn.IFS(Z14="Pavimentado",1-(AG14/(4*365)),Z14="No Pavimentado",1-(AG14/365))} -> 0.98493151 | AI14: {=_xlfn.IFS(Z14="Pavimentado",8,Z14="No Pavimentado",R14)} -> 8 | AJ14: 0.15 | AK14: 0.62 | AL14: 0.15 | AM14: 1.5 | AO14: {=_xlfn.IFS($Z14=$AT$3,AJ14*($X14)^(0.91)*(8*1.1023)^1.02,$Z14=$AT$4,AL14*281.9*(8.5/12)^0.9*(4/2.72)^0.45)} -> 0.31939355 | AP14: {=_xlfn.IFS($Z14=$AT$3,AK14*($X14)^(0.91)*(8*1.1023)^1.02,$Z14=$AT$4,AM14*281.9*(8.5/12)^0.9*(4/2.72)^0.45)} -> 1.32016 | AQ14: {=_xlfn.IFS(Z14=$AT$3,(AF14*AO14*AH14)/1000000,Z14=$AT$4,(AF14*AH14*AO14*(1-AN14))/1000000)} -> 0.00085889797 | AR14: {=_xlfn.IFS(Z14=$AT$3,(AF14*AP14*AH14)/1000000,Z14=$AT$4,(AF14*AH14*AP14*(1-AN14))/1000000)} -> 0.0035501116
A15: 2 | B15: ESCENARIO B | C15: LOS PELAMBRES LICITACION | D15: V | E15: Catemu | F15: 2.Pavimentado-Chagres a Mina Los Pelambres | G15: MINERA SUR ANDES - FUNDICION CHAGRES - CHAGRES | H15: MLP - LOS PELAMBRES | I15: H2SO4 | J15: 80 | K15: Ton/semana | L15: El ritmo o frecuencia de viajes estará determinado por el programa de consumo que entregue la Minera. | M15: - | N15: PATRICIO TORRES REVISADA | O15: 4160 | P15: 8.335 | Q15: 19.03 | R15: 27.364 | S15: 218.60221 | T15: 288.495 | U15: 0 | V15: 288.495 | W15: 2P-CMLP-D835 | X15: 0.2 | Y15: Transporte H2SO4 | Z15: Pavimentado | AA15: Camión Combustible | AB15: 60499.613 | AC15: 60.499613 | AD15: 2 | AE15: Si | AF15: =IF(AE15="Si",AC15*S15*2,AC15*S15) -> 26450.698 | AG15: {=_xlfn.IFS(D15="I",MIN('Datos pp I Región'!$K$7:$K$9),D15="II",MIN('Datos pp II Región'!$K$7:$K$9),D15="III",MIN('Datos pp III Región'!$K$7:$K$9),D15="IV",MIN('Datos pp IV Región'!$K$7:$K$9),D15="V",MIN('Datos pp V Región'!$K$7:$K$9),D15="RM",MIN('Datos pp RM'!$K$7:$K$9),D15="VI",MIN('Datos pp VI Región'!$K$7:$K$9))} -> 22 | AH15: {=_xlfn.IFS(Z15="Pavimentado",1-(AG15/(4*365)),Z15="No Pavimentado",1-(AG15/365))} -> 0.98493151 | AI15: {=_xlfn.IFS(Z15="Pavimentado",8,Z15="No Pavimentado",R15)} -> 8 | AJ15: 0.15 | AK15: 0.62 | AL15: 0.15 | AM15: 1.5 | AO15: {=_xlfn.IFS($Z15=$AT$3,AJ15*($X15)^(0.91)*(8*1.1023)^1.02,$Z15=$AT$4,AL15*281.9*(8.5/12)^0.9*(4/2.72)^0.45)} -> 0.31939355 | AP15: {=_xlfn.IFS($Z15=$AT$3,AK15*($X15)^(0.91)*(8*1.1023)^1.02,$Z15=$AT$4,AM15*281.9*(8.5/12)^0.9*(4/2.72)^0.45)} -> 1.32016 | AQ15: {=_xlfn.IFS(Z15=$AT$3,(AF15*AO15*AH15)/1000000,Z15=$AT$4,(AF15*AH15*AO15*(1-AN15))/1000000)} -> 0.008320881 | AR15: {=_xlfn.IFS(Z15=$AT$3,(AF15*AP15*AH15)/1000000,Z15=$AT$4,(AF15*AH15*AP15*(1-AN15))/1000000)} -> 0.034392975
A16: 2 | B16: ESCENARIO B | C16: LOS PELAMBRES LICITACION | D16: V | E16: Catemu | F16: 2.Pavimentado-Chagres a Mina Los Pelambres | G16: MINERA SUR ANDES - FUNDICION CHAGRES - CHAGRES | H16: MLP - LOS PELAMBRES | I16: H2SO4 | J16: 80 | K16: Ton/semana | L16: El ritmo o frecuencia de viajes estará determinado por el programa de consumo que entregue la Minera. | M16: - | N16: PATRICIO TORRES REVISADA | O16: 4160 | P16: 8.335 | Q16: 19.03 | R16: 27.364 | S16: 218.60221 | T16: 288.495 | U16: 0 | V16: 288.495 | W16: 2P-CMLP-RI | X16: 0.2 | Y16: Transporte H2SO4 | Z16: Pavimentado | AA16: Camión Combustible | AB16: 7189.2399 | AC16: 7.18924 | AD16: 2 | AE16: Si | AF16: =IF(AE16="Si",AC16*S16*2,AC16*S16) -> 3143.1675 | AG16: {=_xlfn.IFS(D16="I",MIN('Datos pp I Región'!$K$7:$K$9),D16="II",MIN('Datos pp II Región'!$K$7:$K$9),D16="III",MIN('Datos pp III Región'!$K$7:$K$9),D16="IV",MIN('Datos pp IV Región'!$K$7:$K$9),D16="V",MIN('Datos pp V Región'!$K$7:$K$9),D16="RM",MIN('Datos pp RM'!$K$7:$K$9),D16="VI",MIN('Datos pp VI Región'!$K$7:$K$9))} -> 22 | AH16: {=_xlfn.IFS(Z16="Pavimentado",1-(AG16/(4*365)),Z16="No Pavimentado",1-(AG16/365))} -> 0.98493151 | AI16: {=_xlfn.IFS(Z16="Pavimentado",8,Z16="No Pavimentado",R16)} -> 8 | AJ16: 0.15 | AK16: 0.62 | AL16: 0.15 | AM16: 1.5 | AO16: {=_xlfn.IFS($Z16=$AT$3,AJ16*($X16)^(0.91)*(8*1.1023)^1.02,$Z16=$AT$4,AL16*281.9*(8.5/12)^0.9*(4/2.72)^0.45)} -> 0.31939355 | AP16: {=_xlfn.IFS($Z16=$AT$3,AK16*($X16)^(0.91)*(8*1.1023)^1.02,$Z16=$AT$4,AM16*281.9*(8.5/12)^0.9*(4/2.72)^0.45)} -> 1.32016 | AQ16: {=_xlfn.IFS(Z16=$AT$3,(AF16*AO16*AH16)/1000000,Z16=$AT$4,(AF16*AH16*AO16*(1-AN16))/1000000)} -> 0.00098878005 | AR16: {=_xlfn.IFS(Z16=$AT$3,(AF16*AP16*AH16)/1000000,Z16=$AT$4,(AF16*AH16*AP16*(1-AN16))/1000000)} -> 0.0040869575
A17: 2 | B17: ESCENARIO B | C17: LOS PELAMBRES LICITACION | D17: V | E17: Catemu | F17: 2.Pavimentado-Chagres a Mina Los Pelambres | G17: MINERA SUR ANDES - FUNDICION CHAGRES - CHAGRES | H17: MLP - LOS PELAMBRES | I17: H2SO4 | J17: 80 | K17: Ton/semana | L17: El ritmo o frecuencia de viajes estará determinado por el programa de consumo que entregue la Minera. | M17: - | N17: PATRICIO TORRES REVISADA | O17: 4160 | P17: 8.335 | Q17: 19.03 | R17: 27.364 | S17: 218.60221 | T17: 288.495 | U17: 0 | V17: 288.495 | W17: 2NP-CMLP-RI | X17: 0.2 | Y17: Transporte H2SO4 | Z17: Pavimentado | AA17: Camión Combustible | AB17: 2333.9214 | AC17: 2.333921 | AD17: 2 | AE17: Si | AF17: =IF(AE17="Si",AC17*S17*2,AC17*S17) -> 1020.4006 | AG17: {=_xlfn.IFS(D17="I",MIN('Datos pp I Región'!$K$7:$K$9),D17="II",MIN('Datos pp II Región'!$K$7:$K$9),D17="III",MIN('Datos pp III Región'!$K$7:$K$9),D17="IV",MIN('Datos pp IV Región'!$K$7:$K$9),D17="V",MIN('Datos pp V Región'!$K$7:$K$9),D17="RM",MIN('Datos pp RM'!$K$7:$K$9),D17="VI",MIN('Datos pp VI Región'!$K$7:$K$9))} -> 22 | AH17: {=_xlfn.IFS(Z17="Pavimentado",1-(AG17/(4*365)),Z17="No Pavimentado",1-(AG17/365))} -> 0.98493151 | AI17: {=_xlfn.IFS(Z17="Pavimentado",8,Z17="No Pavimentado",R17)} -> 8 | AJ17: 0.15 | AK17: 0.62 | AL17: 0.15 | AM17: 1.5 | AO17: {=_xlfn.IFS($Z17=$AT$3,AJ17*($X17)^(0.91)*(8*1.1023)^1.02,$Z17=$AT$4,AL17*281.9*(8.5/12)^0.9*(4/2.72)^0.45)} -> 0.31939355 | AP17: {=_xlfn.IFS($Z17=$AT$3,AK17*($X17)^(0.91)*(8*1.1023)^1.02,$Z17=$AT$4,AM17*281.9*(8.5/12)^0.9*(4/2.72)^0.45)} -> 1.32016 | AQ17: {=_xlfn.IFS(Z17=$AT$3,(AF17*AO17*AH17)/1000000,Z17=$AT$4,(AF17*AH17*AO17*(1-AN17))/1000000)} -> 0.0003209984 | AR17: {=_xlfn.IFS(Z17=$AT$3,(AF17*AP17*AH17)/1000000,Z17=$AT$4,(AF17*AH17*AP17*(1-AN17))/1000000)} -> 0.0013267934
